From mboxrd@z Thu Jan 1 00:00:00 1970 Return-Path: Received: from mails.dpdk.org (mails.dpdk.org [217.70.189.124]) by inbox.dpdk.org (Postfix) with ESMTP id 246EC461A0 for ; Wed, 5 Feb 2025 18:31:25 +0100 (CET) Received: from mails.dpdk.org (localhost [127.0.0.1]) by mails.dpdk.org (Postfix) with ESMTP id 20E43402E4; Wed, 5 Feb 2025 18:31:25 +0100 (CET) Received: from mail-pl1-f225.google.com (mail-pl1-f225.google.com [209.85.214.225]) by mails.dpdk.org (Postfix) with ESMTP id 3E7A7402DC for ; Wed, 5 Feb 2025 18:31:24 +0100 (CET) Received: by mail-pl1-f225.google.com with SMTP id d9443c01a7336-21f2cfd821eso1303885ad.3 for ; Wed, 05 Feb 2025 09:31:24 -0800 (PST) DKIM-Signature: v=1; a=rsa-sha256; c=relaxed/relaxed; d=iol.unh.edu; s=unh-iol; t=1738776683; x=1739381483; darn=dpdk.org; h=references:in-reply-to:cc:to:from:subject:message-id:date:from:to :cc:subject:date:message-id:reply-to; bh=bOKUwDhDgvtKg1SSusZJB5L2/r9O+oJeVauR7Oq/1Hs=; b=Fu6MzeOSh2ow59ifi+YmjitmwwEDPyLVb9uj70BF5PhBPDGP8R/DJt6PJZxCco9nye o5iNNVoG78ypERIWSOvqZFRDnwbEceuzLUCV0OKgVVzOJkZhZmUNG96SJUW7DT6EdJyu Rq8NGbMv9ORS6M+Xol3O922pSjeN/4GSnyw2c= X-Google-DKIM-Signature: v=1; a=rsa-sha256; c=relaxed/relaxed; d=1e100.net; s=20230601; t=1738776683; x=1739381483; h=references:in-reply-to:cc:to:from:subject:message-id:date :x-gm-message-state:from:to:cc:subject:date:message-id:reply-to; bh=bOKUwDhDgvtKg1SSusZJB5L2/r9O+oJeVauR7Oq/1Hs=; b=WsJS2y6H0gmDT7gzZlL6C5ZDOtI4E1PPS16LAVYWGSsjrH/FmXprNfkqbcdPzNvYL7 wBxGXlVA7tfEm9qnQrGlYPhPR/GvIxgclAk2ieDpovUsSIaHyE3C0Bvx6wOkag6BbktD 5ZGmlfJVKm86MhRC1gxysXpmSASNhlrO0LETsUoG+9khx6XSE4OXZanfN8+3Q6Z3Bwx5 m+3uXA4P64D/Dh/1nS0op4PL5g+6aVBt+8Xrq6O9yPJOAHGaTK87v1rFECEkaFuwsW4i qX8mgfDnZiIPpOyG19kgCBR2e6tXK3FSBwRaChyCnjPYvpiZ9dOI4Z0MmgumwKtgl2XN cbLA== X-Gm-Message-State: AOJu0YwbwQ/o17fE1L1bH6HliNW1nGl+SmQMv0+P7eMUChRfRw7tOEoZ ntz9rUoJnlWKefZI1odekMon62s493E3ChxbxEllwZwufXfV5ouPo+BZbP5qyMcYLfClfPKnrNk ThToUX0osIjSjgnqEvvCEfKWzVKhqfof/EG3Z9BQm X-Gm-Gg: ASbGncthTz197lfQfk9Yt3OnYfPV2FVLAdwVZ5GBepW0tGmAgpkFhgL3YuO81oKa8pb txOmNEjiFc8jIwvn+nQLFymVTwlQNx2fZkWPhYZsf//G7LJycV/Mp5Xh4RPzfFevJtwx/ESAl1Q U6VO9CnRq6MKAOmOdBmmS7HLPsQaRSim4jgB/Ftyca4TAvMVkt55Fo2H76jqtKyhbkaZIlFVc/Z JfniUdgF1Ya6WFt07tYiHDQASvjksFXJreW/YHxJY1AALw4H0y6O7Jrn3NAy5A0N6+pNrQYGjsX KG0V0eheCb+kCHS1K7crc6Sfm8X9Og== X-Google-Smtp-Source: AGHT+IFRfr/cYHA+npf5Lu2eAl1hz+Z5lNep5lcMVhM7lEhLoyLimXvTxi0HHluWljVwhsWEYA9IxjLhKnwi X-Received: by 2002:a17:902:ced1:b0:215:65f3:27f2 with SMTP id d9443c01a7336-21f17e2719dmr60802075ad.8.1738776683440; Wed, 05 Feb 2025 09:31:23 -0800 (PST) Received: from postal.iol.unh.edu (postal.iol.unh.edu. [132.177.123.84]) by smtp-relay.gmail.com with ESMTPS id d9443c01a7336-21f04d3c0b6sm2129595ad.84.2025.02.05.09.31.23 (version=TLS1_2 cipher=ECDHE-ECDSA-AES128-GCM-SHA256 bits=128/128); Wed, 05 Feb 2025 09:31:23 -0800 (PST) X-Relaying-Domain: iol.unh.edu Date: Wed, 05 Feb 2025 09:31:23 -0800 (PST) Message-ID: <67a3a06b.170a0220.3478db.9ebeSMTPIN_ADDED_MISSING@mx.google.com> Received: from [172.21.0.9] (unknown [172.18.0.240]) by postal.iol.unh.edu (Postfix) with ESMTP id DBEF96052471; Wed, 5 Feb 2025 12:31:22 -0500 (EST) Subject: |SUCCESS| pw150084 [PATCH] [v3] drivers/net: use 64-bit shift and av From: dpdklab@iol.unh.edu To: Test Report Cc: dpdk-test-reports@iol.unh.edu In-Reply-To: <1736888702-3253-1-git-send-email-andremue@linux.microsoft.com> References: <1736888702-3253-1-git-send-email-andremue@linux.microsoft.com> Content-Type: text/plain X-BeenThere: test-report@dpdk.org X-Mailman-Version: 2.1.29 Precedence: list List-Id: automatic DPDK test reports List-Unsubscribe: , List-Archive: List-Post: List-Help: List-Subscribe: , Errors-To: test-report-bounces@dpdk.org Test-Label: iol-compile-amd64-testing Test-Status: SUCCESS http://dpdk.org/patch/150084 _Testing PASS_ Submitter: Andre Muezerie Date: Tuesday, January 14 2025 21:05:02 DPDK git baseline: Repo:dpdk Branch: master CommitID:6a56a98a8a198d386e764be9bea343d69b09c0bf 150084 --> testing pass Test environment and result as below: +---------------------+--------------------+------------------+-------------------+-------------------------+-------------------+----------------------+ | Environment | dpdk_meson_compile | dpdk_compile_ovs | dpdk_compile_spdk | dpdk_llvm_clang_compile | dpdk_msvc_compile | dpdk_mingw64_compile | +=====================+====================+==================+===================+=========================+===================+======================+ | CentOS Stream 9 | PASS | PASS | PASS | SKIPPED | SKIPPED | SKIPPED | +---------------------+--------------------+------------------+-------------------+-------------------------+-------------------+----------------------+ | Debian Bullseye | PASS | PASS | PASS | SKIPPED | SKIPPED | SKIPPED | +---------------------+--------------------+------------------+-------------------+-------------------------+-------------------+----------------------+ | Fedora 40 (Clang) | PASS | PASS | PASS | SKIPPED | SKIPPED | SKIPPED | +---------------------+--------------------+------------------+-------------------+-------------------------+-------------------+----------------------+ | Debian 12 | PASS | PASS | PASS | SKIPPED | SKIPPED | SKIPPED | +---------------------+--------------------+------------------+-------------------+-------------------------+-------------------+----------------------+ | Fedora 41 (Clang) | PASS | PASS | PASS | SKIPPED | SKIPPED | SKIPPED | +---------------------+--------------------+------------------+-------------------+-------------------------+-------------------+----------------------+ | openSUSE Leap 15 | PASS | SKIPPED | SKIPPED | SKIPPED | SKIPPED | SKIPPED | +---------------------+--------------------+------------------+-------------------+-------------------------+-------------------+----------------------+ | Fedora 40 | PASS | PASS | PASS | SKIPPED | SKIPPED | SKIPPED | +---------------------+--------------------+------------------+-------------------+-------------------------+-------------------+----------------------+ | Fedora 41 | PASS | PASS | PASS | SKIPPED | SKIPPED | SKIPPED | +---------------------+--------------------+------------------+-------------------+-------------------------+-------------------+----------------------+ | Ubuntu 22.04 | PASS | PASS | PASS | SKIPPED | SKIPPED | SKIPPED | +---------------------+--------------------+------------------+-------------------+-------------------------+-------------------+----------------------+ | RHEL9 | PASS | PASS | SKIPPED | SKIPPED | SKIPPED | SKIPPED | +---------------------+--------------------+------------------+-------------------+-------------------------+-------------------+----------------------+ | Ubuntu 24.04 | PASS | PASS | PASS | SKIPPED | SKIPPED | SKIPPED | +---------------------+--------------------+------------------+-------------------+-------------------------+-------------------+----------------------+ | Ubuntu 20.04 | PASS | SKIPPED | SKIPPED | SKIPPED | SKIPPED | SKIPPED | +---------------------+--------------------+------------------+-------------------+-------------------------+-------------------+----------------------+ | RHEL8 | PASS | PASS | SKIPPED | SKIPPED | SKIPPED | SKIPPED | +---------------------+--------------------+------------------+-------------------+-------------------------+-------------------+----------------------+ | Alpine | PASS | PASS | SKIPPED | SKIPPED | SKIPPED | SKIPPED | +---------------------+--------------------+------------------+-------------------+-------------------------+-------------------+----------------------+ | FreeBSD 13.4 | PASS | SKIPPED | SKIPPED | SKIPPED | SKIPPED | SKIPPED | +---------------------+--------------------+------------------+-------------------+-------------------------+-------------------+----------------------+ | FreeBSD 14.2 | PASS | SKIPPED | SKIPPED | SKIPPED | SKIPPED | SKIPPED | +---------------------+--------------------+------------------+-------------------+-------------------------+-------------------+----------------------+ | Windows Server 2022 | SKIPPED | SKIPPED | SKIPPED | PASS | PASS | PASS | +---------------------+--------------------+------------------+-------------------+-------------------------+-------------------+----------------------+ CentOS Stream 9 Kernel: Depends on container host Compiler: gcc 11.5.0 20240719 (Red Hat 11.5.0-2) Debian Bullseye Kernel: Depends on container host Compiler: gcc (Debian 10.2.1-6) 10.2.1 20210110 Fedora 40 (Clang) Kernel: Depends on container host Compiler: clang 18.1.8 (Fedora 18.1.8-1.fc40) Debian 12 Kernel: Depends on container host Compiler: gcc (Debian 12.2.0-14) 12.2.0 Fedora 41 (Clang) Kernel: Depends on container host Compiler: clang 19.1.5 (Fedora 19.1.5-1.fc41) openSUSE Leap 15 Kernel: Depends on container host Compiler: gcc (SUSE Linux) 7.5.0 Fedora 40 Kernel: Depends on container host Compiler: gcc 14.2.1 20240912 (Red Hat 14.2.1-3) Fedora 41 Kernel: Depends on container host Compiler: gcc 14.2.1 20240912 (Red Hat 14.2.1-3) Ubuntu 22.04 Kernel: Depends on container host Compiler: gcc (Ubuntu 11.4.0-1ubuntu1~22.04) 11.4.0 RHEL9 Kernel: Depends on container host Compiler: gcc 11.5.0 20240719 (Red Hat 11.5.0-2) Ubuntu 24.04 Kernel: Depends on container host Compiler: gcc (Ubuntu 13.3.0-6ubuntu2~24.04) 13.3.0 Ubuntu 20.04 Kernel: Depends on container host Compiler: gcc (Ubuntu 9.4.0-1ubuntu1~20.04.2) 9.4.0 RHEL8 Kernel: Depends on container host Compiler: gcc 8.5.0 20210514 (Red Hat 8.5.0-22) Alpine Kernel: Depends on container host Compiler: gcc (Alpine 14.2.0) 14.2.0 FreeBSD 13.4 Kernel: 13.4-RELEASE-p1 Compiler: clang 18.1.6 FreeBSD 14.2 Kernel: 14.2-RELEASE Compiler: clang 18.1.6 Windows Server 2022 Kernel: 10.0.20348.2031 Compiler: clang 15.0.7, gcc 14.1.0 (MinGW), and MSVC VS 19.39.33521 To view detailed results, visit: https://lab.dpdk.org/results/dashboard/patchsets/32322/ UNH-IOL DPDK Community Lab To manage your email subscriptions, visit: https://lab.dpdk.org/results/dashboard/preferences/subscriptions/