From mboxrd@z Thu Jan 1 00:00:00 1970 Return-Path: Received: from mails.dpdk.org (mails.dpdk.org [217.70.189.124]) by inbox.dpdk.org (Postfix) with ESMTP id 4653D461A0 for ; Wed, 5 Feb 2025 18:32:04 +0100 (CET) Received: from mails.dpdk.org (localhost [127.0.0.1]) by mails.dpdk.org (Postfix) with ESMTP id 42E78402E4; Wed, 5 Feb 2025 18:32:04 +0100 (CET) Received: from mail-io1-f99.google.com (mail-io1-f99.google.com [209.85.166.99]) by mails.dpdk.org (Postfix) with ESMTP id 1734E402DC for ; Wed, 5 Feb 2025 18:32:03 +0100 (CET) Received: by mail-io1-f99.google.com with SMTP id ca18e2360f4ac-844e06e5d11so2601239f.0 for ; Wed, 05 Feb 2025 09:32:03 -0800 (PST) DKIM-Signature: v=1; a=rsa-sha256; c=relaxed/relaxed; d=iol.unh.edu; s=unh-iol; t=1738776722; x=1739381522; darn=dpdk.org; h=references:in-reply-to:cc:to:from:subject:message-id:date:from:to :cc:subject:date:message-id:reply-to; bh=hvfiS/Ga06fM7qXP2QTMs68KYZcP97M/mAepuexnnHo=; b=TkzZYafcg/1j8ILVS6adKxKG/v2IehJiPOHTREXEv0SV4d0yJc0PdcHYpnKKV9dBis W4kxB7zipAdTXx96clZr6a5v1EsZONEEqpoH3JpT3S3W8pRNobpSeTq8LWQqBJmJwuQW xqZjLBAqwJwxZogBmyRu8bvESAU2/D/+muNgQ= X-Google-DKIM-Signature: v=1; a=rsa-sha256; c=relaxed/relaxed; d=1e100.net; s=20230601; t=1738776722; x=1739381522; h=references:in-reply-to:cc:to:from:subject:message-id:date :x-gm-message-state:from:to:cc:subject:date:message-id:reply-to; bh=hvfiS/Ga06fM7qXP2QTMs68KYZcP97M/mAepuexnnHo=; b=E+PAY48575PfLfw4FRpa2OZRVrsviOzVP8wlqcltXuobz7KWQww3Xoeq8+7n2ME2+7 dgjaNFm02ydM3bfJ1+EeH61fEW23SS9n5KNf5IyVNTArWOQC+3pEfzZ5bq5bqiiVaMy2 jsePtLVuFSaEcaGCHvMYYkIZdKUBY+ObfMabQMo7EsoItEaN3lL2m/SwEOIQFYp8abva 4Xw1n1IyfmXXigPwNozuUXbW344h2S3DaApLxYsI3ItQ2HJjm806qXcJL3ZoIZpnLk4r 5fiIbcVpNrcJYw0VuuHtdRqUnSHRgPHgC/XVsODmyV2GuycfYeYcbE54KTJ8zt1JR6JT Wskw== X-Gm-Message-State: AOJu0YyfB+nGpb1BDiA8s0e2fURh6mpW1YHq5FRL5EwKoZ8WL4y0vybv eTkzDflzg1tN84C4Pir9Q9QpEWH9a2E/gHSV2sKSghdQhJre6nwrRqErVow3f9eiGkuc+qchOeN A5LqkdNzaMQGpJOM0Ixz5lo4Hs//VJe0DqoSobGt/ X-Gm-Gg: ASbGncuxwK6kgFwpKGov3txDM5iIEpOA6p/98kZgeS/Hoq6gg88HN3+70A8v4By04FT MmRHxEvUeRzOGd8bKyhdkHtQ1y7FJppQb8FnDukCF0yMN0Ej9cuf5vCx/sv+xvMn0akDpNoS4QQ wWzTCjA0pEn8WNmFBLtK+GWK3+V1tXAzj+ueO5uRUjIl9G/VxUcoDm/BJ+Uf8yJDdPG8OC8EXEc lIg/52x2K2T5VvAy9bzX0CKiKmnCjeBwxcnYvvofwATbibcXG4AXAzsPXgEbnuXvY6GqR6XPNtS Tc/eS7OykJNzIYbtXqD7ZX8zbaqSQg== X-Google-Smtp-Source: AGHT+IEPenKKtvQOc3UibXV02xXhOeGlFmpFL0sIK3LC55yfn2Y2l6xRkpVNQXhGMRJCn5dDP76QnY9vbnhS X-Received: by 2002:a05:6602:7285:b0:847:4fc0:c775 with SMTP id ca18e2360f4ac-854ea461252mr405202439f.8.1738776722418; Wed, 05 Feb 2025 09:32:02 -0800 (PST) Received: from postal.iol.unh.edu (postal.iol.unh.edu. [132.177.123.84]) by smtp-relay.gmail.com with ESMTPS id ca18e2360f4ac-854a15d0983sm78959639f.7.2025.02.05.09.32.02 (version=TLS1_2 cipher=ECDHE-ECDSA-AES128-GCM-SHA256 bits=128/128); Wed, 05 Feb 2025 09:32:02 -0800 (PST) X-Relaying-Domain: iol.unh.edu Date: Wed, 05 Feb 2025 09:32:02 -0800 (PST) Message-ID: <67a3a092.050a0220.1d7425.320dSMTPIN_ADDED_MISSING@mx.google.com> Received: from [172.21.0.11] (unknown [172.18.0.240]) by postal.iol.unh.edu (Postfix) with ESMTP id E82386052471; Wed, 5 Feb 2025 12:32:01 -0500 (EST) Subject: |SUCCESS| pw149939 [PATCH] [v15] dts: port over queue start/stop sui From: dpdklab@iol.unh.edu To: Test Report Cc: dpdk-test-reports@iol.unh.edu In-Reply-To: <20250113200709.4615-1-dmarx@iol.unh.edu> References: <20250113200709.4615-1-dmarx@iol.unh.edu> Content-Type: text/plain X-BeenThere: test-report@dpdk.org X-Mailman-Version: 2.1.29 Precedence: list List-Id: automatic DPDK test reports List-Unsubscribe: , List-Archive: List-Post: List-Help: List-Subscribe: , Errors-To: test-report-bounces@dpdk.org Test-Label: iol-compile-amd64-testing Test-Status: SUCCESS http://dpdk.org/patch/149939 _Testing PASS_ Submitter: Dean Marx Date: Monday, January 13 2025 20:07:09 DPDK git baseline: Repo:dpdk Branch: master CommitID:fd51012de5369679e807be1d6a81d63ef15015ce 149939 --> testing pass Test environment and result as below: +---------------------+--------------------+------------------+-------------------+-------------------------+----------------------+-------------------+ | Environment | dpdk_meson_compile | dpdk_compile_ovs | dpdk_compile_spdk | dpdk_llvm_clang_compile | dpdk_mingw64_compile | dpdk_msvc_compile | +=====================+====================+==================+===================+=========================+======================+===================+ | CentOS Stream 9 | PASS | PASS | PASS | SKIPPED | SKIPPED | SKIPPED | +---------------------+--------------------+------------------+-------------------+-------------------------+----------------------+-------------------+ | Debian 12 | PASS | PASS | PASS | SKIPPED | SKIPPED | SKIPPED | +---------------------+--------------------+------------------+-------------------+-------------------------+----------------------+-------------------+ | RHEL8 | PASS | PASS | SKIPPED | SKIPPED | SKIPPED | SKIPPED | +---------------------+--------------------+------------------+-------------------+-------------------------+----------------------+-------------------+ | Fedora 40 (Clang) | PASS | PASS | PASS | SKIPPED | SKIPPED | SKIPPED | +---------------------+--------------------+------------------+-------------------+-------------------------+----------------------+-------------------+ | Fedora 41 (Clang) | PASS | PASS | PASS | SKIPPED | SKIPPED | SKIPPED | +---------------------+--------------------+------------------+-------------------+-------------------------+----------------------+-------------------+ | Fedora 41 | PASS | PASS | PASS | SKIPPED | SKIPPED | SKIPPED | +---------------------+--------------------+------------------+-------------------+-------------------------+----------------------+-------------------+ | Fedora 40 | PASS | PASS | PASS | SKIPPED | SKIPPED | SKIPPED | +---------------------+--------------------+------------------+-------------------+-------------------------+----------------------+-------------------+ | openSUSE Leap 15 | PASS | SKIPPED | SKIPPED | SKIPPED | SKIPPED | SKIPPED | +---------------------+--------------------+------------------+-------------------+-------------------------+----------------------+-------------------+ | RHEL9 | PASS | PASS | SKIPPED | SKIPPED | SKIPPED | SKIPPED | +---------------------+--------------------+------------------+-------------------+-------------------------+----------------------+-------------------+ | Ubuntu 24.04 | PASS | PASS | PASS | SKIPPED | SKIPPED | SKIPPED | +---------------------+--------------------+------------------+-------------------+-------------------------+----------------------+-------------------+ | Alpine | PASS | PASS | SKIPPED | SKIPPED | SKIPPED | SKIPPED | +---------------------+--------------------+------------------+-------------------+-------------------------+----------------------+-------------------+ | Ubuntu 22.04 | PASS | PASS | PASS | SKIPPED | SKIPPED | SKIPPED | +---------------------+--------------------+------------------+-------------------+-------------------------+----------------------+-------------------+ | Ubuntu 20.04 | PASS | SKIPPED | SKIPPED | SKIPPED | SKIPPED | SKIPPED | +---------------------+--------------------+------------------+-------------------+-------------------------+----------------------+-------------------+ | FreeBSD 14.2 | PASS | SKIPPED | SKIPPED | SKIPPED | SKIPPED | SKIPPED | +---------------------+--------------------+------------------+-------------------+-------------------------+----------------------+-------------------+ | Debian Bullseye | PASS | PASS | PASS | SKIPPED | SKIPPED | SKIPPED | +---------------------+--------------------+------------------+-------------------+-------------------------+----------------------+-------------------+ | FreeBSD 13.4 | PASS | SKIPPED | SKIPPED | SKIPPED | SKIPPED | SKIPPED | +---------------------+--------------------+------------------+-------------------+-------------------------+----------------------+-------------------+ | Windows Server 2022 | SKIPPED | SKIPPED | SKIPPED | PASS | PASS | PASS | +---------------------+--------------------+------------------+-------------------+-------------------------+----------------------+-------------------+ CentOS Stream 9 Kernel: Depends on container host Compiler: gcc 11.5.0 20240719 (Red Hat 11.5.0-2) Debian 12 Kernel: Depends on container host Compiler: gcc (Debian 12.2.0-14) 12.2.0 RHEL8 Kernel: Depends on container host Compiler: gcc 8.5.0 20210514 (Red Hat 8.5.0-22) Fedora 40 (Clang) Kernel: Depends on container host Compiler: clang 18.1.8 (Fedora 18.1.8-1.fc40) Fedora 41 (Clang) Kernel: Depends on container host Compiler: clang 19.1.5 (Fedora 19.1.5-1.fc41) Fedora 41 Kernel: Depends on container host Compiler: gcc 14.2.1 20240912 (Red Hat 14.2.1-3) Fedora 40 Kernel: Depends on container host Compiler: gcc 14.2.1 20240912 (Red Hat 14.2.1-3) openSUSE Leap 15 Kernel: Depends on container host Compiler: gcc (SUSE Linux) 7.5.0 RHEL9 Kernel: Depends on container host Compiler: gcc 11.5.0 20240719 (Red Hat 11.5.0-2) Ubuntu 24.04 Kernel: Depends on container host Compiler: gcc (Ubuntu 13.3.0-6ubuntu2~24.04) 13.3.0 Alpine Kernel: Depends on container host Compiler: gcc (Alpine 14.2.0) 14.2.0 Ubuntu 22.04 Kernel: Depends on container host Compiler: gcc (Ubuntu 11.4.0-1ubuntu1~22.04) 11.4.0 Ubuntu 20.04 Kernel: Depends on container host Compiler: gcc (Ubuntu 9.4.0-1ubuntu1~20.04.2) 9.4.0 FreeBSD 14.2 Kernel: 14.2-RELEASE Compiler: clang 18.1.6 Debian Bullseye Kernel: Depends on container host Compiler: gcc (Debian 10.2.1-6) 10.2.1 20210110 FreeBSD 13.4 Kernel: 13.4-RELEASE-p1 Compiler: clang 18.1.6 Windows Server 2022 Kernel: 10.0.20348.2031 Compiler: clang 15.0.7, gcc 14.1.0 (MinGW), and MSVC VS 19.39.33521 To view detailed results, visit: https://lab.dpdk.org/results/dashboard/patchsets/32310/ UNH-IOL DPDK Community Lab To manage your email subscriptions, visit: https://lab.dpdk.org/results/dashboard/preferences/subscriptions/