From mboxrd@z Thu Jan 1 00:00:00 1970 Return-Path: Received: from mails.dpdk.org (mails.dpdk.org [217.70.189.124]) by inbox.dpdk.org (Postfix) with ESMTP id 529AD461A0 for ; Wed, 5 Feb 2025 18:32:10 +0100 (CET) Received: from mails.dpdk.org (localhost [127.0.0.1]) by mails.dpdk.org (Postfix) with ESMTP id 4EF65402E6; Wed, 5 Feb 2025 18:32:10 +0100 (CET) Received: from mail-pl1-f228.google.com (mail-pl1-f228.google.com [209.85.214.228]) by mails.dpdk.org (Postfix) with ESMTP id 58080402DC for ; Wed, 5 Feb 2025 18:32:09 +0100 (CET) Received: by mail-pl1-f228.google.com with SMTP id d9443c01a7336-219f8263ae0so1942405ad.0 for ; Wed, 05 Feb 2025 09:32:09 -0800 (PST) DKIM-Signature: v=1; a=rsa-sha256; c=relaxed/relaxed; d=iol.unh.edu; s=unh-iol; t=1738776728; x=1739381528; darn=dpdk.org; h=references:in-reply-to:cc:to:from:subject:message-id:date:from:to :cc:subject:date:message-id:reply-to; bh=dzV/di66WSdc1tME7q31ktrJswygl+FGyup1okdh2dY=; b=Aeow9uw+YwgjAJ3mCAddZtcnanYV4M/rX6WL1KHaFpuZVWgVGCPu9w6HZzfmF1zsm/ 3VfSNFKxkTiBLCPMrlUm1bxX9AMowbCIt7SevbrH7wrMZmereXmsPTVGxsTy6b9lSOx4 qm8FaBLTFiYMk4IZwfSD7ABf9h0x0or9ZNQxo= X-Google-DKIM-Signature: v=1; a=rsa-sha256; c=relaxed/relaxed; d=1e100.net; s=20230601; t=1738776728; x=1739381528; h=references:in-reply-to:cc:to:from:subject:message-id:date :x-gm-message-state:from:to:cc:subject:date:message-id:reply-to; bh=dzV/di66WSdc1tME7q31ktrJswygl+FGyup1okdh2dY=; b=LnSFFT5sqsya7bAJqtv4uLgfoas1pMuntxtChMRrr1QxZ2f7BAs/1JSbo8Ambs+Koe N/4z4ivaj98Q2TnojrYluJ3IjsYuPxxjBqa8dt5GBhMb5N2l8Ww3O3oVGNZ+wnAOMisS 7TDuLRx06tWNIiU61VelK05Es7nuZ7sVXL3wUIW6TL+p2wH+L/atjI6QHhszwamd7qmy OJoSvEoLHyS6wxkVgvDDHXWuUHJMzhzmJUrU5OzCZ9Y91IU8Av187jswfjhNh/FJMY8S SHyClf5dtFg7uupANmDAr4gdM5z7p7S0DwmTIYpVCbHr2Xt0ZkYiUlDVS1nF0zi/qm1p DEBA== X-Gm-Message-State: AOJu0YxK/IF1Xo7oi6+r7mvoYbjqs1MRCeIGZ8WLlRwrJxZekXPnW9zT oqwJlgTE3sZy+AriOCQ08/Kr9QthYaE+U7FSB+OO7FI8dkbuHZhBu2/LWr8/MrZqfUPpa3dVyBO iMGvjlRssGiJbPaOcZVWpyR4Bh9LDDz6kqA1i1qNUM7ZG9WcEq193mXCL X-Gm-Gg: ASbGncsHqW1QXSuvW9yblSTuOnSo9xKVUQ5QYxZMdiY+EPuQ1H6WwB6XAXjI5N0nvP2 6Iw+QVcGyWFjqkFAUYHmjR8C+AXD1ldADEDLWXksy25jtwQZBphOPqevqslLbHTOX3KLE5sF5Fg A3RQbDJUBa9W1cKUJ/k4WVeb7GXLJBae2zKFzCeiomaG7lcnlWJo9OV+kxiky+P62Uc3UgaFF4+ kga1405iMiRLPvFRC4O5yWzJCPNjiXb+DELWp9VOBmIzK6DcS3yS1E9EOw7kJ4MVTKRjMAF4oW9 PSi6WRQdmrscrqUvL/xsFJb6LCR9Ac8qvmRdBidfgw== X-Google-Smtp-Source: AGHT+IGZZizn6nOvZDeqO34iL7/i7dsmo+G8gJTqFdJJnCU3gO7bDAERwhWyrKJhQ5dQ6cC/Fq4//oEqozdx X-Received: by 2002:a05:6a00:114e:b0:725:b4f7:378e with SMTP id d2e1a72fcca58-73034f7ec9fmr5258984b3a.0.1738776728472; Wed, 05 Feb 2025 09:32:08 -0800 (PST) Received: from postal.iol.unh.edu (postal.iol.unh.edu. [2606:4100:3880:1234::84]) by smtp-relay.gmail.com with ESMTPS id d2e1a72fcca58-72fe6a27e5fsm1069342b3a.21.2025.02.05.09.32.08 (version=TLS1_2 cipher=ECDHE-ECDSA-AES128-GCM-SHA256 bits=128/128); Wed, 05 Feb 2025 09:32:08 -0800 (PST) X-Relaying-Domain: iol.unh.edu Date: Wed, 05 Feb 2025 09:32:08 -0800 (PST) Message-ID: <67a3a098.050a0220.390470.0d7aSMTPIN_ADDED_MISSING@mx.google.com> Received: from [172.17.0.6] (unknown [172.18.0.217]) by postal.iol.unh.edu (Postfix) with ESMTP id EC0D16052471; Wed, 5 Feb 2025 12:32:07 -0500 (EST) Subject: |SUCCESS| pw150061-150066 [PATCH] [v4,6/6] lib/vhost: remove check a From: dpdklab@iol.unh.edu To: Test Report Cc: dpdk-test-reports@iol.unh.edu In-Reply-To: <20250114075033.2027286-7-otilibil@eurecom.fr> References: <20250114075033.2027286-7-otilibil@eurecom.fr> Content-Type: text/plain X-BeenThere: test-report@dpdk.org X-Mailman-Version: 2.1.29 Precedence: list List-Id: automatic DPDK test reports List-Unsubscribe: , List-Archive: List-Post: List-Help: List-Subscribe: , Errors-To: test-report-bounces@dpdk.org Test-Label: iol-compile-amd64-testing Test-Status: SUCCESS http://dpdk.org/patch/150066 _Testing PASS_ Submitter: Ariel Otilibili-Anieli Date: Tuesday, January 14 2025 07:50:33 DPDK git baseline: Repo:dpdk Branch: master CommitID:6a56a98a8a198d386e764be9bea343d69b09c0bf 150061-150066 --> testing pass Test environment and result as below: +---------------------+--------------------+------------------+-------------------+-------------------------+-------------------+----------------------+ | Environment | dpdk_meson_compile | dpdk_compile_ovs | dpdk_compile_spdk | dpdk_llvm_clang_compile | dpdk_msvc_compile | dpdk_mingw64_compile | +=====================+====================+==================+===================+=========================+===================+======================+ | CentOS Stream 9 | PASS | PASS | PASS | SKIPPED | SKIPPED | SKIPPED | +---------------------+--------------------+------------------+-------------------+-------------------------+-------------------+----------------------+ | Debian Bullseye | PASS | PASS | PASS | SKIPPED | SKIPPED | SKIPPED | +---------------------+--------------------+------------------+-------------------+-------------------------+-------------------+----------------------+ | Debian 12 | PASS | PASS | PASS | SKIPPED | SKIPPED | SKIPPED | +---------------------+--------------------+------------------+-------------------+-------------------------+-------------------+----------------------+ | Fedora 41 (Clang) | PASS | PASS | PASS | SKIPPED | SKIPPED | SKIPPED | +---------------------+--------------------+------------------+-------------------+-------------------------+-------------------+----------------------+ | Fedora 40 | PASS | PASS | PASS | SKIPPED | SKIPPED | SKIPPED | +---------------------+--------------------+------------------+-------------------+-------------------------+-------------------+----------------------+ | Fedora 40 (Clang) | PASS | PASS | PASS | SKIPPED | SKIPPED | SKIPPED | +---------------------+--------------------+------------------+-------------------+-------------------------+-------------------+----------------------+ | Fedora 41 | PASS | PASS | PASS | SKIPPED | SKIPPED | SKIPPED | +---------------------+--------------------+------------------+-------------------+-------------------------+-------------------+----------------------+ | RHEL8 | PASS | PASS | SKIPPED | SKIPPED | SKIPPED | SKIPPED | +---------------------+--------------------+------------------+-------------------+-------------------------+-------------------+----------------------+ | openSUSE Leap 15 | PASS | SKIPPED | SKIPPED | SKIPPED | SKIPPED | SKIPPED | +---------------------+--------------------+------------------+-------------------+-------------------------+-------------------+----------------------+ | RHEL9 | PASS | PASS | SKIPPED | SKIPPED | SKIPPED | SKIPPED | +---------------------+--------------------+------------------+-------------------+-------------------------+-------------------+----------------------+ | Ubuntu 22.04 | PASS | PASS | PASS | SKIPPED | SKIPPED | SKIPPED | +---------------------+--------------------+------------------+-------------------+-------------------------+-------------------+----------------------+ | Ubuntu 24.04 | PASS | PASS | PASS | SKIPPED | SKIPPED | SKIPPED | +---------------------+--------------------+------------------+-------------------+-------------------------+-------------------+----------------------+ | Alpine | PASS | PASS | SKIPPED | SKIPPED | SKIPPED | SKIPPED | +---------------------+--------------------+------------------+-------------------+-------------------------+-------------------+----------------------+ | FreeBSD 13.4 | PASS | SKIPPED | SKIPPED | SKIPPED | SKIPPED | SKIPPED | +---------------------+--------------------+------------------+-------------------+-------------------------+-------------------+----------------------+ | FreeBSD 14.2 | PASS | SKIPPED | SKIPPED | SKIPPED | SKIPPED | SKIPPED | +---------------------+--------------------+------------------+-------------------+-------------------------+-------------------+----------------------+ | Ubuntu 20.04 | PASS | SKIPPED | SKIPPED | SKIPPED | SKIPPED | SKIPPED | +---------------------+--------------------+------------------+-------------------+-------------------------+-------------------+----------------------+ | Windows Server 2022 | SKIPPED | SKIPPED | SKIPPED | PASS | PASS | PASS | +---------------------+--------------------+------------------+-------------------+-------------------------+-------------------+----------------------+ CentOS Stream 9 Kernel: Depends on container host Compiler: gcc 11.5.0 20240719 (Red Hat 11.5.0-2) Debian Bullseye Kernel: Depends on container host Compiler: gcc (Debian 10.2.1-6) 10.2.1 20210110 Debian 12 Kernel: Depends on container host Compiler: gcc (Debian 12.2.0-14) 12.2.0 Fedora 41 (Clang) Kernel: Depends on container host Compiler: clang 19.1.5 (Fedora 19.1.5-1.fc41) Fedora 40 Kernel: Depends on container host Compiler: gcc 14.2.1 20240912 (Red Hat 14.2.1-3) Fedora 40 (Clang) Kernel: Depends on container host Compiler: clang 18.1.8 (Fedora 18.1.8-1.fc40) Fedora 41 Kernel: Depends on container host Compiler: gcc 14.2.1 20240912 (Red Hat 14.2.1-3) RHEL8 Kernel: Depends on container host Compiler: gcc 8.5.0 20210514 (Red Hat 8.5.0-22) openSUSE Leap 15 Kernel: Depends on container host Compiler: gcc (SUSE Linux) 7.5.0 RHEL9 Kernel: Depends on container host Compiler: gcc 11.5.0 20240719 (Red Hat 11.5.0-2) Ubuntu 22.04 Kernel: Depends on container host Compiler: gcc (Ubuntu 11.4.0-1ubuntu1~22.04) 11.4.0 Ubuntu 24.04 Kernel: Depends on container host Compiler: gcc (Ubuntu 13.3.0-6ubuntu2~24.04) 13.3.0 Alpine Kernel: Depends on container host Compiler: gcc (Alpine 14.2.0) 14.2.0 FreeBSD 13.4 Kernel: 13.4-RELEASE-p1 Compiler: clang 18.1.6 FreeBSD 14.2 Kernel: 14.2-RELEASE Compiler: clang 18.1.6 Ubuntu 20.04 Kernel: Depends on container host Compiler: gcc (Ubuntu 9.4.0-1ubuntu1~20.04.2) 9.4.0 Windows Server 2022 Kernel: 10.0.20348.2031 Compiler: clang 15.0.7, gcc 14.1.0 (MinGW), and MSVC VS 19.39.33521 To view detailed results, visit: https://lab.dpdk.org/results/dashboard/patchsets/32314/ UNH-IOL DPDK Community Lab To manage your email subscriptions, visit: https://lab.dpdk.org/results/dashboard/preferences/subscriptions/