From mboxrd@z Thu Jan 1 00:00:00 1970 Return-Path: Received: from mails.dpdk.org (mails.dpdk.org [217.70.189.124]) by inbox.dpdk.org (Postfix) with ESMTP id 632BD461A0 for ; Wed, 5 Feb 2025 18:32:13 +0100 (CET) Received: from mails.dpdk.org (localhost [127.0.0.1]) by mails.dpdk.org (Postfix) with ESMTP id 60F0940647; Wed, 5 Feb 2025 18:32:13 +0100 (CET) Received: from mail-yb1-f225.google.com (mail-yb1-f225.google.com [209.85.219.225]) by mails.dpdk.org (Postfix) with ESMTP id CF737402DC for ; Wed, 5 Feb 2025 18:32:11 +0100 (CET) Received: by mail-yb1-f225.google.com with SMTP id 3f1490d57ef6-e53ef7462b6so6869810276.3 for ; Wed, 05 Feb 2025 09:32:11 -0800 (PST) DKIM-Signature: v=1; a=rsa-sha256; c=relaxed/relaxed; d=iol.unh.edu; s=unh-iol; t=1738776731; x=1739381531; darn=dpdk.org; h=cc:to:from:subject:message-id:date:from:to:cc:subject:date :message-id:reply-to; bh=KIuEVnAmqbsBzsiyN/blmp3MAUBBkGTFU4z6TtEaJMI=; b=JVT70SGnwr8iuqcoUqGcGpstDWh1Im0QLbx4sTbU5b/rnDs1N1yG6tzWYr9mfoc2Dx a+ZSqiBkvINh+gQWA0PmItDMBQwKedZRHZNHU2Bys6ousacrokpkgC3LAzHO9YifM0Uy 5eXuXnaCdmX0JaM8sTy41s3BxDnrkYxNsoTrE= X-Google-DKIM-Signature: v=1; a=rsa-sha256; c=relaxed/relaxed; d=1e100.net; s=20230601; t=1738776731; x=1739381531; h=cc:to:from:subject:message-id:date:x-gm-message-state:from:to:cc :subject:date:message-id:reply-to; bh=KIuEVnAmqbsBzsiyN/blmp3MAUBBkGTFU4z6TtEaJMI=; b=DvfTsnMWHet0o9L1WbCZejjxgXUEnEwTJShU+TVbgzcZXuSCgAHWB9XvUO0xz34dX3 xM+OdI3yFAyEU1yTvpaO1bZu9XXccVWmR4qlyp2d6gXw74e0NUXiTHJMtVdUuu7xCmR9 nw6PhbxCrq5jf2M6DjVgCOyCTHxNp2nfukYDe0DEO9S528/l/HAmzJXru57p5UNrlgGM Y6PH7Ca0CAIbF0SlASgFnCM4q8+OHCpFVPd7jV6etqsS0hsBb2vPvTBAeeJb6/rbjNLm oc9QaSe8bhBvGM1/0rsKvBfr/55FxbOy+HgVyp2ECJh2v4I17Z/T0BzIQXXi9p+rXIY8 djbw== X-Gm-Message-State: AOJu0YzQ4u7E3+1XNVB6/jHrCnPabHRX++/bj/xtYBVyVaayQpFqPdbw +/z83gjmJT6oL+J+fh1Due9P1Ka7e4HbShD6mEhVWQRGA8BEaV1PgAJRvTyv9HF3ehWc9vUQdps DqVovWrFyufYXQU8w8Pp4eqvyzSgEBMzo X-Gm-Gg: ASbGncvCcMUz+vfzXGwXZf7n6AKFqpSqAxbrFeP/i56yv7N6lYPkozqRBtyNk+/EkUt 6EQADgHKr6cdOiFTin0my+BjnIpIetko61toQQPmvdHUDp+dJCX9lgpWeV60OmnWjrLCuKEA23u Kbp53uLK7ASY1hxngoveO8A4Wbb+sRE+A7MebFeWjyZUkGDIUC9zkHolk5VOVZiUiT3EOTGWChQ Ie8DqZCG3l7ih1kwPOdlGhV5kHAZJnCCVb7qC60IkaxO1SHj6JdFUOQ6Z18KXn3QFBBANCqOW4D X4N7PDL9cXTBrn334DyJQ16kSK4Ceg== X-Google-Smtp-Source: AGHT+IG4B+rXy+yVbW+aDdFoSuDfxy8sOEoPTeJhUcbGYu7jAJ8f/1oUPFp6GcXhGhpgaiF5I9yotwpUhjys X-Received: by 2002:a05:6902:200f:b0:e5a:c6bf:fc0f with SMTP id 3f1490d57ef6-e5b25b376aamr3441953276.28.1738776731239; Wed, 05 Feb 2025 09:32:11 -0800 (PST) Received: from postal.iol.unh.edu (postal.iol.unh.edu. [132.177.123.84]) by smtp-relay.gmail.com with ESMTPS id 3f1490d57ef6-e5b17a7132dsm225498276.30.2025.02.05.09.32.11 (version=TLS1_2 cipher=ECDHE-ECDSA-AES128-GCM-SHA256 bits=128/128); Wed, 05 Feb 2025 09:32:11 -0800 (PST) X-Relaying-Domain: iol.unh.edu Date: Wed, 05 Feb 2025 09:32:11 -0800 (PST) Message-ID: <67a3a09b.250a0220.21fb0b.b753SMTPIN_ADDED_MISSING@mx.google.com> Received: from [172.17.0.3] (unknown [172.18.0.57]) by postal.iol.unh.edu (Postfix) with ESMTP id DCF6E6052471; Wed, 5 Feb 2025 12:32:10 -0500 (EST) Subject: |SUCCESS| [GIT MASTER] f2eea2f37a82bb73fb01d56350708f7d70e21379 From: dpdklab@iol.unh.edu To: Test Report Cc: dpdk-test-reports@iol.unh.edu, Xueming Li , Christian Ehrhardt , Kevin Traynor , Luca Boccassi Content-Type: text/plain X-BeenThere: test-report@dpdk.org X-Mailman-Version: 2.1.29 Precedence: list List-Id: automatic DPDK test reports List-Unsubscribe: , List-Archive: List-Post: List-Help: List-Subscribe: , Errors-To: test-report-bounces@dpdk.org _Testing PASS_ Branch: tags/v24.11 f2eea2f37a82bb73fb01d56350708f7d70e21379 --> testing pass Test environment and result as below: +---------------------+--------------------+------------------+-------------------+-------------------------+-------------------+----------------------+ | Environment | dpdk_meson_compile | dpdk_compile_ovs | dpdk_compile_spdk | dpdk_llvm_clang_compile | dpdk_msvc_compile | dpdk_mingw64_compile | +=====================+====================+==================+===================+=========================+===================+======================+ | CentOS Stream 9 | PASS | PASS | PASS | SKIPPED | SKIPPED | SKIPPED | +---------------------+--------------------+------------------+-------------------+-------------------------+-------------------+----------------------+ | Debian Bullseye | PASS | PASS | PASS | SKIPPED | SKIPPED | SKIPPED | +---------------------+--------------------+------------------+-------------------+-------------------------+-------------------+----------------------+ | Debian 12 | PASS | PASS | PASS | SKIPPED | SKIPPED | SKIPPED | +---------------------+--------------------+------------------+-------------------+-------------------------+-------------------+----------------------+ | Fedora 40 | PASS | PASS | PASS | SKIPPED | SKIPPED | SKIPPED | +---------------------+--------------------+------------------+-------------------+-------------------------+-------------------+----------------------+ | Fedora 40 (Clang) | PASS | PASS | PASS | SKIPPED | SKIPPED | SKIPPED | +---------------------+--------------------+------------------+-------------------+-------------------------+-------------------+----------------------+ | Fedora 41 (Clang) | PASS | PASS | PASS | SKIPPED | SKIPPED | SKIPPED | +---------------------+--------------------+------------------+-------------------+-------------------------+-------------------+----------------------+ | openSUSE Leap 15 | PASS | SKIPPED | SKIPPED | SKIPPED | SKIPPED | SKIPPED | +---------------------+--------------------+------------------+-------------------+-------------------------+-------------------+----------------------+ | Fedora 41 | PASS | PASS | PASS | SKIPPED | SKIPPED | SKIPPED | +---------------------+--------------------+------------------+-------------------+-------------------------+-------------------+----------------------+ | RHEL8 | PASS | PASS | SKIPPED | SKIPPED | SKIPPED | SKIPPED | +---------------------+--------------------+------------------+-------------------+-------------------------+-------------------+----------------------+ | RHEL9 | PASS | PASS | SKIPPED | SKIPPED | SKIPPED | SKIPPED | +---------------------+--------------------+------------------+-------------------+-------------------------+-------------------+----------------------+ | Ubuntu 22.04 | PASS | PASS | PASS | SKIPPED | SKIPPED | SKIPPED | +---------------------+--------------------+------------------+-------------------+-------------------------+-------------------+----------------------+ | Ubuntu 24.04 | PASS | PASS | PASS | SKIPPED | SKIPPED | SKIPPED | +---------------------+--------------------+------------------+-------------------+-------------------------+-------------------+----------------------+ | Alpine | PASS | PASS | SKIPPED | SKIPPED | SKIPPED | SKIPPED | +---------------------+--------------------+------------------+-------------------+-------------------------+-------------------+----------------------+ | Ubuntu 20.04 | PASS | SKIPPED | SKIPPED | SKIPPED | SKIPPED | SKIPPED | +---------------------+--------------------+------------------+-------------------+-------------------------+-------------------+----------------------+ | FreeBSD 13.4 | PASS | SKIPPED | SKIPPED | SKIPPED | SKIPPED | SKIPPED | +---------------------+--------------------+------------------+-------------------+-------------------------+-------------------+----------------------+ | FreeBSD 14.2 | PASS | SKIPPED | SKIPPED | SKIPPED | SKIPPED | SKIPPED | +---------------------+--------------------+------------------+-------------------+-------------------------+-------------------+----------------------+ | Windows Server 2022 | SKIPPED | SKIPPED | SKIPPED | PASS | PASS | PASS | +---------------------+--------------------+------------------+-------------------+-------------------------+-------------------+----------------------+ CentOS Stream 9 Kernel: Depends on container host Compiler: gcc 11.5.0 20240719 (Red Hat 11.5.0-2) Debian Bullseye Kernel: Depends on container host Compiler: gcc (Debian 10.2.1-6) 10.2.1 20210110 Debian 12 Kernel: Depends on container host Compiler: gcc (Debian 12.2.0-14) 12.2.0 Fedora 40 Kernel: Depends on container host Compiler: gcc 14.2.1 20240912 (Red Hat 14.2.1-3) Fedora 40 (Clang) Kernel: Depends on container host Compiler: clang 18.1.8 (Fedora 18.1.8-1.fc40) Fedora 41 (Clang) Kernel: Depends on container host Compiler: clang 19.1.5 (Fedora 19.1.5-1.fc41) openSUSE Leap 15 Kernel: Depends on container host Compiler: gcc (SUSE Linux) 7.5.0 Fedora 41 Kernel: Depends on container host Compiler: gcc 14.2.1 20240912 (Red Hat 14.2.1-3) RHEL8 Kernel: Depends on container host Compiler: gcc 8.5.0 20210514 (Red Hat 8.5.0-22) RHEL9 Kernel: Depends on container host Compiler: gcc 11.5.0 20240719 (Red Hat 11.5.0-2) Ubuntu 22.04 Kernel: Depends on container host Compiler: gcc (Ubuntu 11.4.0-1ubuntu1~22.04) 11.4.0 Ubuntu 24.04 Kernel: Depends on container host Compiler: gcc (Ubuntu 13.3.0-6ubuntu2~24.04) 13.3.0 Alpine Kernel: Depends on container host Compiler: gcc (Alpine 14.2.0) 14.2.0 Ubuntu 20.04 Kernel: Depends on container host Compiler: gcc (Ubuntu 9.4.0-1ubuntu1~20.04.2) 9.4.0 FreeBSD 13.4 Kernel: 13.4-RELEASE-p1 Compiler: clang 18.1.6 FreeBSD 14.2 Kernel: 14.2-RELEASE Compiler: clang 18.1.6 Windows Server 2022 Kernel: 10.0.20348.2031 Compiler: clang 15.0.7, gcc 14.1.0 (MinGW), and MSVC VS 19.39.33521 To view detailed results, visit: https://lab.dpdk.org/results/dashboard/tarballs/32177/ UNH-IOL DPDK Community Lab To manage your email subscriptions, visit: https://lab.dpdk.org/results/dashboard/preferences/subscriptions/