From mboxrd@z Thu Jan 1 00:00:00 1970 Return-Path: Received: from mails.dpdk.org (mails.dpdk.org [217.70.189.124]) by inbox.dpdk.org (Postfix) with ESMTP id 70EED461A0 for ; Wed, 5 Feb 2025 18:32:16 +0100 (CET) Received: from mails.dpdk.org (localhost [127.0.0.1]) by mails.dpdk.org (Postfix) with ESMTP id 6E2F6402E4; Wed, 5 Feb 2025 18:32:16 +0100 (CET) Received: from mail-qt1-f225.google.com (mail-qt1-f225.google.com [209.85.160.225]) by mails.dpdk.org (Postfix) with ESMTP id CD9F2402DC for ; Wed, 5 Feb 2025 18:32:14 +0100 (CET) Received: by mail-qt1-f225.google.com with SMTP id d75a77b69052e-46c8474d8f6so475191cf.3 for ; Wed, 05 Feb 2025 09:32:14 -0800 (PST) DKIM-Signature: v=1; a=rsa-sha256; c=relaxed/relaxed; d=iol.unh.edu; s=unh-iol; t=1738776734; x=1739381534; darn=dpdk.org; h=cc:to:from:subject:message-id:date:from:to:cc:subject:date :message-id:reply-to; bh=E6vmtivskkiDIp7Q/vhwy+YGIUYyi78XQ2u+AvYp02A=; b=L3YI46VN978NOd8Ptr+Cr+Nmrq4+dIAslxWUmte/vqP3sr/oqOGHhY2dgkV7ZYdetC JzapiKzy5Kp7nHa9gUEaICc3S5qyW63xDCM1ExpfNXjQf7DOKCJykQQNq3/VyyincUbS JB+HlX4fgKbfxx7iGNRtWbwDgT/6THRc2W0K0= X-Google-DKIM-Signature: v=1; a=rsa-sha256; c=relaxed/relaxed; d=1e100.net; s=20230601; t=1738776734; x=1739381534; h=cc:to:from:subject:message-id:date:x-gm-message-state:from:to:cc :subject:date:message-id:reply-to; bh=E6vmtivskkiDIp7Q/vhwy+YGIUYyi78XQ2u+AvYp02A=; b=jNfhkimCpMgngjZL1TKBVRtEyY7lddBb4fVFxq80DoBYVGwyFuTX0eukQcRpBekn37 hRkUEIHBKcsDMM73a7/+qCDfjny4l2CZSVpcZPQwOjx1Z5MXrbj/u+CATgceAOk7jJz2 Jwh4FWlX3S/U+nPfV90jRnDmrHwrZ6Rnvhiv4OaIVgFX8bkh/mYf3EBv7oBZCxbQOs3X qE16+BQdR3UKtcjkt4OEV0mUehX7Cvv1PtKS3vagUu+f+q0OfUU8whCOhaE5v4/m5zmZ xLwJLCnnucmIXO4TJhpS9gO9UCoEEHuyJ2izJJJ8RHHPUf0mIuxXgbk9oX4dnDaq3Wzh uIzg== X-Gm-Message-State: AOJu0YwuBQ14D2AYpEz4Y1hhdblSJxIsmx1aZQq6T2R7C+GjMWX4jMsk SWZBEYKF7Lg+Bow399SI1qmFb8rtAtXNI0bGdN6jTtoDUxdYzQHUQl84/ALg2isOXH/pFV9y5wZ vBLmH+OCLY9x8I1j6dqTdEO33d5K3naVEcZPgQ8GzRJc3NrgZW/c+IjGT X-Gm-Gg: ASbGnctigb6EkCzumMmRgiwBk8N8ciu8uGpIprbun3sh/eDIwaIf/ENcg1GKse8n3vD ORR/tbUOxwiZh1/N9Zbl9SyZQQRqgGeEC7CBjr9TjVnMg6akPVACl6PZDMUpSG0j/30daefE08k +7l9oe98YdQf30Azdm/BXaeB3H3+K6lmkSWEBMUC6iBM7DWwNYZbDSRvgDugGwIBvT5/RryyBob c0XrDrUg5jAhYh+YhyZS2ccG6T2KfFP9ohEFrmjg/8nyHHYrQXR7775bbGs5bsYKZG00xLqjtXf vkqe48v2asdYj43P68qasbUvVOVZ9SAAXCS5TLzPIA== X-Google-Smtp-Source: AGHT+IF1zIOreDLyupXuBWzO4qDzFpWK5n3LtgR+MBeNp7Uyi1iH/YMC1Y34+q7s50H8FYyHro9PXmHrevdO X-Received: by 2002:a05:622a:22a4:b0:467:5e61:c116 with SMTP id d75a77b69052e-4702817b736mr45431121cf.7.1738776734199; Wed, 05 Feb 2025 09:32:14 -0800 (PST) Received: from postal.iol.unh.edu (postal.iol.unh.edu. [2606:4100:3880:1234::84]) by smtp-relay.gmail.com with ESMTPS id 71dfb90a1353d-51eb1c069c8sm573421e0c.2.2025.02.05.09.32.14 (version=TLS1_2 cipher=ECDHE-ECDSA-AES128-GCM-SHA256 bits=128/128); Wed, 05 Feb 2025 09:32:14 -0800 (PST) X-Relaying-Domain: iol.unh.edu Date: Wed, 05 Feb 2025 09:32:14 -0800 (PST) Message-ID: <67a3a09e.050a0220.176dd8.a4fcSMTPIN_ADDED_MISSING@mx.google.com> Received: from [172.21.0.8] (unknown [172.18.0.240]) by postal.iol.unh.edu (Postfix) with ESMTP id D71BC6052471; Wed, 5 Feb 2025 12:32:13 -0500 (EST) Subject: |SUCCESS| [GIT MASTER] fd51012de5369679e807be1d6a81d63ef15015ce From: dpdklab@iol.unh.edu To: Test Report Cc: dpdk-test-reports@iol.unh.edu Content-Type: text/plain X-BeenThere: test-report@dpdk.org X-Mailman-Version: 2.1.29 Precedence: list List-Id: automatic DPDK test reports List-Unsubscribe: , List-Archive: List-Post: List-Help: List-Subscribe: , Errors-To: test-report-bounces@dpdk.org _Testing PASS_ Branch: dpdk fd51012de5369679e807be1d6a81d63ef15015ce --> testing pass Test environment and result as below: +---------------------+-------------------------+-------------------+--------------------+----------------------+------------------+-------------------+ | Environment | dpdk_llvm_clang_compile | dpdk_msvc_compile | dpdk_meson_compile | dpdk_mingw64_compile | dpdk_compile_ovs | dpdk_compile_spdk | +=====================+=========================+===================+====================+======================+==================+===================+ | Windows Server 2022 | PASS | PASS | SKIPPED | PASS | SKIPPED | SKIPPED | +---------------------+-------------------------+-------------------+--------------------+----------------------+------------------+-------------------+ | FreeBSD 13.4 | SKIPPED | SKIPPED | PASS | SKIPPED | SKIPPED | SKIPPED | +---------------------+-------------------------+-------------------+--------------------+----------------------+------------------+-------------------+ | FreeBSD 14.2 | SKIPPED | SKIPPED | PASS | SKIPPED | SKIPPED | SKIPPED | +---------------------+-------------------------+-------------------+--------------------+----------------------+------------------+-------------------+ | CentOS Stream 9 | SKIPPED | SKIPPED | PASS | SKIPPED | PASS | PASS | +---------------------+-------------------------+-------------------+--------------------+----------------------+------------------+-------------------+ | Debian Bullseye | SKIPPED | SKIPPED | PASS | SKIPPED | PASS | PASS | +---------------------+-------------------------+-------------------+--------------------+----------------------+------------------+-------------------+ | Debian 12 | SKIPPED | SKIPPED | PASS | SKIPPED | PASS | PASS | +---------------------+-------------------------+-------------------+--------------------+----------------------+------------------+-------------------+ | Fedora 40 (Clang) | SKIPPED | SKIPPED | PASS | SKIPPED | PASS | PASS | +---------------------+-------------------------+-------------------+--------------------+----------------------+------------------+-------------------+ | Fedora 40 | SKIPPED | SKIPPED | PASS | SKIPPED | PASS | PASS | +---------------------+-------------------------+-------------------+--------------------+----------------------+------------------+-------------------+ | Fedora 41 (Clang) | SKIPPED | SKIPPED | PASS | SKIPPED | PASS | PASS | +---------------------+-------------------------+-------------------+--------------------+----------------------+------------------+-------------------+ | Fedora 41 | SKIPPED | SKIPPED | PASS | SKIPPED | PASS | PASS | +---------------------+-------------------------+-------------------+--------------------+----------------------+------------------+-------------------+ | openSUSE Leap 15 | SKIPPED | SKIPPED | PASS | SKIPPED | SKIPPED | SKIPPED | +---------------------+-------------------------+-------------------+--------------------+----------------------+------------------+-------------------+ | RHEL8 | SKIPPED | SKIPPED | PASS | SKIPPED | PASS | SKIPPED | +---------------------+-------------------------+-------------------+--------------------+----------------------+------------------+-------------------+ | RHEL9 | SKIPPED | SKIPPED | PASS | SKIPPED | PASS | SKIPPED | +---------------------+-------------------------+-------------------+--------------------+----------------------+------------------+-------------------+ | Ubuntu 20.04 | SKIPPED | SKIPPED | PASS | SKIPPED | SKIPPED | SKIPPED | +---------------------+-------------------------+-------------------+--------------------+----------------------+------------------+-------------------+ | Ubuntu 22.04 | SKIPPED | SKIPPED | PASS | SKIPPED | PASS | PASS | +---------------------+-------------------------+-------------------+--------------------+----------------------+------------------+-------------------+ | Ubuntu 24.04 | SKIPPED | SKIPPED | PASS | SKIPPED | PASS | PASS | +---------------------+-------------------------+-------------------+--------------------+----------------------+------------------+-------------------+ | Alpine | SKIPPED | SKIPPED | PASS | SKIPPED | PASS | SKIPPED | +---------------------+-------------------------+-------------------+--------------------+----------------------+------------------+-------------------+ | Arch Linux | SKIPPED | SKIPPED | PASS | SKIPPED | PASS | SKIPPED | +---------------------+-------------------------+-------------------+--------------------+----------------------+------------------+-------------------+ Windows Server 2022 Kernel: 10.0.20348.2031 Compiler: clang 15.0.7, gcc 14.1.0 (MinGW), and MSVC VS 19.39.33521 FreeBSD 13.4 Kernel: 13.4-RELEASE-p1 Compiler: clang 18.1.6 FreeBSD 14.2 Kernel: 14.2-RELEASE Compiler: clang 18.1.6 CentOS Stream 9 Kernel: Depends on container host Compiler: gcc 11.5.0 20240719 (Red Hat 11.5.0-2) Debian Bullseye Kernel: Depends on container host Compiler: gcc (Debian 10.2.1-6) 10.2.1 20210110 Debian 12 Kernel: Depends on container host Compiler: gcc (Debian 12.2.0-14) 12.2.0 Fedora 40 (Clang) Kernel: Depends on container host Compiler: clang 18.1.8 (Fedora 18.1.8-1.fc40) Fedora 40 Kernel: Depends on container host Compiler: gcc 14.2.1 20240912 (Red Hat 14.2.1-3) Fedora 41 (Clang) Kernel: Depends on container host Compiler: clang 19.1.5 (Fedora 19.1.5-1.fc41) Fedora 41 Kernel: Depends on container host Compiler: gcc 14.2.1 20240912 (Red Hat 14.2.1-3) openSUSE Leap 15 Kernel: Depends on container host Compiler: gcc (SUSE Linux) 7.5.0 RHEL8 Kernel: Depends on container host Compiler: gcc 8.5.0 20210514 (Red Hat 8.5.0-22) RHEL9 Kernel: Depends on container host Compiler: gcc 11.5.0 20240719 (Red Hat 11.5.0-2) Ubuntu 20.04 Kernel: Depends on container host Compiler: gcc (Ubuntu 9.4.0-1ubuntu1~20.04.2) 9.4.0 Ubuntu 22.04 Kernel: Depends on container host Compiler: gcc (Ubuntu 11.4.0-1ubuntu1~22.04) 11.4.0 Ubuntu 24.04 Kernel: Depends on container host Compiler: gcc (Ubuntu 13.3.0-6ubuntu2~24.04) 13.3.0 Alpine Kernel: Depends on container host Compiler: gcc (Alpine 14.2.0) 14.2.0 Arch Linux Kernel: Depends on container host Compiler: gcc 14.2.1 20240910 To view detailed results, visit: https://lab.dpdk.org/results/dashboard/tarballs/32188/ UNH-IOL DPDK Community Lab To manage your email subscriptions, visit: https://lab.dpdk.org/results/dashboard/preferences/subscriptions/