automatic DPDK test reports
 help / color / mirror / Atom feed
* |WARNING| pw150104 [RFC v5 2/2] eventdev: documentation for atomic queue test
       [not found] <20250115133844.1403623-2-luka.jankovic@ericsson.com>
@ 2025-01-15 13:40 ` checkpatch
  2025-02-05 17:32 ` |SUCCESS| pw149933-150104 [PATCH] [RFC,v5,2/2] eventdev: documentati dpdklab
  1 sibling, 0 replies; 2+ messages in thread
From: checkpatch @ 2025-01-15 13:40 UTC (permalink / raw)
  To: test-report; +Cc: Luka Jankovic

Test-Label: checkpatch
Test-Status: WARNING
http://dpdk.org/patch/150104

_coding style issues_


WARNING:COMMIT_MESSAGE: Missing commit description - Add an appropriate one

total: 0 errors, 1 warnings, 1805 lines checked

^ permalink raw reply	[flat|nested] 2+ messages in thread

* |SUCCESS| pw149933-150104 [PATCH] [RFC,v5,2/2] eventdev: documentati
       [not found] <20250115133844.1403623-2-luka.jankovic@ericsson.com>
  2025-01-15 13:40 ` |WARNING| pw150104 [RFC v5 2/2] eventdev: documentation for atomic queue test checkpatch
@ 2025-02-05 17:32 ` dpdklab
  1 sibling, 0 replies; 2+ messages in thread
From: dpdklab @ 2025-02-05 17:32 UTC (permalink / raw)
  To: Test Report; +Cc: dpdk-test-reports

Test-Label: iol-compile-amd64-testing
Test-Status: SUCCESS
http://dpdk.org/patch/150104

_Testing PASS_

Submitter: Luka Jankovic <luka.jankovic@ericsson.com>
Date: Wednesday, January 15 2025 13:38:44 
DPDK git baseline: Repo:dpdk
  Branch: master
  CommitID:fd51012de5369679e807be1d6a81d63ef15015ce

149933-150104 --> testing pass

Test environment and result as below:

+---------------------+--------------------+------------------+-------------------+-------------------------+-------------------+----------------------+
|     Environment     | dpdk_meson_compile | dpdk_compile_ovs | dpdk_compile_spdk | dpdk_llvm_clang_compile | dpdk_msvc_compile | dpdk_mingw64_compile |
+=====================+====================+==================+===================+=========================+===================+======================+
| CentOS Stream 9     | PASS               | PASS             | PASS              | SKIPPED                 | SKIPPED           | SKIPPED              |
+---------------------+--------------------+------------------+-------------------+-------------------------+-------------------+----------------------+
| Debian Bullseye     | PASS               | PASS             | PASS              | SKIPPED                 | SKIPPED           | SKIPPED              |
+---------------------+--------------------+------------------+-------------------+-------------------------+-------------------+----------------------+
| Debian 12           | PASS               | PASS             | PASS              | SKIPPED                 | SKIPPED           | SKIPPED              |
+---------------------+--------------------+------------------+-------------------+-------------------------+-------------------+----------------------+
| Fedora 40 (Clang)   | PASS               | PASS             | PASS              | SKIPPED                 | SKIPPED           | SKIPPED              |
+---------------------+--------------------+------------------+-------------------+-------------------------+-------------------+----------------------+
| Fedora 40           | PASS               | PASS             | PASS              | SKIPPED                 | SKIPPED           | SKIPPED              |
+---------------------+--------------------+------------------+-------------------+-------------------------+-------------------+----------------------+
| Fedora 41 (Clang)   | PASS               | PASS             | PASS              | SKIPPED                 | SKIPPED           | SKIPPED              |
+---------------------+--------------------+------------------+-------------------+-------------------------+-------------------+----------------------+
| Fedora 41           | PASS               | PASS             | PASS              | SKIPPED                 | SKIPPED           | SKIPPED              |
+---------------------+--------------------+------------------+-------------------+-------------------------+-------------------+----------------------+
| openSUSE Leap 15    | PASS               | SKIPPED          | SKIPPED           | SKIPPED                 | SKIPPED           | SKIPPED              |
+---------------------+--------------------+------------------+-------------------+-------------------------+-------------------+----------------------+
| RHEL9               | PASS               | PASS             | SKIPPED           | SKIPPED                 | SKIPPED           | SKIPPED              |
+---------------------+--------------------+------------------+-------------------+-------------------------+-------------------+----------------------+
| RHEL8               | PASS               | PASS             | SKIPPED           | SKIPPED                 | SKIPPED           | SKIPPED              |
+---------------------+--------------------+------------------+-------------------+-------------------------+-------------------+----------------------+
| Ubuntu 20.04        | PASS               | SKIPPED          | SKIPPED           | SKIPPED                 | SKIPPED           | SKIPPED              |
+---------------------+--------------------+------------------+-------------------+-------------------------+-------------------+----------------------+
| Ubuntu 22.04        | PASS               | PASS             | PASS              | SKIPPED                 | SKIPPED           | SKIPPED              |
+---------------------+--------------------+------------------+-------------------+-------------------------+-------------------+----------------------+
| Ubuntu 24.04        | PASS               | PASS             | PASS              | SKIPPED                 | SKIPPED           | SKIPPED              |
+---------------------+--------------------+------------------+-------------------+-------------------------+-------------------+----------------------+
| Alpine              | PASS               | PASS             | SKIPPED           | SKIPPED                 | SKIPPED           | SKIPPED              |
+---------------------+--------------------+------------------+-------------------+-------------------------+-------------------+----------------------+
| FreeBSD 13.4        | PASS               | SKIPPED          | SKIPPED           | SKIPPED                 | SKIPPED           | SKIPPED              |
+---------------------+--------------------+------------------+-------------------+-------------------------+-------------------+----------------------+
| FreeBSD 14.2        | PASS               | SKIPPED          | SKIPPED           | SKIPPED                 | SKIPPED           | SKIPPED              |
+---------------------+--------------------+------------------+-------------------+-------------------------+-------------------+----------------------+
| Windows Server 2022 | SKIPPED            | SKIPPED          | SKIPPED           | PASS                    | PASS              | PASS                 |
+---------------------+--------------------+------------------+-------------------+-------------------------+-------------------+----------------------+


CentOS Stream 9
	Kernel: Depends on container host
	Compiler: gcc 11.5.0 20240719 (Red Hat 11.5.0-2)

Debian Bullseye
	Kernel: Depends on container host
	Compiler: gcc (Debian 10.2.1-6) 10.2.1 20210110

Debian 12
	Kernel: Depends on container host
	Compiler: gcc (Debian 12.2.0-14) 12.2.0

Fedora 40 (Clang)
	Kernel: Depends on container host
	Compiler: clang 18.1.8 (Fedora 18.1.8-1.fc40)

Fedora 40
	Kernel: Depends on container host
	Compiler: gcc 14.2.1 20240912 (Red Hat 14.2.1-3)

Fedora 41 (Clang)
	Kernel: Depends on container host
	Compiler: clang 19.1.5 (Fedora 19.1.5-1.fc41)

Fedora 41
	Kernel: Depends on container host
	Compiler: gcc 14.2.1 20240912 (Red Hat 14.2.1-3)

openSUSE Leap 15
	Kernel: Depends on container host
	Compiler: gcc (SUSE Linux) 7.5.0

RHEL9
	Kernel: Depends on container host
	Compiler: gcc 11.5.0 20240719 (Red Hat 11.5.0-2)

RHEL8
	Kernel: Depends on container host
	Compiler: gcc 8.5.0 20210514 (Red Hat 8.5.0-22)

Ubuntu 20.04
	Kernel: Depends on container host
	Compiler: gcc (Ubuntu 9.4.0-1ubuntu1~20.04.2) 9.4.0

Ubuntu 22.04
	Kernel: Depends on container host
	Compiler: gcc (Ubuntu 11.4.0-1ubuntu1~22.04) 11.4.0

Ubuntu 24.04
	Kernel: Depends on container host
	Compiler: gcc (Ubuntu 13.3.0-6ubuntu2~24.04) 13.3.0

Alpine
	Kernel: Depends on container host
	Compiler: gcc (Alpine 14.2.0) 14.2.0

FreeBSD 13.4
	Kernel: 13.4-RELEASE-p1
	Compiler: clang 18.1.6

FreeBSD 14.2
	Kernel: 14.2-RELEASE
	Compiler: clang 18.1.6

Windows Server 2022
	Kernel: 10.0.20348.2031
	Compiler: clang 15.0.7, gcc 14.1.0 (MinGW), and MSVC VS 19.39.33521

To view detailed results, visit:
https://lab.dpdk.org/results/dashboard/patchsets/32305/

UNH-IOL DPDK Community Lab

To manage your email subscriptions, visit: 
https://lab.dpdk.org/results/dashboard/preferences/subscriptions/

^ permalink raw reply	[flat|nested] 2+ messages in thread

end of thread, other threads:[~2025-02-05 17:32 UTC | newest]

Thread overview: 2+ messages (download: mbox.gz / follow: Atom feed)
-- links below jump to the message on this page --
     [not found] <20250115133844.1403623-2-luka.jankovic@ericsson.com>
2025-01-15 13:40 ` |WARNING| pw150104 [RFC v5 2/2] eventdev: documentation for atomic queue test checkpatch
2025-02-05 17:32 ` |SUCCESS| pw149933-150104 [PATCH] [RFC,v5,2/2] eventdev: documentati dpdklab

This is a public inbox, see mirroring instructions
for how to clone and mirror all data and code used for this inbox;
as well as URLs for NNTP newsgroup(s).