From mboxrd@z Thu Jan 1 00:00:00 1970 Return-Path: Received: from mails.dpdk.org (mails.dpdk.org [217.70.189.124]) by inbox.dpdk.org (Postfix) with ESMTP id B75F3461A0 for ; Wed, 5 Feb 2025 18:32:21 +0100 (CET) Received: from mails.dpdk.org (localhost [127.0.0.1]) by mails.dpdk.org (Postfix) with ESMTP id A9D384065B; Wed, 5 Feb 2025 18:32:21 +0100 (CET) Received: from mail-yb1-f225.google.com (mail-yb1-f225.google.com [209.85.219.225]) by mails.dpdk.org (Postfix) with ESMTP id 3DDE8402DC for ; Wed, 5 Feb 2025 18:32:19 +0100 (CET) Received: by mail-yb1-f225.google.com with SMTP id 3f1490d57ef6-e461015fbd4so6195700276.2 for ; Wed, 05 Feb 2025 09:32:19 -0800 (PST) DKIM-Signature: v=1; a=rsa-sha256; c=relaxed/relaxed; d=iol.unh.edu; s=unh-iol; t=1738776738; x=1739381538; darn=dpdk.org; h=references:in-reply-to:cc:to:from:subject:message-id:date:from:to :cc:subject:date:message-id:reply-to; bh=Zcaf59L8RtjGci5JH8lDEcbpUHvauf9Q/ayr0i1kx7Y=; b=KnymnXanXQiOUOW8XtZ2047yXmEGMQd6nZK0/P5lvZIFacCIXd8UtXjh8uvbJmUVMf chR77hvbDGbDhgDtjxED7zirb4wWWeISQhFVSVlfH/AokYmEDHJMrIm3CvsYN0GH7Cb6 CoLkCRbdmUKpoD+o5XGHLDX59M7mMN6+g53Pk= X-Google-DKIM-Signature: v=1; a=rsa-sha256; c=relaxed/relaxed; d=1e100.net; s=20230601; t=1738776738; x=1739381538; h=references:in-reply-to:cc:to:from:subject:message-id:date :x-gm-message-state:from:to:cc:subject:date:message-id:reply-to; bh=Zcaf59L8RtjGci5JH8lDEcbpUHvauf9Q/ayr0i1kx7Y=; b=AcTcihyVg29wuDWa7QQ3zH7Nx9xZ39LsieMjzCU/zc2owNCsgGCG1DWOuSd0cg2bMT NPCpdojitzqYHSUzx8kArhVkkzuc3Os+n2TWXnWCeqTEW+cMXhLfVU68uRk8e25TUyUg 5+0E3cNlxM1NjrIohn6eUTe5fGd6d4ZfVJzXTN1fM+fTGRnIqjYy5ZYC+b652XtyaJTt XXMe2MDpoT9vaJz+qHrrdINnvKWyqKV0moDXzCesx2+UpxUmmB/Dh/VfT0X4DRHjJkzg lWm8fHnU+IRZxpWAwljiVMoGOp/aAB1EsHLnvmM4ThB2sKEq9USpvYa4FXUB9R/XAp2c EgVg== X-Gm-Message-State: AOJu0YyanbimOgbqyDHS0bD6TOC3pSPGhSitLCZLRwclLomOIS6n+eVw 692kvHY4rRsyM8sdS8u7ppGwyEidVJE3QBey2WTdJcOxpn5JGAXQtQcfT+U5y3JmknmXPz7J5cl OI/DoeKXkFib7qDS/zg0B9vye6myM/kOf/ZUBmGIPZFB9q9wbT/7o7+U7 X-Gm-Gg: ASbGncsWKuZgwRKOInS93/dieawCGQK1VBHsZV+hMtxmpNTv2iHkcxGa21W2EcslPGy i0CLLmA/pse90s8Z1cEN8KqP5OmL29QrTcwoCQfbRERt/LtRsr+vyWNIEk4HWSTOuF6mDiV2qWG 2frlMKQSuCII/8G7CemT34aGuUUzE+UpU1iWAZRoflg2zHMmV0DKm/zcBw7c+XlrFxawsSLsJJm r5jHOww0T+I0Kf+4BxXvlmskv09QigBK3Red8DeeaxHidnw1n1bKor0G4HoA6naMUi931g9ZkPU YbM6O9i4wcUmIcVP+qJYgPG/kx9EnaxJHcbqO7O88A== X-Google-Smtp-Source: AGHT+IEUO1iBLW/Wf+fsJxqwVMiznGuUsqbxPGMvxWKL5S3v9ZH/N6qydR82Y7jd/gfbFJzn3uOCpABwZHZa X-Received: by 2002:a05:6902:2193:b0:e5a:e88e:b2df with SMTP id 3f1490d57ef6-e5b259d4f58mr2930446276.5.1738776737192; Wed, 05 Feb 2025 09:32:17 -0800 (PST) Received: from postal.iol.unh.edu (postal.iol.unh.edu. [2606:4100:3880:1234::84]) by smtp-relay.gmail.com with ESMTPS id 3f1490d57ef6-e5b2636c7fcsm60556276.22.2025.02.05.09.32.17 (version=TLS1_2 cipher=ECDHE-ECDSA-AES128-GCM-SHA256 bits=128/128); Wed, 05 Feb 2025 09:32:17 -0800 (PST) X-Relaying-Domain: iol.unh.edu Date: Wed, 05 Feb 2025 09:32:17 -0800 (PST) Message-ID: <67a3a0a1.050a0220.26626e.2464SMTPIN_ADDED_MISSING@mx.google.com> Received: from [172.17.0.2] (unknown [172.18.0.215]) by postal.iol.unh.edu (Postfix) with ESMTP id E30F26052472; Wed, 5 Feb 2025 12:32:16 -0500 (EST) Subject: |SUCCESS| pw149933-150104 [PATCH] [RFC,v5,2/2] eventdev: documentati From: dpdklab@iol.unh.edu To: Test Report Cc: dpdk-test-reports@iol.unh.edu In-Reply-To: <20250115133844.1403623-2-luka.jankovic@ericsson.com> References: <20250115133844.1403623-2-luka.jankovic@ericsson.com> Content-Type: text/plain X-BeenThere: test-report@dpdk.org X-Mailman-Version: 2.1.29 Precedence: list List-Id: automatic DPDK test reports List-Unsubscribe: , List-Archive: List-Post: List-Help: List-Subscribe: , Errors-To: test-report-bounces@dpdk.org Test-Label: iol-compile-amd64-testing Test-Status: SUCCESS http://dpdk.org/patch/150104 _Testing PASS_ Submitter: Luka Jankovic Date: Wednesday, January 15 2025 13:38:44 DPDK git baseline: Repo:dpdk Branch: master CommitID:fd51012de5369679e807be1d6a81d63ef15015ce 149933-150104 --> testing pass Test environment and result as below: +---------------------+--------------------+------------------+-------------------+-------------------------+-------------------+----------------------+ | Environment | dpdk_meson_compile | dpdk_compile_ovs | dpdk_compile_spdk | dpdk_llvm_clang_compile | dpdk_msvc_compile | dpdk_mingw64_compile | +=====================+====================+==================+===================+=========================+===================+======================+ | CentOS Stream 9 | PASS | PASS | PASS | SKIPPED | SKIPPED | SKIPPED | +---------------------+--------------------+------------------+-------------------+-------------------------+-------------------+----------------------+ | Debian Bullseye | PASS | PASS | PASS | SKIPPED | SKIPPED | SKIPPED | +---------------------+--------------------+------------------+-------------------+-------------------------+-------------------+----------------------+ | Debian 12 | PASS | PASS | PASS | SKIPPED | SKIPPED | SKIPPED | +---------------------+--------------------+------------------+-------------------+-------------------------+-------------------+----------------------+ | Fedora 40 (Clang) | PASS | PASS | PASS | SKIPPED | SKIPPED | SKIPPED | +---------------------+--------------------+------------------+-------------------+-------------------------+-------------------+----------------------+ | Fedora 40 | PASS | PASS | PASS | SKIPPED | SKIPPED | SKIPPED | +---------------------+--------------------+------------------+-------------------+-------------------------+-------------------+----------------------+ | Fedora 41 (Clang) | PASS | PASS | PASS | SKIPPED | SKIPPED | SKIPPED | +---------------------+--------------------+------------------+-------------------+-------------------------+-------------------+----------------------+ | Fedora 41 | PASS | PASS | PASS | SKIPPED | SKIPPED | SKIPPED | +---------------------+--------------------+------------------+-------------------+-------------------------+-------------------+----------------------+ | openSUSE Leap 15 | PASS | SKIPPED | SKIPPED | SKIPPED | SKIPPED | SKIPPED | +---------------------+--------------------+------------------+-------------------+-------------------------+-------------------+----------------------+ | RHEL9 | PASS | PASS | SKIPPED | SKIPPED | SKIPPED | SKIPPED | +---------------------+--------------------+------------------+-------------------+-------------------------+-------------------+----------------------+ | RHEL8 | PASS | PASS | SKIPPED | SKIPPED | SKIPPED | SKIPPED | +---------------------+--------------------+------------------+-------------------+-------------------------+-------------------+----------------------+ | Ubuntu 20.04 | PASS | SKIPPED | SKIPPED | SKIPPED | SKIPPED | SKIPPED | +---------------------+--------------------+------------------+-------------------+-------------------------+-------------------+----------------------+ | Ubuntu 22.04 | PASS | PASS | PASS | SKIPPED | SKIPPED | SKIPPED | +---------------------+--------------------+------------------+-------------------+-------------------------+-------------------+----------------------+ | Ubuntu 24.04 | PASS | PASS | PASS | SKIPPED | SKIPPED | SKIPPED | +---------------------+--------------------+------------------+-------------------+-------------------------+-------------------+----------------------+ | Alpine | PASS | PASS | SKIPPED | SKIPPED | SKIPPED | SKIPPED | +---------------------+--------------------+------------------+-------------------+-------------------------+-------------------+----------------------+ | FreeBSD 13.4 | PASS | SKIPPED | SKIPPED | SKIPPED | SKIPPED | SKIPPED | +---------------------+--------------------+------------------+-------------------+-------------------------+-------------------+----------------------+ | FreeBSD 14.2 | PASS | SKIPPED | SKIPPED | SKIPPED | SKIPPED | SKIPPED | +---------------------+--------------------+------------------+-------------------+-------------------------+-------------------+----------------------+ | Windows Server 2022 | SKIPPED | SKIPPED | SKIPPED | PASS | PASS | PASS | +---------------------+--------------------+------------------+-------------------+-------------------------+-------------------+----------------------+ CentOS Stream 9 Kernel: Depends on container host Compiler: gcc 11.5.0 20240719 (Red Hat 11.5.0-2) Debian Bullseye Kernel: Depends on container host Compiler: gcc (Debian 10.2.1-6) 10.2.1 20210110 Debian 12 Kernel: Depends on container host Compiler: gcc (Debian 12.2.0-14) 12.2.0 Fedora 40 (Clang) Kernel: Depends on container host Compiler: clang 18.1.8 (Fedora 18.1.8-1.fc40) Fedora 40 Kernel: Depends on container host Compiler: gcc 14.2.1 20240912 (Red Hat 14.2.1-3) Fedora 41 (Clang) Kernel: Depends on container host Compiler: clang 19.1.5 (Fedora 19.1.5-1.fc41) Fedora 41 Kernel: Depends on container host Compiler: gcc 14.2.1 20240912 (Red Hat 14.2.1-3) openSUSE Leap 15 Kernel: Depends on container host Compiler: gcc (SUSE Linux) 7.5.0 RHEL9 Kernel: Depends on container host Compiler: gcc 11.5.0 20240719 (Red Hat 11.5.0-2) RHEL8 Kernel: Depends on container host Compiler: gcc 8.5.0 20210514 (Red Hat 8.5.0-22) Ubuntu 20.04 Kernel: Depends on container host Compiler: gcc (Ubuntu 9.4.0-1ubuntu1~20.04.2) 9.4.0 Ubuntu 22.04 Kernel: Depends on container host Compiler: gcc (Ubuntu 11.4.0-1ubuntu1~22.04) 11.4.0 Ubuntu 24.04 Kernel: Depends on container host Compiler: gcc (Ubuntu 13.3.0-6ubuntu2~24.04) 13.3.0 Alpine Kernel: Depends on container host Compiler: gcc (Alpine 14.2.0) 14.2.0 FreeBSD 13.4 Kernel: 13.4-RELEASE-p1 Compiler: clang 18.1.6 FreeBSD 14.2 Kernel: 14.2-RELEASE Compiler: clang 18.1.6 Windows Server 2022 Kernel: 10.0.20348.2031 Compiler: clang 15.0.7, gcc 14.1.0 (MinGW), and MSVC VS 19.39.33521 To view detailed results, visit: https://lab.dpdk.org/results/dashboard/patchsets/32305/ UNH-IOL DPDK Community Lab To manage your email subscriptions, visit: https://lab.dpdk.org/results/dashboard/preferences/subscriptions/