From mboxrd@z Thu Jan 1 00:00:00 1970 Return-Path: Received: from mails.dpdk.org (mails.dpdk.org [217.70.189.124]) by inbox.dpdk.org (Postfix) with ESMTP id 8D25A461A0 for ; Wed, 5 Feb 2025 18:32:21 +0100 (CET) Received: from mails.dpdk.org (localhost [127.0.0.1]) by mails.dpdk.org (Postfix) with ESMTP id 89DF5402E4; Wed, 5 Feb 2025 18:32:21 +0100 (CET) Received: from mail-qv1-f98.google.com (mail-qv1-f98.google.com [209.85.219.98]) by mails.dpdk.org (Postfix) with ESMTP id B0FFE402DC for ; Wed, 5 Feb 2025 18:32:17 +0100 (CET) Received: by mail-qv1-f98.google.com with SMTP id 6a1803df08f44-6dd1962a75bso181096d6.3 for ; Wed, 05 Feb 2025 09:32:17 -0800 (PST) DKIM-Signature: v=1; a=rsa-sha256; c=relaxed/relaxed; d=iol.unh.edu; s=unh-iol; t=1738776737; x=1739381537; darn=dpdk.org; h=references:in-reply-to:cc:to:from:subject:message-id:date:from:to :cc:subject:date:message-id:reply-to; bh=PmFbxF2n9lNRLcqyrPDlVZT40JxGQViB6SUkly9F2/g=; b=T4V7C/3a8hWpiuVK/p6kqEV9F+4rbfhWjid32/7I1u6u2uVR0j5y1slIghx1TIj9n6 +Rp98rS/Hk4yuSBQoVOzik25QIJYXp5JKsoCDbXuGuV0aPj5a0IRwL2CploSpx9Ng4er QAGDkMDo1Jt//T434smEmIBtIGmu2jMxDo6m8= X-Google-DKIM-Signature: v=1; a=rsa-sha256; c=relaxed/relaxed; d=1e100.net; s=20230601; t=1738776737; x=1739381537; h=references:in-reply-to:cc:to:from:subject:message-id:date :x-gm-message-state:from:to:cc:subject:date:message-id:reply-to; bh=PmFbxF2n9lNRLcqyrPDlVZT40JxGQViB6SUkly9F2/g=; b=rvSALEfPC93WHEy5BzFe0pQKn2+T1Ca1E8SNOiImFJGJGSbUg8Ou50VfYHSyg+O5O5 56KP5EemQUh+fsVhfXsIup6ZtmNNSrDsJKxT9Qu5VLoflshO3gnmipT560VBfOFsGPaE Wcser73riIGKjCEpbtRCK+r9Gy4yakkBFhPnl63eFRaHxFcdAJqCW3V1cBOoEWX57cQm tkDM7MXj7c7wthOrIqVc01oiFCuDB2A66Bp9FmkrsBb65kiibb4oMb/jkub9Vj1NQ3hI CC6cl+K6Py4QG+kGyctABWvwRxyAtAFVsFQLTMYKiXJOeL+lWHi1d82tNr2Vl2ymJ+K3 ZTMA== X-Gm-Message-State: AOJu0Yw8yUuCm/CHeo6CYci9rcP/yxjD17Gda/DEf+7sdG07JSJ0YjKF v44rS+0YkS3w4xt2x2Xc41B5+Up0LGxC61L3CbE251WsiJi97ghwzg9/iO9P2wNNGsiF6C21yxx HGr2ofSb5NxPDI22hGxV/tz/FvEhE/YMJ82a6BDT/ X-Gm-Gg: ASbGnctqvWnT7GSc6FiMioV+iSXSq5/FxD/sDRyrFLkrlm9r74PprSmxfdu+XqeT1Sm 4Kb4W6L6zzIYK+DtAeIQCu3aWdA+2RdabmnCC8QgpF7hcbBTczbkIVgPPDKNAUQvNz2ZjWjTSes 5zdnIFrBkXpzfEkhyb6j3JeobKcI+mr+Osk6XRBhbIkgx8a9xefG+THExuDXmVFctCln4WJfVMv AOfC4E3LSDlGZSSkrzdtczwITUgFm4LqdZpQN4muZaG8q5y5mRgjYdrpcXOH0Fyk+B5VDb3PxIS fqlXVa+zyN2CgtZtNe2n5Lc3pFsybg== X-Google-Smtp-Source: AGHT+IENBSoTp9hG172qdxqfDCF9JF3H29xL4S76kPDcpjPHxx/AXlAXfacbR4CvIHL0BZBdNUucDP5QTNh5 X-Received: by 2002:a05:6214:1c0e:b0:6d1:9f29:2e3b with SMTP id 6a1803df08f44-6e42fb98b9cmr52414336d6.13.1738776737132; Wed, 05 Feb 2025 09:32:17 -0800 (PST) Received: from postal.iol.unh.edu (postal.iol.unh.edu. [132.177.123.84]) by smtp-relay.gmail.com with ESMTPS id 6a1803df08f44-6e2544dfeadsm10477036d6.2.2025.02.05.09.32.17 (version=TLS1_2 cipher=ECDHE-ECDSA-AES128-GCM-SHA256 bits=128/128); Wed, 05 Feb 2025 09:32:17 -0800 (PST) X-Relaying-Domain: iol.unh.edu Date: Wed, 05 Feb 2025 09:32:17 -0800 (PST) Message-ID: <67a3a0a1.d40a0220.2d50b7.01b1SMTPIN_ADDED_MISSING@mx.google.com> Received: from [172.21.0.14] (unknown [172.18.0.240]) by postal.iol.unh.edu (Postfix) with ESMTP id DF1156052471; Wed, 5 Feb 2025 12:32:16 -0500 (EST) Subject: |SUCCESS| pw149936-149937 [PATCH] [v3,2/2] app/test: add SM4 GCM tes From: dpdklab@iol.unh.edu To: Test Report Cc: dpdk-test-reports@iol.unh.edu In-Reply-To: <20250113171022.1649181-2-brian.dooley@intel.com> References: <20250113171022.1649181-2-brian.dooley@intel.com> Content-Type: text/plain X-BeenThere: test-report@dpdk.org X-Mailman-Version: 2.1.29 Precedence: list List-Id: automatic DPDK test reports List-Unsubscribe: , List-Archive: List-Post: List-Help: List-Subscribe: , Errors-To: test-report-bounces@dpdk.org Test-Label: iol-compile-amd64-testing Test-Status: SUCCESS http://dpdk.org/patch/149937 _Testing PASS_ Submitter: Dooley, Brian Date: Monday, January 13 2025 17:10:22 DPDK git baseline: Repo:dpdk Branch: master CommitID:cdf7f14fae72cdf64bcccff3ed4ab30accdf436e 149936-149937 --> testing pass Test environment and result as below: +---------------------+--------------------+------------------+-------------------+-------------------------+-------------------+----------------------+ | Environment | dpdk_meson_compile | dpdk_compile_ovs | dpdk_compile_spdk | dpdk_llvm_clang_compile | dpdk_msvc_compile | dpdk_mingw64_compile | +=====================+====================+==================+===================+=========================+===================+======================+ | CentOS Stream 9 | PASS | PASS | PASS | SKIPPED | SKIPPED | SKIPPED | +---------------------+--------------------+------------------+-------------------+-------------------------+-------------------+----------------------+ | Debian Bullseye | PASS | PASS | PASS | SKIPPED | SKIPPED | SKIPPED | +---------------------+--------------------+------------------+-------------------+-------------------------+-------------------+----------------------+ | Debian 12 | PASS | PASS | PASS | SKIPPED | SKIPPED | SKIPPED | +---------------------+--------------------+------------------+-------------------+-------------------------+-------------------+----------------------+ | Fedora 41 | PASS | PASS | PASS | SKIPPED | SKIPPED | SKIPPED | +---------------------+--------------------+------------------+-------------------+-------------------------+-------------------+----------------------+ | Fedora 40 (Clang) | PASS | PASS | PASS | SKIPPED | SKIPPED | SKIPPED | +---------------------+--------------------+------------------+-------------------+-------------------------+-------------------+----------------------+ | Fedora 40 | PASS | PASS | PASS | SKIPPED | SKIPPED | SKIPPED | +---------------------+--------------------+------------------+-------------------+-------------------------+-------------------+----------------------+ | Fedora 41 (Clang) | PASS | PASS | PASS | SKIPPED | SKIPPED | SKIPPED | +---------------------+--------------------+------------------+-------------------+-------------------------+-------------------+----------------------+ | openSUSE Leap 15 | PASS | SKIPPED | SKIPPED | SKIPPED | SKIPPED | SKIPPED | +---------------------+--------------------+------------------+-------------------+-------------------------+-------------------+----------------------+ | RHEL8 | PASS | PASS | SKIPPED | SKIPPED | SKIPPED | SKIPPED | +---------------------+--------------------+------------------+-------------------+-------------------------+-------------------+----------------------+ | RHEL9 | PASS | PASS | SKIPPED | SKIPPED | SKIPPED | SKIPPED | +---------------------+--------------------+------------------+-------------------+-------------------------+-------------------+----------------------+ | Ubuntu 24.04 | PASS | PASS | PASS | SKIPPED | SKIPPED | SKIPPED | +---------------------+--------------------+------------------+-------------------+-------------------------+-------------------+----------------------+ | Ubuntu 22.04 | PASS | PASS | PASS | SKIPPED | SKIPPED | SKIPPED | +---------------------+--------------------+------------------+-------------------+-------------------------+-------------------+----------------------+ | Alpine | PASS | PASS | SKIPPED | SKIPPED | SKIPPED | SKIPPED | +---------------------+--------------------+------------------+-------------------+-------------------------+-------------------+----------------------+ | FreeBSD 14.2 | PASS | SKIPPED | SKIPPED | SKIPPED | SKIPPED | SKIPPED | +---------------------+--------------------+------------------+-------------------+-------------------------+-------------------+----------------------+ | FreeBSD 13.4 | PASS | SKIPPED | SKIPPED | SKIPPED | SKIPPED | SKIPPED | +---------------------+--------------------+------------------+-------------------+-------------------------+-------------------+----------------------+ | Ubuntu 20.04 | PASS | SKIPPED | SKIPPED | SKIPPED | SKIPPED | SKIPPED | +---------------------+--------------------+------------------+-------------------+-------------------------+-------------------+----------------------+ | Windows Server 2022 | SKIPPED | SKIPPED | SKIPPED | PASS | PASS | PASS | +---------------------+--------------------+------------------+-------------------+-------------------------+-------------------+----------------------+ CentOS Stream 9 Kernel: Depends on container host Compiler: gcc 11.5.0 20240719 (Red Hat 11.5.0-2) Debian Bullseye Kernel: Depends on container host Compiler: gcc (Debian 10.2.1-6) 10.2.1 20210110 Debian 12 Kernel: Depends on container host Compiler: gcc (Debian 12.2.0-14) 12.2.0 Fedora 41 Kernel: Depends on container host Compiler: gcc 14.2.1 20240912 (Red Hat 14.2.1-3) Fedora 40 (Clang) Kernel: Depends on container host Compiler: clang 18.1.8 (Fedora 18.1.8-1.fc40) Fedora 40 Kernel: Depends on container host Compiler: gcc 14.2.1 20240912 (Red Hat 14.2.1-3) Fedora 41 (Clang) Kernel: Depends on container host Compiler: clang 19.1.5 (Fedora 19.1.5-1.fc41) openSUSE Leap 15 Kernel: Depends on container host Compiler: gcc (SUSE Linux) 7.5.0 RHEL8 Kernel: Depends on container host Compiler: gcc 8.5.0 20210514 (Red Hat 8.5.0-22) RHEL9 Kernel: Depends on container host Compiler: gcc 11.5.0 20240719 (Red Hat 11.5.0-2) Ubuntu 24.04 Kernel: Depends on container host Compiler: gcc (Ubuntu 13.3.0-6ubuntu2~24.04) 13.3.0 Ubuntu 22.04 Kernel: Depends on container host Compiler: gcc (Ubuntu 11.4.0-1ubuntu1~22.04) 11.4.0 Alpine Kernel: Depends on container host Compiler: gcc (Alpine 14.2.0) 14.2.0 FreeBSD 14.2 Kernel: 14.2-RELEASE Compiler: clang 18.1.6 FreeBSD 13.4 Kernel: 13.4-RELEASE-p1 Compiler: clang 18.1.6 Ubuntu 20.04 Kernel: Depends on container host Compiler: gcc (Ubuntu 9.4.0-1ubuntu1~20.04.2) 9.4.0 Windows Server 2022 Kernel: 10.0.20348.2031 Compiler: clang 15.0.7, gcc 14.1.0 (MinGW), and MSVC VS 19.39.33521 To view detailed results, visit: https://lab.dpdk.org/results/dashboard/patchsets/32308/ UNH-IOL DPDK Community Lab To manage your email subscriptions, visit: https://lab.dpdk.org/results/dashboard/preferences/subscriptions/