From mboxrd@z Thu Jan 1 00:00:00 1970 Return-Path: Received: from mails.dpdk.org (mails.dpdk.org [217.70.189.124]) by inbox.dpdk.org (Postfix) with ESMTP id ECEBA461A0 for ; Wed, 5 Feb 2025 18:32:43 +0100 (CET) Received: from mails.dpdk.org (localhost [127.0.0.1]) by mails.dpdk.org (Postfix) with ESMTP id E3DE7402E4; Wed, 5 Feb 2025 18:32:43 +0100 (CET) Received: from mail-pl1-f227.google.com (mail-pl1-f227.google.com [209.85.214.227]) by mails.dpdk.org (Postfix) with ESMTP id 8B03C402DC for ; Wed, 5 Feb 2025 18:32:42 +0100 (CET) Received: by mail-pl1-f227.google.com with SMTP id d9443c01a7336-21619108a6bso1185225ad.3 for ; Wed, 05 Feb 2025 09:32:42 -0800 (PST) DKIM-Signature: v=1; a=rsa-sha256; c=relaxed/relaxed; d=iol.unh.edu; s=unh-iol; t=1738776762; x=1739381562; darn=dpdk.org; h=references:in-reply-to:cc:to:from:subject:message-id:date:from:to :cc:subject:date:message-id:reply-to; bh=Q7U0VeRbogLJA8gIdxA9Rx8DZPzE9I4rBlTUxYf59VI=; b=Avu+fsinPYunLEegaadwIaafqobSVGq++vybZ5PXrSwbblZyLvr8/4KjAoLj8YYAc3 64FBuVh4yCwhX/FqfKodLGI5FRAXTSd/K0Im+2s68ub36g63FNtlo2blu3hC3LBg+DQi z/5ZrU/DjQkMKvjWeVRBqgLy+70BxzdpZRZrM= X-Google-DKIM-Signature: v=1; a=rsa-sha256; c=relaxed/relaxed; d=1e100.net; s=20230601; t=1738776762; x=1739381562; h=references:in-reply-to:cc:to:from:subject:message-id:date :x-gm-message-state:from:to:cc:subject:date:message-id:reply-to; bh=Q7U0VeRbogLJA8gIdxA9Rx8DZPzE9I4rBlTUxYf59VI=; b=DWxhbrjZMtg9OgrtT8akY34SMJipdbfXQy7FllPMpJTiscA2aIEr/Zg081quzLVKE2 PIVSSMIDY0Cu2ufz23bSTNbszfb7WcUZe+c7AIXXSmL6hxkmjLTmgkEGafK7QOFfIgJr o6yRaRashc6FzTiEcJMjJxN4EOhwIX/+fV3ror25wHwHqPMREJWjgIxWpJuCzmbEKpyY RuT9+Y1A3sK3xpjqRyqJRq+6diiO6x/5+IVz0RDXtxQKnruEmc3O7mg6qLL0nyIdLcUm E4pZWfVId+e53oGT5lUcsA9NQj0WnYv30yYvQ4aCRHaka9HwgLg6+fCdQicpltvUwXug 7b7w== X-Gm-Message-State: AOJu0YzLMqP/mtJoaGce4xhkIESGGKQp3zlM7OlzaRgmbUSQWLLZGjfW OBxT9hEMzRw2uuwOtagsKDomX3NdswduEf3SsgaJiPY1enqs/sqaGN3bwhxTasbvexAFJdTU7ec tiP2L9gLCrwQ+JtlXgiv6IOPUCcOvNraZUhFtJzJ7 X-Gm-Gg: ASbGncvnSjLbd5JNR/Q6Cd4jIxMCUsXO17vP582EUIguNu5+AsZS79W/ARw6tT0owMj E2ocgiJVb8T1SjcEDA7rBFARUMmZujBQwnSj5JKB5d7UrBbls2eU5uL8D/eE0/r4DFxQlXojnve ieUEJN17mGMZt6Qo/6ym8MkBHhhuMznFGU+/g0g3eAi7Or+srMw72PP82hOWqFWXVKIrMzRSG3C 4HO+qI0EkvJeMApyi64QOnOhyjWuf7XO5oXxQKcA+xmv7p82lZsLN/99WyA3J6vFvFhDPczoo6e OLtm/wAslLTqdibqIA1xn8unArcmDg== X-Google-Smtp-Source: AGHT+IEEWzvctoOKAfytPCd7NbtQ/OX1E9w8EeqMua41uFW6isJthOc6zK596/UMj6/rUcCmnCcL8udXINjC X-Received: by 2002:a05:6a20:c705:b0:1db:e3a2:ea47 with SMTP id adf61e73a8af0-1ede883b9e1mr6591085637.14.1738776761684; Wed, 05 Feb 2025 09:32:41 -0800 (PST) Received: from postal.iol.unh.edu (postal.iol.unh.edu. [132.177.123.84]) by smtp-relay.gmail.com with ESMTPS id 41be03b00d2f7-acebe28c37dsm774954a12.7.2025.02.05.09.32.41 (version=TLS1_2 cipher=ECDHE-ECDSA-AES128-GCM-SHA256 bits=128/128); Wed, 05 Feb 2025 09:32:41 -0800 (PST) X-Relaying-Domain: iol.unh.edu Date: Wed, 05 Feb 2025 09:32:41 -0800 (PST) Message-ID: <67a3a0b9.630a0220.3a602c.514bSMTPIN_ADDED_MISSING@mx.google.com> Received: from [172.21.0.20] (unknown [172.18.0.240]) by postal.iol.unh.edu (Postfix) with ESMTP id E37096052471; Wed, 5 Feb 2025 12:32:40 -0500 (EST) Subject: |SUCCESS| pw149904-149909 [PATCH] [v2,6/6] lib/vhost: remove check a From: dpdklab@iol.unh.edu To: Test Report Cc: dpdk-test-reports@iol.unh.edu In-Reply-To: <20250112193043.67372-7-otilibil@eurecom.fr> References: <20250112193043.67372-7-otilibil@eurecom.fr> Content-Type: text/plain X-BeenThere: test-report@dpdk.org X-Mailman-Version: 2.1.29 Precedence: list List-Id: automatic DPDK test reports List-Unsubscribe: , List-Archive: List-Post: List-Help: List-Subscribe: , Errors-To: test-report-bounces@dpdk.org Test-Label: iol-compile-amd64-testing Test-Status: SUCCESS http://dpdk.org/patch/149909 _Testing PASS_ Submitter: Ariel Otilibili-Anieli Date: Sunday, January 12 2025 19:30:43 DPDK git baseline: Repo:dpdk Branch: master CommitID:3779f70292c6b3c8fa23e6ca682876506bb08883 149904-149909 --> testing pass Test environment and result as below: +---------------------+--------------------+------------------+-------------------+-------------------+-------------------------+----------------------+ | Environment | dpdk_meson_compile | dpdk_compile_ovs | dpdk_compile_spdk | dpdk_msvc_compile | dpdk_llvm_clang_compile | dpdk_mingw64_compile | +=====================+====================+==================+===================+===================+=========================+======================+ | CentOS Stream 9 | PASS | PASS | PASS | SKIPPED | SKIPPED | SKIPPED | +---------------------+--------------------+------------------+-------------------+-------------------+-------------------------+----------------------+ | Debian 12 | PASS | PASS | PASS | SKIPPED | SKIPPED | SKIPPED | +---------------------+--------------------+------------------+-------------------+-------------------+-------------------------+----------------------+ | Debian Bullseye | PASS | PASS | PASS | SKIPPED | SKIPPED | SKIPPED | +---------------------+--------------------+------------------+-------------------+-------------------+-------------------------+----------------------+ | Fedora 40 (Clang) | PASS | PASS | PASS | SKIPPED | SKIPPED | SKIPPED | +---------------------+--------------------+------------------+-------------------+-------------------+-------------------------+----------------------+ | Fedora 41 | PASS | PASS | PASS | SKIPPED | SKIPPED | SKIPPED | +---------------------+--------------------+------------------+-------------------+-------------------+-------------------------+----------------------+ | Fedora 41 (Clang) | PASS | PASS | PASS | SKIPPED | SKIPPED | SKIPPED | +---------------------+--------------------+------------------+-------------------+-------------------+-------------------------+----------------------+ | Fedora 40 | PASS | PASS | PASS | SKIPPED | SKIPPED | SKIPPED | +---------------------+--------------------+------------------+-------------------+-------------------+-------------------------+----------------------+ | Ubuntu 24.04 | PASS | PASS | PASS | SKIPPED | SKIPPED | SKIPPED | +---------------------+--------------------+------------------+-------------------+-------------------+-------------------------+----------------------+ | RHEL9 | PASS | PASS | SKIPPED | SKIPPED | SKIPPED | SKIPPED | +---------------------+--------------------+------------------+-------------------+-------------------+-------------------------+----------------------+ | openSUSE Leap 15 | PASS | SKIPPED | SKIPPED | SKIPPED | SKIPPED | SKIPPED | +---------------------+--------------------+------------------+-------------------+-------------------+-------------------------+----------------------+ | Ubuntu 20.04 | PASS | SKIPPED | SKIPPED | SKIPPED | SKIPPED | SKIPPED | +---------------------+--------------------+------------------+-------------------+-------------------+-------------------------+----------------------+ | RHEL8 | PASS | PASS | SKIPPED | SKIPPED | SKIPPED | SKIPPED | +---------------------+--------------------+------------------+-------------------+-------------------+-------------------------+----------------------+ | Alpine | PASS | PASS | SKIPPED | SKIPPED | SKIPPED | SKIPPED | +---------------------+--------------------+------------------+-------------------+-------------------+-------------------------+----------------------+ | FreeBSD 13.4 | PASS | SKIPPED | SKIPPED | SKIPPED | SKIPPED | SKIPPED | +---------------------+--------------------+------------------+-------------------+-------------------+-------------------------+----------------------+ | FreeBSD 14.2 | PASS | SKIPPED | SKIPPED | SKIPPED | SKIPPED | SKIPPED | +---------------------+--------------------+------------------+-------------------+-------------------+-------------------------+----------------------+ | Ubuntu 22.04 | PASS | PASS | PASS | SKIPPED | SKIPPED | SKIPPED | +---------------------+--------------------+------------------+-------------------+-------------------+-------------------------+----------------------+ | Windows Server 2022 | SKIPPED | SKIPPED | SKIPPED | PASS | PASS | PASS | +---------------------+--------------------+------------------+-------------------+-------------------+-------------------------+----------------------+ CentOS Stream 9 Kernel: Depends on container host Compiler: gcc 11.5.0 20240719 (Red Hat 11.5.0-2) Debian 12 Kernel: Depends on container host Compiler: gcc (Debian 12.2.0-14) 12.2.0 Debian Bullseye Kernel: Depends on container host Compiler: gcc (Debian 10.2.1-6) 10.2.1 20210110 Fedora 40 (Clang) Kernel: Depends on container host Compiler: clang 18.1.8 (Fedora 18.1.8-1.fc40) Fedora 41 Kernel: Depends on container host Compiler: gcc 14.2.1 20240912 (Red Hat 14.2.1-3) Fedora 41 (Clang) Kernel: Depends on container host Compiler: clang 19.1.5 (Fedora 19.1.5-1.fc41) Fedora 40 Kernel: Depends on container host Compiler: gcc 14.2.1 20240912 (Red Hat 14.2.1-3) Ubuntu 24.04 Kernel: Depends on container host Compiler: gcc (Ubuntu 13.3.0-6ubuntu2~24.04) 13.3.0 RHEL9 Kernel: Depends on container host Compiler: gcc 11.5.0 20240719 (Red Hat 11.5.0-2) openSUSE Leap 15 Kernel: Depends on container host Compiler: gcc (SUSE Linux) 7.5.0 Ubuntu 20.04 Kernel: Depends on container host Compiler: gcc (Ubuntu 9.4.0-1ubuntu1~20.04.2) 9.4.0 RHEL8 Kernel: Depends on container host Compiler: gcc 8.5.0 20210514 (Red Hat 8.5.0-22) Alpine Kernel: Depends on container host Compiler: gcc (Alpine 14.2.0) 14.2.0 FreeBSD 13.4 Kernel: 13.4-RELEASE-p1 Compiler: clang 18.1.6 FreeBSD 14.2 Kernel: 14.2-RELEASE Compiler: clang 18.1.6 Ubuntu 22.04 Kernel: Depends on container host Compiler: gcc (Ubuntu 11.4.0-1ubuntu1~22.04) 11.4.0 Windows Server 2022 Kernel: 10.0.20348.2031 Compiler: clang 15.0.7, gcc 14.1.0 (MinGW), and MSVC VS 19.39.33521 To view detailed results, visit: https://lab.dpdk.org/results/dashboard/patchsets/32299/ UNH-IOL DPDK Community Lab To manage your email subscriptions, visit: https://lab.dpdk.org/results/dashboard/preferences/subscriptions/