From mboxrd@z Thu Jan  1 00:00:00 1970
Return-Path: <test-report-bounces@dpdk.org>
Received: from mails.dpdk.org (mails.dpdk.org [217.70.189.124])
	by inbox.dpdk.org (Postfix) with ESMTP id 164C6461A0
	for <public@inbox.dpdk.org>; Wed,  5 Feb 2025 18:33:39 +0100 (CET)
Received: from mails.dpdk.org (localhost [127.0.0.1])
	by mails.dpdk.org (Postfix) with ESMTP id 0599D40652;
	Wed,  5 Feb 2025 18:33:39 +0100 (CET)
Received: from mail-il1-f225.google.com (mail-il1-f225.google.com
 [209.85.166.225])
 by mails.dpdk.org (Postfix) with ESMTP id 5CD81402DC
 for <test-report@dpdk.org>; Wed,  5 Feb 2025 18:33:37 +0100 (CET)
Received: by mail-il1-f225.google.com with SMTP id
 e9e14a558f8ab-3d04d655fefso13383475ab.3
 for <test-report@dpdk.org>; Wed, 05 Feb 2025 09:33:37 -0800 (PST)
DKIM-Signature: v=1; a=rsa-sha256; c=relaxed/relaxed;
 d=iol.unh.edu; s=unh-iol; t=1738776816; x=1739381616; darn=dpdk.org;
 h=references:in-reply-to:cc:to:from:subject:message-id:date:from:to
 :cc:subject:date:message-id:reply-to;
 bh=4MeqSmY7BWCL6L8BYSxC2HMQYQdK+fdS9SFGwbv35rA=;
 b=hvj5kGyK2DxBpSbW28b2IQHymqd4zZjf5OEaouNGMiRX1iHsePrqSO2qlCgzZguinN
 w1l0CU3wGZ17qkcH+pXdFlNeQ2zdfuEPLjjE8c4pxkKgFDb6rcR/DFQO0G2zyeeSvMxO
 lXhnyeeCvfLOlwrX2g6b38/AuFSvCYVAiWe3k=
X-Google-DKIM-Signature: v=1; a=rsa-sha256; c=relaxed/relaxed;
 d=1e100.net; s=20230601; t=1738776816; x=1739381616;
 h=references:in-reply-to:cc:to:from:subject:message-id:date
 :x-gm-message-state:from:to:cc:subject:date:message-id:reply-to;
 bh=4MeqSmY7BWCL6L8BYSxC2HMQYQdK+fdS9SFGwbv35rA=;
 b=WeDY2T7dFA6sjQ1w5gH51CO+zwmsF2CZile+M5fKosP/ZcmJYl/+UJnGLqrMyZKHOU
 DUoTFPEYRPt3LGRSH1gPw8LijXb3H8gv5naOqlh8vsL8B7aAZmaPD2vEwhZAe9YeWSm/
 ouFcwwBDS/u8iGyV6LZLhNwTVWUqsbo2XHUxIKu0CEnm7XmeLOC9RNTJ+nlVMyEX2ELF
 04D6Un9IwpXsTbEqTnVM8sBPxrsTOkovNc7GUAvuKs4kjuH1Euk7YfkcGc8ksvUzpZlm
 5XNIFC23kE4g0AoyjKUBxQW95MBY1y2Dj+EOeHbxMz46LKJ9CF48zh9PrO/25vK7uXFu
 PJ3A==
X-Gm-Message-State: AOJu0Yya4VcPiojXE2WtovxAyjm1n+2cyxkAMhZ1UuA9oelswaqP7MNK
 2UAqrL6SfpWVCK5ocZyTAby8cFnZ7Xs/FdlEjYxTXLRT8WxIuI2mI5Obaxiq2FDunFEkEtUC+a3
 2bkRXjehSwmyHOqdTyCsSboUPNP44kXoKxkrYSlfJ1vP1jLmIlnBwjqR1
X-Gm-Gg: ASbGncts8Nj+ML1gYlMng7DXlRLhHo6AFwBkuTkgnQHbbTF5SzmM6uHjidb9q5oKD3j
 PygmD7+U5Pzq3Y25YGEsuIm4a9T1xQN3sVTx3AeappzbzZCDEo1RFjHDHmOJkIxfROELfOEX0mw
 wQsdc/H1GcTPZkIPbxUprM+gFMh0+JUvd/4uGiD/9oPja3v1cj7wWYn6Uo+QGZ2ejBBwS0s6v66
 riTIVs9tq5b37uyAl2hIswQrj2/8WMBjnT7BQ6W52JVWxgo+0fLaMyLdqCLStwIPshjrHnyqY5W
 tKMrOC8e+ZPHVS0kIESBAaSPUGyCLhP93pBLeMRQEg==
X-Google-Smtp-Source: AGHT+IE+BlIhOF8U1PV/zOnLlfDT8sbrvcLg9vi2xZUVVfLJfZLajGAB54WjkjpPacplpUZlWaxXVmz04a1a
X-Received: by 2002:a05:6e02:1d1a:b0:3cf:ce7c:b8b1 with SMTP id
 e9e14a558f8ab-3d04f8f4da6mr34582885ab.18.1738776816711; 
 Wed, 05 Feb 2025 09:33:36 -0800 (PST)
Received: from postal.iol.unh.edu (postal.iol.unh.edu.
 [2606:4100:3880:1234::84]) by smtp-relay.gmail.com with ESMTPS id
 8926c6da1cb9f-4ec74591708sm849010173.4.2025.02.05.09.33.36
 (version=TLS1_2 cipher=ECDHE-ECDSA-AES128-GCM-SHA256 bits=128/128);
 Wed, 05 Feb 2025 09:33:36 -0800 (PST)
X-Relaying-Domain: iol.unh.edu
Date: Wed, 05 Feb 2025 09:33:36 -0800 (PST)
Message-ID: <67a3a0f0.050a0220.2b4c18.903fSMTPIN_ADDED_MISSING@mx.google.com>
Received: from [172.21.0.17] (unknown [172.18.0.240])
 by postal.iol.unh.edu (Postfix) with ESMTP id 5942A6052471;
 Wed,  5 Feb 2025 12:33:36 -0500 (EST)
Subject: |SUCCESS| pw150207-150208 [PATCH] [v15,3/3] drivers/net: add diagnos
From: dpdklab@iol.unh.edu
To: Test Report <test-report@dpdk.org>
Cc: dpdk-test-reports@iol.unh.edu
In-Reply-To: <1737237314-9844-4-git-send-email-andremue@linux.microsoft.com>
References: <1737237314-9844-4-git-send-email-andremue@linux.microsoft.com>
Content-Type: text/plain
X-BeenThere: test-report@dpdk.org
X-Mailman-Version: 2.1.29
Precedence: list
List-Id: automatic DPDK test reports <test-report.dpdk.org>
List-Unsubscribe: <https://mails.dpdk.org/options/test-report>,
 <mailto:test-report-request@dpdk.org?subject=unsubscribe>
List-Archive: <http://mails.dpdk.org/archives/test-report/>
List-Post: <mailto:test-report@dpdk.org>
List-Help: <mailto:test-report-request@dpdk.org?subject=help>
List-Subscribe: <https://mails.dpdk.org/listinfo/test-report>,
 <mailto:test-report-request@dpdk.org?subject=subscribe>
Errors-To: test-report-bounces@dpdk.org

Test-Label: iol-compile-amd64-testing
Test-Status: SUCCESS
http://dpdk.org/patch/150208

_Testing PASS_

Submitter: Andre Muezerie <andremue@linux.microsoft.com>
Date: Saturday, January 18 2025 21:55:14 
DPDK git baseline: Repo:dpdk
  Branch: master
  CommitID:06e2856620a70000b2a28f0ea715fc247b85fd8d

150207-150208 --> testing pass

Test environment and result as below:

+---------------------+--------------------+------------------+-------------------+-------------------------+-------------------+----------------------+
|     Environment     | dpdk_meson_compile | dpdk_compile_ovs | dpdk_compile_spdk | dpdk_llvm_clang_compile | dpdk_msvc_compile | dpdk_mingw64_compile |
+=====================+====================+==================+===================+=========================+===================+======================+
| CentOS Stream 9     | PASS               | PASS             | PASS              | SKIPPED                 | SKIPPED           | SKIPPED              |
+---------------------+--------------------+------------------+-------------------+-------------------------+-------------------+----------------------+
| Debian Bullseye     | PASS               | PASS             | PASS              | SKIPPED                 | SKIPPED           | SKIPPED              |
+---------------------+--------------------+------------------+-------------------+-------------------------+-------------------+----------------------+
| Debian 12           | PASS               | PASS             | PASS              | SKIPPED                 | SKIPPED           | SKIPPED              |
+---------------------+--------------------+------------------+-------------------+-------------------------+-------------------+----------------------+
| Fedora 41           | PASS               | PASS             | PASS              | SKIPPED                 | SKIPPED           | SKIPPED              |
+---------------------+--------------------+------------------+-------------------+-------------------------+-------------------+----------------------+
| Fedora 40           | PASS               | PASS             | PASS              | SKIPPED                 | SKIPPED           | SKIPPED              |
+---------------------+--------------------+------------------+-------------------+-------------------------+-------------------+----------------------+
| Fedora 41 (Clang)   | PASS               | PASS             | PASS              | SKIPPED                 | SKIPPED           | SKIPPED              |
+---------------------+--------------------+------------------+-------------------+-------------------------+-------------------+----------------------+
| Fedora 40 (Clang)   | PASS               | PASS             | PASS              | SKIPPED                 | SKIPPED           | SKIPPED              |
+---------------------+--------------------+------------------+-------------------+-------------------------+-------------------+----------------------+
| RHEL9               | PASS               | PASS             | SKIPPED           | SKIPPED                 | SKIPPED           | SKIPPED              |
+---------------------+--------------------+------------------+-------------------+-------------------------+-------------------+----------------------+
| Ubuntu 22.04        | PASS               | PASS             | PASS              | SKIPPED                 | SKIPPED           | SKIPPED              |
+---------------------+--------------------+------------------+-------------------+-------------------------+-------------------+----------------------+
| RHEL8               | PASS               | PASS             | SKIPPED           | SKIPPED                 | SKIPPED           | SKIPPED              |
+---------------------+--------------------+------------------+-------------------+-------------------------+-------------------+----------------------+
| openSUSE Leap 15    | PASS               | SKIPPED          | SKIPPED           | SKIPPED                 | SKIPPED           | SKIPPED              |
+---------------------+--------------------+------------------+-------------------+-------------------------+-------------------+----------------------+
| Ubuntu 24.04        | PASS               | PASS             | PASS              | SKIPPED                 | SKIPPED           | SKIPPED              |
+---------------------+--------------------+------------------+-------------------+-------------------------+-------------------+----------------------+
| Alpine              | PASS               | PASS             | SKIPPED           | SKIPPED                 | SKIPPED           | SKIPPED              |
+---------------------+--------------------+------------------+-------------------+-------------------------+-------------------+----------------------+
| FreeBSD 13.4        | PASS               | SKIPPED          | SKIPPED           | SKIPPED                 | SKIPPED           | SKIPPED              |
+---------------------+--------------------+------------------+-------------------+-------------------------+-------------------+----------------------+
| FreeBSD 14.2        | PASS               | SKIPPED          | SKIPPED           | SKIPPED                 | SKIPPED           | SKIPPED              |
+---------------------+--------------------+------------------+-------------------+-------------------------+-------------------+----------------------+
| Ubuntu 20.04        | PASS               | SKIPPED          | SKIPPED           | SKIPPED                 | SKIPPED           | SKIPPED              |
+---------------------+--------------------+------------------+-------------------+-------------------------+-------------------+----------------------+
| Windows Server 2022 | SKIPPED            | SKIPPED          | SKIPPED           | PASS                    | PASS              | PASS                 |
+---------------------+--------------------+------------------+-------------------+-------------------------+-------------------+----------------------+


CentOS Stream 9
	Kernel: Depends on container host
	Compiler: gcc 11.5.0 20240719 (Red Hat 11.5.0-2)

Debian Bullseye
	Kernel: Depends on container host
	Compiler: gcc (Debian 10.2.1-6) 10.2.1 20210110

Debian 12
	Kernel: Depends on container host
	Compiler: gcc (Debian 12.2.0-14) 12.2.0

Fedora 41
	Kernel: Depends on container host
	Compiler: gcc 14.2.1 20240912 (Red Hat 14.2.1-3)

Fedora 40
	Kernel: Depends on container host
	Compiler: gcc 14.2.1 20240912 (Red Hat 14.2.1-3)

Fedora 41 (Clang)
	Kernel: Depends on container host
	Compiler: clang 19.1.5 (Fedora 19.1.5-1.fc41)

Fedora 40 (Clang)
	Kernel: Depends on container host
	Compiler: clang 18.1.8 (Fedora 18.1.8-1.fc40)

RHEL9
	Kernel: Depends on container host
	Compiler: gcc 11.5.0 20240719 (Red Hat 11.5.0-2)

Ubuntu 22.04
	Kernel: Depends on container host
	Compiler: gcc (Ubuntu 11.4.0-1ubuntu1~22.04) 11.4.0

RHEL8
	Kernel: Depends on container host
	Compiler: gcc 8.5.0 20210514 (Red Hat 8.5.0-22)

openSUSE Leap 15
	Kernel: Depends on container host
	Compiler: gcc (SUSE Linux) 7.5.0

Ubuntu 24.04
	Kernel: Depends on container host
	Compiler: gcc (Ubuntu 13.3.0-6ubuntu2~24.04) 13.3.0

Alpine
	Kernel: Depends on container host
	Compiler: gcc (Alpine 14.2.0) 14.2.0

FreeBSD 13.4
	Kernel: 13.4-RELEASE-p1
	Compiler: clang 18.1.6

FreeBSD 14.2
	Kernel: 14.2-RELEASE
	Compiler: clang 18.1.6

Ubuntu 20.04
	Kernel: Depends on container host
	Compiler: gcc (Ubuntu 9.4.0-1ubuntu1~20.04.2) 9.4.0

Windows Server 2022
	Kernel: 10.0.20348.2031
	Compiler: clang 15.0.7, gcc 14.1.0 (MinGW), and MSVC VS 19.39.33521

To view detailed results, visit:
https://lab.dpdk.org/results/dashboard/patchsets/32365/

UNH-IOL DPDK Community Lab

To manage your email subscriptions, visit: 
https://lab.dpdk.org/results/dashboard/preferences/subscriptions/