From mboxrd@z Thu Jan 1 00:00:00 1970 Return-Path: Received: from mails.dpdk.org (mails.dpdk.org [217.70.189.124]) by inbox.dpdk.org (Postfix) with ESMTP id 39B79461A0 for ; Wed, 5 Feb 2025 18:34:02 +0100 (CET) Received: from mails.dpdk.org (localhost [127.0.0.1]) by mails.dpdk.org (Postfix) with ESMTP id 36D48402EF; Wed, 5 Feb 2025 18:34:02 +0100 (CET) Received: from mail-io1-f97.google.com (mail-io1-f97.google.com [209.85.166.97]) by mails.dpdk.org (Postfix) with ESMTP id 95FAC402EF for ; Wed, 5 Feb 2025 18:34:00 +0100 (CET) Received: by mail-io1-f97.google.com with SMTP id ca18e2360f4ac-844d555491eso2603639f.0 for ; Wed, 05 Feb 2025 09:34:00 -0800 (PST) DKIM-Signature: v=1; a=rsa-sha256; c=relaxed/relaxed; d=iol.unh.edu; s=unh-iol; t=1738776840; x=1739381640; darn=dpdk.org; h=references:in-reply-to:cc:to:from:subject:message-id:date:from:to :cc:subject:date:message-id:reply-to; bh=KSGo2dwMeTo18JKgLSvsywzRQ2tuQ/dxhnP4rM9BVxo=; b=CnBdQy1dqNt7m9IzPeG17ZCtLQa0hvFI0VdRO+IFhUygqYjL8bEJX8rCiQekDguBtD OLB2zAnHE2ALWqACZ1WefX+Zoap3n15Dy2S7uIb22vbD/IicxXxfXJ9Q04HCeyMtTc7y 3E+734574e/oINQjshPzVF9JaWt3DKMcl6aWw= X-Google-DKIM-Signature: v=1; a=rsa-sha256; c=relaxed/relaxed; d=1e100.net; s=20230601; t=1738776840; x=1739381640; h=references:in-reply-to:cc:to:from:subject:message-id:date :x-gm-message-state:from:to:cc:subject:date:message-id:reply-to; bh=KSGo2dwMeTo18JKgLSvsywzRQ2tuQ/dxhnP4rM9BVxo=; b=lQAwQDT6YHA06tMIRV8VPJ4i+V+f99Qq1EGzPR5Oums5Rz/anXMD9eyIDCOKL1cppM Xk1TPhFrWnWajQBucIAvq2ePFKWJxEV1cFpPilsAIxDtcHsd1aa9x8+FwQWACotTYczZ 6jvHJwDRN+TwQEI6eL52oJXRegte2YUhs76d1P5vPFu486BTKf0K+Y9sIh07YjDjPFT/ Q6gLQrvycNDSHiIWldyIJHZUPavznngtcOdieN56hP0nKgQi5MzcrnBGjh3eSSYjWURy t6wETBMM9nmN12MB5oUYD0oCA9P0hYhhj/vjXHPW3pCRnAoK43VsaCsJuoT+f6BlsxPx UWNg== X-Gm-Message-State: AOJu0YwHT3TwjpGjHq/W8PBJki4NTXEoNe6h2CdGti/4LxILARz+tpZO 5l85iO3Z7ApykAduiHg07ROPgY9R35LqjB9FrOh9AyxR2u1znZszQtN7JxkoROwy/RWHt3thU0Y sKOQXGzFOcX30GzyFVgenZdwmmTAhoakJ4M42Whsg X-Gm-Gg: ASbGncvMXzjtSCKx8foPy9HSbThPBoKKpin8Tu9INuPyTnqP8VmhZ6SUJllgGhgkqHN 7S7x2HkBMhDj0FxY+DJPDnJhNzRabR89l418ccbIhmUo+UZy1lXr/+G13M8l7LFn285IRp4Tobw JTzK+HJjuldLz/uFbyZ+21zi3BnCPF+S9Nvb6gErXA5vRqSVawmOly+1hQykVP9UDwrr8YVtFnA 7RfnPSg34DYRR0eGinbrBlJ/+QAZWPqGLI1uOhJAkGB/cjgZibhaSVMsEHGy+Pdlw1mqbj8seDr rDXdfgOnAxVb8hPyGHtuu8EWTupj2A== X-Google-Smtp-Source: AGHT+IGkJhKD52P5tW/F2BPKTcW+cKuJ/gMQI/75LT9sXuZ8CEIMNoFHTCJehivluH5a76AambQ8SmEn0KkV X-Received: by 2002:a05:6602:c81:b0:851:f176:97fe with SMTP id ca18e2360f4ac-854ea4488d1mr437125039f.6.1738776839944; Wed, 05 Feb 2025 09:33:59 -0800 (PST) Received: from postal.iol.unh.edu (postal.iol.unh.edu. [132.177.123.84]) by smtp-relay.gmail.com with ESMTPS id 8926c6da1cb9f-4ec745d3b1asm854993173.41.2025.02.05.09.33.59 (version=TLS1_2 cipher=ECDHE-ECDSA-AES128-GCM-SHA256 bits=128/128); Wed, 05 Feb 2025 09:33:59 -0800 (PST) X-Relaying-Domain: iol.unh.edu Date: Wed, 05 Feb 2025 09:33:59 -0800 (PST) Message-ID: <67a3a107.050a0220.39fc7b.80d9SMTPIN_ADDED_MISSING@mx.google.com> Received: from [172.17.0.5] (unknown [172.18.0.217]) by postal.iol.unh.edu (Postfix) with ESMTP id 8E0AC6052471; Wed, 5 Feb 2025 12:33:59 -0500 (EST) Subject: |SUCCESS| pw150212-150225 [PATCH] [v8,15/15] net/zxdh: mtu update op From: dpdklab@iol.unh.edu To: Test Report Cc: dpdk-test-reports@iol.unh.edu In-Reply-To: <20250120034723.2980928-16-wang.junlong1@zte.com.cn> References: <20250120034723.2980928-16-wang.junlong1@zte.com.cn> Content-Type: text/plain X-BeenThere: test-report@dpdk.org X-Mailman-Version: 2.1.29 Precedence: list List-Id: automatic DPDK test reports List-Unsubscribe: , List-Archive: List-Post: List-Help: List-Subscribe: , Errors-To: test-report-bounces@dpdk.org Test-Label: iol-compile-amd64-testing Test-Status: SUCCESS http://dpdk.org/patch/150225 _Testing PASS_ Submitter: Junlong Wang Date: Monday, January 20 2025 03:47:23 DPDK git baseline: Repo:dpdk Branch: master CommitID:bd8b5185d3e9737ab05c8e30155004b63d1a36bc 150212-150225 --> testing pass Test environment and result as below: +---------------------+--------------------+------------------+-------------------+-------------------------+-------------------+----------------------+ | Environment | dpdk_meson_compile | dpdk_compile_ovs | dpdk_compile_spdk | dpdk_llvm_clang_compile | dpdk_msvc_compile | dpdk_mingw64_compile | +=====================+====================+==================+===================+=========================+===================+======================+ | CentOS Stream 9 | PASS | PASS | PASS | SKIPPED | SKIPPED | SKIPPED | +---------------------+--------------------+------------------+-------------------+-------------------------+-------------------+----------------------+ | Fedora 40 (Clang) | PASS | PASS | PASS | SKIPPED | SKIPPED | SKIPPED | +---------------------+--------------------+------------------+-------------------+-------------------------+-------------------+----------------------+ | Debian Bullseye | PASS | PASS | PASS | SKIPPED | SKIPPED | SKIPPED | +---------------------+--------------------+------------------+-------------------+-------------------------+-------------------+----------------------+ | Fedora 41 | PASS | PASS | PASS | SKIPPED | SKIPPED | SKIPPED | +---------------------+--------------------+------------------+-------------------+-------------------------+-------------------+----------------------+ | Fedora 40 | PASS | PASS | PASS | SKIPPED | SKIPPED | SKIPPED | +---------------------+--------------------+------------------+-------------------+-------------------------+-------------------+----------------------+ | Fedora 41 (Clang) | PASS | PASS | PASS | SKIPPED | SKIPPED | SKIPPED | +---------------------+--------------------+------------------+-------------------+-------------------------+-------------------+----------------------+ | Debian 12 | PASS | PASS | PASS | SKIPPED | SKIPPED | SKIPPED | +---------------------+--------------------+------------------+-------------------+-------------------------+-------------------+----------------------+ | openSUSE Leap 15 | PASS | SKIPPED | SKIPPED | SKIPPED | SKIPPED | SKIPPED | +---------------------+--------------------+------------------+-------------------+-------------------------+-------------------+----------------------+ | Ubuntu 20.04 | PASS | SKIPPED | SKIPPED | SKIPPED | SKIPPED | SKIPPED | +---------------------+--------------------+------------------+-------------------+-------------------------+-------------------+----------------------+ | RHEL8 | PASS | PASS | SKIPPED | SKIPPED | SKIPPED | SKIPPED | +---------------------+--------------------+------------------+-------------------+-------------------------+-------------------+----------------------+ | RHEL9 | PASS | PASS | SKIPPED | SKIPPED | SKIPPED | SKIPPED | +---------------------+--------------------+------------------+-------------------+-------------------------+-------------------+----------------------+ | Ubuntu 22.04 | PASS | PASS | PASS | SKIPPED | SKIPPED | SKIPPED | +---------------------+--------------------+------------------+-------------------+-------------------------+-------------------+----------------------+ | Alpine | PASS | PASS | SKIPPED | SKIPPED | SKIPPED | SKIPPED | +---------------------+--------------------+------------------+-------------------+-------------------------+-------------------+----------------------+ | Ubuntu 24.04 | PASS | PASS | PASS | SKIPPED | SKIPPED | SKIPPED | +---------------------+--------------------+------------------+-------------------+-------------------------+-------------------+----------------------+ | FreeBSD 13.4 | PASS | SKIPPED | SKIPPED | SKIPPED | SKIPPED | SKIPPED | +---------------------+--------------------+------------------+-------------------+-------------------------+-------------------+----------------------+ | FreeBSD 14.2 | PASS | SKIPPED | SKIPPED | SKIPPED | SKIPPED | SKIPPED | +---------------------+--------------------+------------------+-------------------+-------------------------+-------------------+----------------------+ | Windows Server 2022 | SKIPPED | SKIPPED | SKIPPED | PASS | PASS | PASS | +---------------------+--------------------+------------------+-------------------+-------------------------+-------------------+----------------------+ CentOS Stream 9 Kernel: Depends on container host Compiler: gcc 11.5.0 20240719 (Red Hat 11.5.0-2) Fedora 40 (Clang) Kernel: Depends on container host Compiler: clang 18.1.8 (Fedora 18.1.8-1.fc40) Debian Bullseye Kernel: Depends on container host Compiler: gcc (Debian 10.2.1-6) 10.2.1 20210110 Fedora 41 Kernel: Depends on container host Compiler: gcc 14.2.1 20240912 (Red Hat 14.2.1-3) Fedora 40 Kernel: Depends on container host Compiler: gcc 14.2.1 20240912 (Red Hat 14.2.1-3) Fedora 41 (Clang) Kernel: Depends on container host Compiler: clang 19.1.5 (Fedora 19.1.5-1.fc41) Debian 12 Kernel: Depends on container host Compiler: gcc (Debian 12.2.0-14) 12.2.0 openSUSE Leap 15 Kernel: Depends on container host Compiler: gcc (SUSE Linux) 7.5.0 Ubuntu 20.04 Kernel: Depends on container host Compiler: gcc (Ubuntu 9.4.0-1ubuntu1~20.04.2) 9.4.0 RHEL8 Kernel: Depends on container host Compiler: gcc 8.5.0 20210514 (Red Hat 8.5.0-22) RHEL9 Kernel: Depends on container host Compiler: gcc 11.5.0 20240719 (Red Hat 11.5.0-2) Ubuntu 22.04 Kernel: Depends on container host Compiler: gcc (Ubuntu 11.4.0-1ubuntu1~22.04) 11.4.0 Alpine Kernel: Depends on container host Compiler: gcc (Alpine 14.2.0) 14.2.0 Ubuntu 24.04 Kernel: Depends on container host Compiler: gcc (Ubuntu 13.3.0-6ubuntu2~24.04) 13.3.0 FreeBSD 13.4 Kernel: 13.4-RELEASE-p1 Compiler: clang 18.1.6 FreeBSD 14.2 Kernel: 14.2-RELEASE Compiler: clang 18.1.6 Windows Server 2022 Kernel: 10.0.20348.2031 Compiler: clang 15.0.7, gcc 14.1.0 (MinGW), and MSVC VS 19.39.33521 To view detailed results, visit: https://lab.dpdk.org/results/dashboard/patchsets/32367/ UNH-IOL DPDK Community Lab To manage your email subscriptions, visit: https://lab.dpdk.org/results/dashboard/preferences/subscriptions/