From mboxrd@z Thu Jan 1 00:00:00 1970 Return-Path: Received: from mails.dpdk.org (mails.dpdk.org [217.70.189.124]) by inbox.dpdk.org (Postfix) with ESMTP id BEA68461A0 for ; Wed, 5 Feb 2025 18:35:07 +0100 (CET) Received: from mails.dpdk.org (localhost [127.0.0.1]) by mails.dpdk.org (Postfix) with ESMTP id B9FFA402E0; Wed, 5 Feb 2025 18:35:07 +0100 (CET) Received: from mail-pl1-f228.google.com (mail-pl1-f228.google.com [209.85.214.228]) by mails.dpdk.org (Postfix) with ESMTP id 9DE26402DC for ; Wed, 5 Feb 2025 18:35:06 +0100 (CET) Received: by mail-pl1-f228.google.com with SMTP id d9443c01a7336-21f0444b478so1325215ad.0 for ; Wed, 05 Feb 2025 09:35:06 -0800 (PST) DKIM-Signature: v=1; a=rsa-sha256; c=relaxed/relaxed; d=iol.unh.edu; s=unh-iol; t=1738776906; x=1739381706; darn=dpdk.org; h=references:in-reply-to:cc:to:from:subject:message-id:date:from:to :cc:subject:date:message-id:reply-to; bh=UL+GakxZ75cYWeUbhZbfe8YeTOFQRRi0MChshF6F0Ys=; b=b0aH24K5AJl4k48/zFlkZOmq3S443nJTk1MGtJ3tKMC9qfYbHcmyPdRxhn5EthuZ2w Q1rIeaNjxiasgGSwPFJZ+tlKhwF9Bwfisjcai0rzNkDbhncNu5/GCsGCnbodOHnP9HsO enDTPSs7CFURcYdHcur44mMVaVKlWqfvNO5IY= X-Google-DKIM-Signature: v=1; a=rsa-sha256; c=relaxed/relaxed; d=1e100.net; s=20230601; t=1738776906; x=1739381706; h=references:in-reply-to:cc:to:from:subject:message-id:date :x-gm-message-state:from:to:cc:subject:date:message-id:reply-to; bh=UL+GakxZ75cYWeUbhZbfe8YeTOFQRRi0MChshF6F0Ys=; b=M7Cv7UepKiaw43pI0Wh4924dQ23mWZSAnB2i+h9CV8XVUJOhqd9ynlUm6MqNp8ERRT o+N0FgleioKW6t93dYYpUWNFoVs025MUVHPCjMCMvjM1/qokcE0yLc5qxkXNpzkHN5Mr XEsjxqNNb3d06LdGLeQpa08fcsZOQqRVQBsR8aq1vUOzNgZdVu3crSIe2SeOdNqwKiUz 7b7gDEYIBZPKqzaHMXRDSDECCC22I6Clgw8hTkFYjSDk994ASzi+X67jZiaNcpV0Tk9M 9xoe2m0eewMP7Y7F+PH5PETH0Me8jRUkEZ446lK9M8sw4+F7DuT7cegJBmyw0NuaRlRX QVjQ== X-Gm-Message-State: AOJu0YwKzQnTFFeCvnkgoXxx7+CsB2SL9u4DPlh7Ja012D72BaPTWKl/ uDUWxWk8UnE0HX0A85fHJZ5wmBRxNzpIK0ejMTpNsGl6cdi8WWDbNQtOVOky+qHXUCHN2zvt9A3 J7qmhHMULDvS6CldgfffdOMaJ7DaC9zKV51ypxzJd3Cir72Ems+eFy0z2 X-Gm-Gg: ASbGncsb4mBFbrWkXI9JeZDbMmsbIditOYzXFl4/kiM+1Eug2ujFf365gmZAm75HO/h GN3rQmzW5Vq9uzh+yCiGDcC+dQWxS6KgNfCpc5CdCc6oEaTu/TtVWFbmij8GQJqQKnM+NLDdoqY 8q/h2gJ0ogS7IYTAGPXYClEOx8RlK9IGBA4qhJY9VvyBKH7dYGQR3Bzz2AfaUVsgRXD74tjep8p 0A7GzrHOP2BMvBr7sk7tiQ4AMIJix/+D8FBsaB97fdZjeUZGCMohl5cQdivOHbCswA5ZuiI5cI6 4oiEq0Bsbt0jzyy+vILumW3frt4IJox22uTT6V+irg== X-Google-Smtp-Source: AGHT+IHp2teB8cRZh5yALDwAZMPM3Q+QZjD77WDxgWjhL2TU7EPwxsgJ2MYvRO7uzNtskCVTO4ZyusSW45Lw X-Received: by 2002:a17:903:18f:b0:21a:8300:b9d5 with SMTP id d9443c01a7336-21f17e73fa6mr58752275ad.23.1738776905707; Wed, 05 Feb 2025 09:35:05 -0800 (PST) Received: from postal.iol.unh.edu (postal.iol.unh.edu. [2606:4100:3880:1234::84]) by smtp-relay.gmail.com with ESMTPS id d9443c01a7336-21de332522dsm6592745ad.75.2025.02.05.09.35.05 (version=TLS1_2 cipher=ECDHE-ECDSA-AES128-GCM-SHA256 bits=128/128); Wed, 05 Feb 2025 09:35:05 -0800 (PST) X-Relaying-Domain: iol.unh.edu Date: Wed, 05 Feb 2025 09:35:05 -0800 (PST) Message-ID: <67a3a149.170a0220.1d8684.da23SMTPIN_ADDED_MISSING@mx.google.com> Received: from [172.17.0.3] (unknown [172.18.0.213]) by postal.iol.unh.edu (Postfix) with ESMTP id 2697E6052471; Wed, 5 Feb 2025 12:35:05 -0500 (EST) Subject: |SUCCESS| pw150260-150284 [PATCH] [v5,25/25] net/intel/common: extra From: dpdklab@iol.unh.edu To: Test Report Cc: dpdk-test-reports@iol.unh.edu In-Reply-To: <20250120120016.1530274-26-bruce.richardson@intel.com> References: <20250120120016.1530274-26-bruce.richardson@intel.com> Content-Type: text/plain X-BeenThere: test-report@dpdk.org X-Mailman-Version: 2.1.29 Precedence: list List-Id: automatic DPDK test reports List-Unsubscribe: , List-Archive: List-Post: List-Help: List-Subscribe: , Errors-To: test-report-bounces@dpdk.org Test-Label: iol-compile-amd64-testing Test-Status: SUCCESS http://dpdk.org/patch/150284 _Testing PASS_ Submitter: Bruce Richardson Date: Monday, January 20 2025 12:00:07 DPDK git baseline: Repo:dpdk Branch: master CommitID:6d7e741be18ab1e6ecce46edb2516318305c3c73 150260-150284 --> testing pass Test environment and result as below: +---------------------+--------------------+------------------+-------------------+-------------------+-------------------------+ | Environment | dpdk_meson_compile | dpdk_compile_ovs | dpdk_compile_spdk | dpdk_msvc_compile | dpdk_llvm_clang_compile | +=====================+====================+==================+===================+===================+=========================+ | CentOS Stream 9 | PASS | PASS | PASS | SKIPPED | SKIPPED | +---------------------+--------------------+------------------+-------------------+-------------------+-------------------------+ | Debian 12 | PASS | PASS | PASS | SKIPPED | SKIPPED | +---------------------+--------------------+------------------+-------------------+-------------------+-------------------------+ | Debian Bullseye | PASS | PASS | PASS | SKIPPED | SKIPPED | +---------------------+--------------------+------------------+-------------------+-------------------+-------------------------+ | Ubuntu 20.04 | PASS | SKIPPED | SKIPPED | SKIPPED | SKIPPED | +---------------------+--------------------+------------------+-------------------+-------------------+-------------------------+ | Fedora 41 | PASS | PASS | PASS | SKIPPED | SKIPPED | +---------------------+--------------------+------------------+-------------------+-------------------+-------------------------+ | Fedora 40 (Clang) | PASS | PASS | PASS | SKIPPED | SKIPPED | +---------------------+--------------------+------------------+-------------------+-------------------+-------------------------+ | Fedora 40 | PASS | PASS | PASS | SKIPPED | SKIPPED | +---------------------+--------------------+------------------+-------------------+-------------------+-------------------------+ | Fedora 41 (Clang) | PASS | PASS | PASS | SKIPPED | SKIPPED | +---------------------+--------------------+------------------+-------------------+-------------------+-------------------------+ | Ubuntu 22.04 | PASS | PASS | PASS | SKIPPED | SKIPPED | +---------------------+--------------------+------------------+-------------------+-------------------+-------------------------+ | Ubuntu 24.04 | PASS | PASS | PASS | SKIPPED | SKIPPED | +---------------------+--------------------+------------------+-------------------+-------------------+-------------------------+ | openSUSE Leap 15 | PASS | SKIPPED | SKIPPED | SKIPPED | SKIPPED | +---------------------+--------------------+------------------+-------------------+-------------------+-------------------------+ | RHEL8 | PASS | PASS | SKIPPED | SKIPPED | SKIPPED | +---------------------+--------------------+------------------+-------------------+-------------------+-------------------------+ | RHEL9 | PASS | PASS | SKIPPED | SKIPPED | SKIPPED | +---------------------+--------------------+------------------+-------------------+-------------------+-------------------------+ | Alpine | PASS | PASS | SKIPPED | SKIPPED | SKIPPED | +---------------------+--------------------+------------------+-------------------+-------------------+-------------------------+ | FreeBSD 13.4 | PASS | SKIPPED | SKIPPED | SKIPPED | SKIPPED | +---------------------+--------------------+------------------+-------------------+-------------------+-------------------------+ | FreeBSD 14.2 | PASS | SKIPPED | SKIPPED | SKIPPED | SKIPPED | +---------------------+--------------------+------------------+-------------------+-------------------+-------------------------+ | Windows Server 2022 | SKIPPED | SKIPPED | SKIPPED | PASS | PASS | +---------------------+--------------------+------------------+-------------------+-------------------+-------------------------+ CentOS Stream 9 Kernel: Depends on container host Compiler: gcc 11.5.0 20240719 (Red Hat 11.5.0-2) Debian 12 Kernel: Depends on container host Compiler: gcc (Debian 12.2.0-14) 12.2.0 Debian Bullseye Kernel: Depends on container host Compiler: gcc (Debian 10.2.1-6) 10.2.1 20210110 Ubuntu 20.04 Kernel: Depends on container host Compiler: gcc (Ubuntu 9.4.0-1ubuntu1~20.04.2) 9.4.0 Fedora 41 Kernel: Depends on container host Compiler: gcc 14.2.1 20240912 (Red Hat 14.2.1-3) Fedora 40 (Clang) Kernel: Depends on container host Compiler: clang 18.1.8 (Fedora 18.1.8-1.fc40) Fedora 40 Kernel: Depends on container host Compiler: gcc 14.2.1 20240912 (Red Hat 14.2.1-3) Fedora 41 (Clang) Kernel: Depends on container host Compiler: clang 19.1.5 (Fedora 19.1.5-1.fc41) Ubuntu 22.04 Kernel: Depends on container host Compiler: gcc (Ubuntu 11.4.0-1ubuntu1~22.04) 11.4.0 Ubuntu 24.04 Kernel: Depends on container host Compiler: gcc (Ubuntu 13.3.0-6ubuntu2~24.04) 13.3.0 openSUSE Leap 15 Kernel: Depends on container host Compiler: gcc (SUSE Linux) 7.5.0 RHEL8 Kernel: Depends on container host Compiler: gcc 8.5.0 20210514 (Red Hat 8.5.0-22) RHEL9 Kernel: Depends on container host Compiler: gcc 11.5.0 20240719 (Red Hat 11.5.0-2) Alpine Kernel: Depends on container host Compiler: gcc (Alpine 14.2.0) 14.2.0 FreeBSD 13.4 Kernel: 13.4-RELEASE-p1 Compiler: clang 18.1.6 FreeBSD 14.2 Kernel: 14.2-RELEASE Compiler: clang 18.1.6 Windows Server 2022 Kernel: 10.0.20348.2031 Compiler: clang 15.0.7, gcc 14.1.0 (MinGW), and MSVC VS 19.39.33521 To view detailed results, visit: https://lab.dpdk.org/results/dashboard/patchsets/32373/ UNH-IOL DPDK Community Lab To manage your email subscriptions, visit: https://lab.dpdk.org/results/dashboard/preferences/subscriptions/