From mboxrd@z Thu Jan 1 00:00:00 1970 Return-Path: Received: from mails.dpdk.org (mails.dpdk.org [217.70.189.124]) by inbox.dpdk.org (Postfix) with ESMTP id EFE7D461A0 for ; Wed, 5 Feb 2025 18:35:43 +0100 (CET) Received: from mails.dpdk.org (localhost [127.0.0.1]) by mails.dpdk.org (Postfix) with ESMTP id ED3A7402E0; Wed, 5 Feb 2025 18:35:43 +0100 (CET) Received: from mail-pl1-f227.google.com (mail-pl1-f227.google.com [209.85.214.227]) by mails.dpdk.org (Postfix) with ESMTP id 87804402DC for ; Wed, 5 Feb 2025 18:35:42 +0100 (CET) Received: by mail-pl1-f227.google.com with SMTP id d9443c01a7336-21f2f1181f2so1807475ad.2 for ; Wed, 05 Feb 2025 09:35:42 -0800 (PST) DKIM-Signature: v=1; a=rsa-sha256; c=relaxed/relaxed; d=iol.unh.edu; s=unh-iol; t=1738776942; x=1739381742; darn=dpdk.org; h=references:in-reply-to:cc:to:from:subject:message-id:date:from:to :cc:subject:date:message-id:reply-to; bh=0Ch1+AtO2q57mnsSBJSspOQR7uzl58Q6p+q5SHGkur4=; b=N9lwUQaVwpgUmvj1kssUIZ9k/BpNzaulMj12rYnkq8f3U3c83LrdOxzdhAA/tioCk2 cN3NgL/+IQUgONK40kkpV2zqU3WqNM4kLmVj2RB0wufqxl6UyRCdZ0wdhUh0AcLD3+W2 eq0uX+Pxk4UdhUopk0UY490iehHWvzoqzfRYk= X-Google-DKIM-Signature: v=1; a=rsa-sha256; c=relaxed/relaxed; d=1e100.net; s=20230601; t=1738776942; x=1739381742; h=references:in-reply-to:cc:to:from:subject:message-id:date :x-gm-message-state:from:to:cc:subject:date:message-id:reply-to; bh=0Ch1+AtO2q57mnsSBJSspOQR7uzl58Q6p+q5SHGkur4=; b=EgZrthGYHP1m8NIQGoxKx+08typUCQKlQAMGsXSmSkY0NonzkKnwa4Bj4ihZ7pKSUn 6LcyTJN7GjV6qz7UW9NajfTRUJfXH/gIkbz+/fDE+Wh3H67eIrPPMz26VikWbYQ5Lzlm Gvn89PEZi/Js0AluWLZ7mT8eQUk0SYyhMaq4IxXFLg7JUhHsCDXYW3Hvr+FGK2QVEumm yJsQmpXFh0vMzluPFTkC54Xtwfk0KMIkT3z/eml/LCs1zz38FW9XbeRPzv82lfSMp4/y ott/sQCj5BBuvX4K76YvjRccx4qzuzAwwNofbq295NKNKTLl1vYvUJHaIVCt68fHwzax FH8Q== X-Gm-Message-State: AOJu0YxIgC0aRLRRDyUVqhJ9k2kc6lDi7dB/3svJUC0meYjbh0Lqw67L ZnnmiuxW+leUEtSIN/Tq91Nzcudqa0Pf6zdw+VpKK67aPj8qOinY+0iDiSsf4UlQgaj3QqNusiz YOGUEfnwrFIwrLYKtuFRkZPvR3cFTPzT5yWgIXMWoJEaxjEgOcs6bP9F7 X-Gm-Gg: ASbGncviKm5kfIsWfP5l/UOaVRAP7hDByxEhz2Ji7ADItQUuwFY7VrbqoZ+3Mtgrl/x hpUNIjPrdOdftv50yQ0tDYBeUh5abCVcANTHwKx1FxmjLWusiovdo3o2j3thCqJMyxPNTL2PSAN fy1ezB8FP+vKb44teImpHno90y0FZFJYjPdfw8O1qItwqGTNyNtv4kEaQGRmbW6X32h2CKgALnS ynF+fKGQoF3iqfZxqiaoxzuCOFEYGb277Vege5CFqLClEq2QasvcIlxvGrx6RcPtQx2obBFu7Bk kKau5hPXJgbbf5S05kOoDyMz9TZXQ1WpRHT1r9BgLQ== X-Google-Smtp-Source: AGHT+IFKze1XjAcO/+e7scPUKy9w//kQPxJVClab8xXqEQZMXo27ocscv3MCHJi8QSmre6Y6GxqVV0q5WnEV X-Received: by 2002:a17:902:d58f:b0:216:4d1f:5c83 with SMTP id d9443c01a7336-21f17ed9f7bmr55837395ad.47.1738776941740; Wed, 05 Feb 2025 09:35:41 -0800 (PST) Received: from postal.iol.unh.edu (postal.iol.unh.edu. [2606:4100:3880:1234::84]) by smtp-relay.gmail.com with ESMTPS id 98e67ed59e1d1-2f9e1d8cb21sm177346a91.9.2025.02.05.09.35.41 (version=TLS1_2 cipher=ECDHE-ECDSA-AES128-GCM-SHA256 bits=128/128); Wed, 05 Feb 2025 09:35:41 -0800 (PST) X-Relaying-Domain: iol.unh.edu Date: Wed, 05 Feb 2025 09:35:41 -0800 (PST) Message-ID: <67a3a16d.170a0220.31b813.7ad3SMTPIN_ADDED_MISSING@mx.google.com> Received: from [172.17.0.4] (unknown [172.18.0.57]) by postal.iol.unh.edu (Postfix) with ESMTP id E69BB6052471; Wed, 5 Feb 2025 12:35:40 -0500 (EST) Subject: |SUCCESS| pw150210-150211 [PATCH] [2/2] mempool: turn functions into From: dpdklab@iol.unh.edu To: Test Report Cc: dpdk-test-reports@iol.unh.edu In-Reply-To: <20250119174643.2162110-3-ariel.otilibili@6wind.com> References: <20250119174643.2162110-3-ariel.otilibili@6wind.com> Content-Type: text/plain X-BeenThere: test-report@dpdk.org X-Mailman-Version: 2.1.29 Precedence: list List-Id: automatic DPDK test reports List-Unsubscribe: , List-Archive: List-Post: List-Help: List-Subscribe: , Errors-To: test-report-bounces@dpdk.org Test-Label: iol-compile-amd64-testing Test-Status: SUCCESS http://dpdk.org/patch/150211 _Testing PASS_ Submitter: Ariel Otilibili Date: Sunday, January 19 2025 17:46:43 DPDK git baseline: Repo:dpdk Branch: master CommitID:06e2856620a70000b2a28f0ea715fc247b85fd8d 150210-150211 --> testing pass Test environment and result as below: +---------------------+--------------------+------------------+-------------------+-------------------+-------------------------+----------------------+ | Environment | dpdk_meson_compile | dpdk_compile_ovs | dpdk_compile_spdk | dpdk_msvc_compile | dpdk_llvm_clang_compile | dpdk_mingw64_compile | +=====================+====================+==================+===================+===================+=========================+======================+ | Debian 12 | PASS | PASS | PASS | SKIPPED | SKIPPED | SKIPPED | +---------------------+--------------------+------------------+-------------------+-------------------+-------------------------+----------------------+ | CentOS Stream 9 | PASS | PASS | PASS | SKIPPED | SKIPPED | SKIPPED | +---------------------+--------------------+------------------+-------------------+-------------------+-------------------------+----------------------+ | RHEL8 | PASS | PASS | SKIPPED | SKIPPED | SKIPPED | SKIPPED | +---------------------+--------------------+------------------+-------------------+-------------------+-------------------------+----------------------+ | Fedora 41 (Clang) | PASS | PASS | PASS | SKIPPED | SKIPPED | SKIPPED | +---------------------+--------------------+------------------+-------------------+-------------------+-------------------------+----------------------+ | Fedora 40 | PASS | PASS | PASS | SKIPPED | SKIPPED | SKIPPED | +---------------------+--------------------+------------------+-------------------+-------------------+-------------------------+----------------------+ | Fedora 40 (Clang) | PASS | PASS | PASS | SKIPPED | SKIPPED | SKIPPED | +---------------------+--------------------+------------------+-------------------+-------------------+-------------------------+----------------------+ | Fedora 41 | PASS | PASS | PASS | SKIPPED | SKIPPED | SKIPPED | +---------------------+--------------------+------------------+-------------------+-------------------+-------------------------+----------------------+ | openSUSE Leap 15 | PASS | SKIPPED | SKIPPED | SKIPPED | SKIPPED | SKIPPED | +---------------------+--------------------+------------------+-------------------+-------------------+-------------------------+----------------------+ | Ubuntu 24.04 | PASS | PASS | PASS | SKIPPED | SKIPPED | SKIPPED | +---------------------+--------------------+------------------+-------------------+-------------------+-------------------------+----------------------+ | RHEL9 | PASS | PASS | SKIPPED | SKIPPED | SKIPPED | SKIPPED | +---------------------+--------------------+------------------+-------------------+-------------------+-------------------------+----------------------+ | Alpine | PASS | PASS | SKIPPED | SKIPPED | SKIPPED | SKIPPED | +---------------------+--------------------+------------------+-------------------+-------------------+-------------------------+----------------------+ | Ubuntu 20.04 | PASS | SKIPPED | SKIPPED | SKIPPED | SKIPPED | SKIPPED | +---------------------+--------------------+------------------+-------------------+-------------------+-------------------------+----------------------+ | Ubuntu 22.04 | PASS | PASS | PASS | SKIPPED | SKIPPED | SKIPPED | +---------------------+--------------------+------------------+-------------------+-------------------+-------------------------+----------------------+ | FreeBSD 13.4 | PASS | SKIPPED | SKIPPED | SKIPPED | SKIPPED | SKIPPED | +---------------------+--------------------+------------------+-------------------+-------------------+-------------------------+----------------------+ | FreeBSD 14.2 | PASS | SKIPPED | SKIPPED | SKIPPED | SKIPPED | SKIPPED | +---------------------+--------------------+------------------+-------------------+-------------------+-------------------------+----------------------+ | Debian Bullseye | PASS | PASS | PASS | SKIPPED | SKIPPED | SKIPPED | +---------------------+--------------------+------------------+-------------------+-------------------+-------------------------+----------------------+ | Windows Server 2022 | SKIPPED | SKIPPED | SKIPPED | PASS | PASS | PASS | +---------------------+--------------------+------------------+-------------------+-------------------+-------------------------+----------------------+ Debian 12 Kernel: Depends on container host Compiler: gcc (Debian 12.2.0-14) 12.2.0 CentOS Stream 9 Kernel: Depends on container host Compiler: gcc 11.5.0 20240719 (Red Hat 11.5.0-2) RHEL8 Kernel: Depends on container host Compiler: gcc 8.5.0 20210514 (Red Hat 8.5.0-22) Fedora 41 (Clang) Kernel: Depends on container host Compiler: clang 19.1.5 (Fedora 19.1.5-1.fc41) Fedora 40 Kernel: Depends on container host Compiler: gcc 14.2.1 20240912 (Red Hat 14.2.1-3) Fedora 40 (Clang) Kernel: Depends on container host Compiler: clang 18.1.8 (Fedora 18.1.8-1.fc40) Fedora 41 Kernel: Depends on container host Compiler: gcc 14.2.1 20240912 (Red Hat 14.2.1-3) openSUSE Leap 15 Kernel: Depends on container host Compiler: gcc (SUSE Linux) 7.5.0 Ubuntu 24.04 Kernel: Depends on container host Compiler: gcc (Ubuntu 13.3.0-6ubuntu2~24.04) 13.3.0 RHEL9 Kernel: Depends on container host Compiler: gcc 11.5.0 20240719 (Red Hat 11.5.0-2) Alpine Kernel: Depends on container host Compiler: gcc (Alpine 14.2.0) 14.2.0 Ubuntu 20.04 Kernel: Depends on container host Compiler: gcc (Ubuntu 9.4.0-1ubuntu1~20.04.2) 9.4.0 Ubuntu 22.04 Kernel: Depends on container host Compiler: gcc (Ubuntu 11.4.0-1ubuntu1~22.04) 11.4.0 FreeBSD 13.4 Kernel: 13.4-RELEASE-p1 Compiler: clang 18.1.6 FreeBSD 14.2 Kernel: 14.2-RELEASE Compiler: clang 18.1.6 Debian Bullseye Kernel: Depends on container host Compiler: gcc (Debian 10.2.1-6) 10.2.1 20210110 Windows Server 2022 Kernel: 10.0.20348.2031 Compiler: clang 15.0.7, gcc 14.1.0 (MinGW), and MSVC VS 19.39.33521 To view detailed results, visit: https://lab.dpdk.org/results/dashboard/patchsets/32366/ UNH-IOL DPDK Community Lab To manage your email subscriptions, visit: https://lab.dpdk.org/results/dashboard/preferences/subscriptions/