From mboxrd@z Thu Jan 1 00:00:00 1970 Return-Path: Received: from mails.dpdk.org (mails.dpdk.org [217.70.189.124]) by inbox.dpdk.org (Postfix) with ESMTP id 0A8B7461A0 for ; Wed, 5 Feb 2025 18:35:51 +0100 (CET) Received: from mails.dpdk.org (localhost [127.0.0.1]) by mails.dpdk.org (Postfix) with ESMTP id 05AF7402E4; Wed, 5 Feb 2025 18:35:51 +0100 (CET) Received: from mail-pl1-f228.google.com (mail-pl1-f228.google.com [209.85.214.228]) by mails.dpdk.org (Postfix) with ESMTP id 0F4D7402DC for ; Wed, 5 Feb 2025 18:35:49 +0100 (CET) Received: by mail-pl1-f228.google.com with SMTP id d9443c01a7336-21f2cfd821eso1392795ad.3 for ; Wed, 05 Feb 2025 09:35:48 -0800 (PST) DKIM-Signature: v=1; a=rsa-sha256; c=relaxed/relaxed; d=iol.unh.edu; s=unh-iol; t=1738776948; x=1739381748; darn=dpdk.org; h=cc:to:from:subject:message-id:date:from:to:cc:subject:date :message-id:reply-to; bh=DiPFKhmTGwnRGq/2vlM/3hTOyBBOPVhknPua0xf9Gao=; b=TzGARtEkR7k/Z7BAJ4CiSE04n0CovyrpviRSasjKGnWj/axZuxX6Ki8vnIDNQt+n7F qWoZQYkDMI5MPBMAjJT+CO9Rhrll5yQokDdZEouUymG0ytnMq6nKZ7a0XLvrjB7qvS4c yjg7NELo93G0iWGREv9zMEGb+GyNpV98FreuM= X-Google-DKIM-Signature: v=1; a=rsa-sha256; c=relaxed/relaxed; d=1e100.net; s=20230601; t=1738776948; x=1739381748; h=cc:to:from:subject:message-id:date:x-gm-message-state:from:to:cc :subject:date:message-id:reply-to; bh=DiPFKhmTGwnRGq/2vlM/3hTOyBBOPVhknPua0xf9Gao=; b=HSaVf7KiLno1dIVeifRIFaOcLI0qFYFFRLMLgRoIN8ixOPZIlJN2ES46YtyDKvv09N gK51usYRmww452oJyE9IpeUDIYorDStjIHWGmCP3SvV1sKsC3lSr5i0/10IxurB80t6+ /z4bd4zyY60vgGZQ11L6agmJuwnE4CvVPKQV5O93dpchOmJVUqYA5SCIGuOZQC0q2xI0 M99HKMI7Kq/rMHpqqMLrlYaykkC7XMdVZf3Gnu1lO2qKBu6qvQR3AfkPINSY6CfjYNRG ZH/ZiTP83HvO8OVpis1MpQRU/Oho/XTbe0PHNYg61t6BibIcwv2PFwROWSltl6MuVkTf ITpg== X-Gm-Message-State: AOJu0YwuF+fzjdTXIanV9DD9rP/KYy0u1UnkD1VdjK7C6BclNeDcIvwN ihAE14gXY+wpcyBN70yRD0D8dADY2U51Ixhhm0tGhm47qlQNJy/reX8+bjgNknqbakcc8BWVt5X +quSf0yksytm371XgPr9oKcqBPXULsfxRGVdmr9vP X-Gm-Gg: ASbGncvt/Pf16OCEORquvFzmKQpHlO/Y6qN4INOMfsSUlYjsszQadPZnMzBXJVIqMGO MbfZQdQ9y67S4bPVATWJzc9LuqRdejR4sROtcU/n77AU5+DreToSMHSMABwvTXkfmgVPMAycKBA i8mgfsyx7ZRmUTe4hVIRuYFjp/cL4c5/YQOY2Pmy1YMGoRnKtJ03mdpI5wlAWea/tWmowmedV9P 3ZNa53PonTTOsWcRoIbAU7LWbJZ9MgPRzHEyq1wQg9MSJLYUtMCgcTT26T2RxlFQSj/O6+z9FKT PmjlR1+aMYGY11lGV6gAqXpPeKYZlQ== X-Google-Smtp-Source: AGHT+IHaVlb3l9uGJemKhN7WPcVBZPw9MKw/v/kd/RJmLz8JiEAhp6tnyATo2/hEgUkK0ZbdXStd38rRLucw X-Received: by 2002:a05:6a20:6f02:b0:1e0:d89e:f5cc with SMTP id adf61e73a8af0-1ede8834aafmr6516878637.11.1738776948266; Wed, 05 Feb 2025 09:35:48 -0800 (PST) Received: from postal.iol.unh.edu (postal.iol.unh.edu. [132.177.123.84]) by smtp-relay.gmail.com with ESMTPS id 41be03b00d2f7-acebe28c37dsm775216a12.7.2025.02.05.09.35.48 (version=TLS1_2 cipher=ECDHE-ECDSA-AES128-GCM-SHA256 bits=128/128); Wed, 05 Feb 2025 09:35:48 -0800 (PST) X-Relaying-Domain: iol.unh.edu Date: Wed, 05 Feb 2025 09:35:48 -0800 (PST) Message-ID: <67a3a174.630a0220.3a602c.5178SMTPIN_ADDED_MISSING@mx.google.com> Received: from [172.17.0.6] (unknown [172.18.0.57]) by postal.iol.unh.edu (Postfix) with ESMTP id 69F466052471; Wed, 5 Feb 2025 12:35:47 -0500 (EST) Subject: |SUCCESS| [GIT MASTER] 6d7e741be18ab1e6ecce46edb2516318305c3c73 From: dpdklab@iol.unh.edu To: Test Report Cc: dpdk-test-reports@iol.unh.edu Content-Type: text/plain X-BeenThere: test-report@dpdk.org X-Mailman-Version: 2.1.29 Precedence: list List-Id: automatic DPDK test reports List-Unsubscribe: , List-Archive: List-Post: List-Help: List-Subscribe: , Errors-To: test-report-bounces@dpdk.org _Testing PASS_ Branch: dpdk 6d7e741be18ab1e6ecce46edb2516318305c3c73 --> testing pass Test environment and result as below: +---------------------+-------------------+--------------------+-------------------------+------------------+-------------------+----------------------+ | Environment | dpdk_msvc_compile | dpdk_meson_compile | dpdk_llvm_clang_compile | dpdk_compile_ovs | dpdk_compile_spdk | dpdk_mingw64_compile | +=====================+===================+====================+=========================+==================+===================+======================+ | Windows Server 2022 | PASS | SKIPPED | PASS | SKIPPED | SKIPPED | PASS | +---------------------+-------------------+--------------------+-------------------------+------------------+-------------------+----------------------+ | FreeBSD 13.4 | SKIPPED | PASS | SKIPPED | SKIPPED | SKIPPED | SKIPPED | +---------------------+-------------------+--------------------+-------------------------+------------------+-------------------+----------------------+ | FreeBSD 14.2 | SKIPPED | PASS | SKIPPED | SKIPPED | SKIPPED | SKIPPED | +---------------------+-------------------+--------------------+-------------------------+------------------+-------------------+----------------------+ | CentOS Stream 9 | SKIPPED | PASS | SKIPPED | PASS | PASS | SKIPPED | +---------------------+-------------------+--------------------+-------------------------+------------------+-------------------+----------------------+ | Debian Bullseye | SKIPPED | PASS | SKIPPED | PASS | PASS | SKIPPED | +---------------------+-------------------+--------------------+-------------------------+------------------+-------------------+----------------------+ | Debian 12 | SKIPPED | PASS | SKIPPED | PASS | PASS | SKIPPED | +---------------------+-------------------+--------------------+-------------------------+------------------+-------------------+----------------------+ | Fedora 40 | SKIPPED | PASS | SKIPPED | PASS | PASS | SKIPPED | +---------------------+-------------------+--------------------+-------------------------+------------------+-------------------+----------------------+ | Fedora 41 (Clang) | SKIPPED | PASS | SKIPPED | PASS | PASS | SKIPPED | +---------------------+-------------------+--------------------+-------------------------+------------------+-------------------+----------------------+ | Fedora 41 | SKIPPED | PASS | SKIPPED | PASS | PASS | SKIPPED | +---------------------+-------------------+--------------------+-------------------------+------------------+-------------------+----------------------+ | openSUSE Leap 15 | SKIPPED | PASS | SKIPPED | SKIPPED | SKIPPED | SKIPPED | +---------------------+-------------------+--------------------+-------------------------+------------------+-------------------+----------------------+ | RHEL8 | SKIPPED | PASS | SKIPPED | PASS | SKIPPED | SKIPPED | +---------------------+-------------------+--------------------+-------------------------+------------------+-------------------+----------------------+ | RHEL9 | SKIPPED | PASS | SKIPPED | PASS | SKIPPED | SKIPPED | +---------------------+-------------------+--------------------+-------------------------+------------------+-------------------+----------------------+ | Ubuntu 20.04 | SKIPPED | PASS | SKIPPED | SKIPPED | SKIPPED | SKIPPED | +---------------------+-------------------+--------------------+-------------------------+------------------+-------------------+----------------------+ | Ubuntu 22.04 | SKIPPED | PASS | SKIPPED | PASS | PASS | SKIPPED | +---------------------+-------------------+--------------------+-------------------------+------------------+-------------------+----------------------+ | Ubuntu 24.04 | SKIPPED | PASS | SKIPPED | PASS | PASS | SKIPPED | +---------------------+-------------------+--------------------+-------------------------+------------------+-------------------+----------------------+ | Alpine | SKIPPED | PASS | SKIPPED | PASS | SKIPPED | SKIPPED | +---------------------+-------------------+--------------------+-------------------------+------------------+-------------------+----------------------+ | Arch Linux | SKIPPED | PASS | SKIPPED | PASS | SKIPPED | SKIPPED | +---------------------+-------------------+--------------------+-------------------------+------------------+-------------------+----------------------+ | Fedora 40 (Clang) | SKIPPED | PASS | SKIPPED | PASS | PASS | SKIPPED | +---------------------+-------------------+--------------------+-------------------------+------------------+-------------------+----------------------+ Windows Server 2022 Kernel: 10.0.20348.2031 Compiler: clang 15.0.7, gcc 14.1.0 (MinGW), and MSVC VS 19.39.33521 FreeBSD 13.4 Kernel: 13.4-RELEASE-p1 Compiler: clang 18.1.6 FreeBSD 14.2 Kernel: 14.2-RELEASE Compiler: clang 18.1.6 CentOS Stream 9 Kernel: Depends on container host Compiler: gcc 11.5.0 20240719 (Red Hat 11.5.0-2) Debian Bullseye Kernel: Depends on container host Compiler: gcc (Debian 10.2.1-6) 10.2.1 20210110 Debian 12 Kernel: Depends on container host Compiler: gcc (Debian 12.2.0-14) 12.2.0 Fedora 40 Kernel: Depends on container host Compiler: gcc 14.2.1 20240912 (Red Hat 14.2.1-3) Fedora 41 (Clang) Kernel: Depends on container host Compiler: clang 19.1.5 (Fedora 19.1.5-1.fc41) Fedora 41 Kernel: Depends on container host Compiler: gcc 14.2.1 20240912 (Red Hat 14.2.1-3) openSUSE Leap 15 Kernel: Depends on container host Compiler: gcc (SUSE Linux) 7.5.0 RHEL8 Kernel: Depends on container host Compiler: gcc 8.5.0 20210514 (Red Hat 8.5.0-22) RHEL9 Kernel: Depends on container host Compiler: gcc 11.5.0 20240719 (Red Hat 11.5.0-2) Ubuntu 20.04 Kernel: Depends on container host Compiler: gcc (Ubuntu 9.4.0-1ubuntu1~20.04.2) 9.4.0 Ubuntu 22.04 Kernel: Depends on container host Compiler: gcc (Ubuntu 11.4.0-1ubuntu1~22.04) 11.4.0 Ubuntu 24.04 Kernel: Depends on container host Compiler: gcc (Ubuntu 13.3.0-6ubuntu2~24.04) 13.3.0 Alpine Kernel: Depends on container host Compiler: gcc (Alpine 14.2.0) 14.2.0 Arch Linux Kernel: Depends on container host Compiler: gcc 14.2.1 20240910 Fedora 40 (Clang) Kernel: Depends on container host Compiler: clang 18.1.8 (Fedora 18.1.8-1.fc40) To view detailed results, visit: https://lab.dpdk.org/results/dashboard/tarballs/32291/ UNH-IOL DPDK Community Lab To manage your email subscriptions, visit: https://lab.dpdk.org/results/dashboard/preferences/subscriptions/