From mboxrd@z Thu Jan 1 00:00:00 1970 Return-Path: Received: from mails.dpdk.org (mails.dpdk.org [217.70.189.124]) by inbox.dpdk.org (Postfix) with ESMTP id 25C38461A0 for ; Wed, 5 Feb 2025 18:35:53 +0100 (CET) Received: from mails.dpdk.org (localhost [127.0.0.1]) by mails.dpdk.org (Postfix) with ESMTP id 1FC3D402E0; Wed, 5 Feb 2025 18:35:53 +0100 (CET) Received: from mail-pl1-f225.google.com (mail-pl1-f225.google.com [209.85.214.225]) by mails.dpdk.org (Postfix) with ESMTP id 7664C402DC for ; Wed, 5 Feb 2025 18:35:50 +0100 (CET) Received: by mail-pl1-f225.google.com with SMTP id d9443c01a7336-2164b662090so1820795ad.1 for ; Wed, 05 Feb 2025 09:35:50 -0800 (PST) DKIM-Signature: v=1; a=rsa-sha256; c=relaxed/relaxed; d=iol.unh.edu; s=unh-iol; t=1738776949; x=1739381749; darn=dpdk.org; h=references:in-reply-to:cc:to:from:subject:message-id:date:from:to :cc:subject:date:message-id:reply-to; bh=xOzOFSex/xie2fCwq6UbrXpl1p339blMpSBmaxHD6UM=; b=CGHokj4hxMejE4sAiBN+My5kwXTfFcJxDkmWg48mRkmyRWsQH3nDw0bG7ErTFWCpVA Fy+GAJUHf+nooY9keVRXkn9ZftYWKAxieBDU8IoQeE7pVTPp7Lw8lAF+xKkVT91nUdaV Zb1XOjnHFSptqoYPo+abHnyyXcHH+DjVQn9YI= X-Google-DKIM-Signature: v=1; a=rsa-sha256; c=relaxed/relaxed; d=1e100.net; s=20230601; t=1738776949; x=1739381749; h=references:in-reply-to:cc:to:from:subject:message-id:date :x-gm-message-state:from:to:cc:subject:date:message-id:reply-to; bh=xOzOFSex/xie2fCwq6UbrXpl1p339blMpSBmaxHD6UM=; b=JrwFIX3UbnpOszGoSwXqogF5uoI2h0iZSRmXsnP7jEpBEjrTl6S7qov+Hc72JEuky7 X2oBU0tzxxF0oWiehCJ8z39rqMMsJj9wcUlHhf8/jBSAOQrgGl9hnX1RwFd2wYlZmazj 9AcnAe4DsoQoHucOjS1gOSi/f9FBY1pGe/NzxmEvhUfDimgF+bpDGgd667579oGGIG4U WYFmuQUeqZYz46rxYUuZUnZdzcCF4QQi4A5z4nc2Wa51TEDL+nougCu+pNTRIEMCmrcz o3a72eXrVKM4w3cuNxIp6kYlH8JDCJLLqNdw9vFPirvlR5GX0AdxfRC+Nwdg3cP438Wv NvKg== X-Gm-Message-State: AOJu0YxoXxzxOXqrJNDYxJFACf9kUs19rlO5ghLzvXzSXGLgIDpohQKV QHbGgTjGLEuRzi6qwND/kiFiB30Om8ufGmSbChauQkT0MIwGIIZy82IgyqrDLd5Yb2FRpply4+Z gs+Tx/QYtxU/ttiQX0AkqV/VJWRDgNeOlyyPGIj3C X-Gm-Gg: ASbGncvLep1aWduuCevjuOjgQm0SPGooETHv0t4P9iNq27j3WoncajDaKD5KPkahYij I050LMflXUL7Ov5SAstyhec5paGygZ32Gq3jRm7d+FAvFQMgAtkbGygpMT6tjF4YnQPSHaWg88r 8xvK1hGR0ceLn1YkgF63p4E1gHoNbf/Da6gSHV7WcG2tkv/btwPN+sgLwHyHO4nWSQq3slQHFxt c9VTutO5NU3whphPYjsgiW4h+fyPPEiLrokFR6YZFxH+mLS6ahJPLzHRuvEdX8jPSirhhvb35Xv VibQjSA7g/ij5r3jP95IegNP4cu/tQ== X-Google-Smtp-Source: AGHT+IGIgD5HePO9Ot/5uAgSaBhvgVfVmSH6iLSTqyR3dR65WqLYyvimVTdIzz/0RMwBZv0SiVfPWXZrhi7q X-Received: by 2002:a05:6a20:6f87:b0:1ed:e7cc:ee89 with SMTP id adf61e73a8af0-1ede88b2322mr6009795637.26.1738776948241; Wed, 05 Feb 2025 09:35:48 -0800 (PST) Received: from postal.iol.unh.edu (postal.iol.unh.edu. [132.177.123.84]) by smtp-relay.gmail.com with ESMTPS id 41be03b00d2f7-acfdce84dd4sm702842a12.8.2025.02.05.09.35.48 (version=TLS1_2 cipher=ECDHE-ECDSA-AES128-GCM-SHA256 bits=128/128); Wed, 05 Feb 2025 09:35:48 -0800 (PST) X-Relaying-Domain: iol.unh.edu Date: Wed, 05 Feb 2025 09:35:48 -0800 (PST) Message-ID: <67a3a174.630a0220.3dba9f.0d84SMTPIN_ADDED_MISSING@mx.google.com> Received: from [172.17.0.6] (unknown [172.18.0.214]) by postal.iol.unh.edu (Postfix) with ESMTP id 7B87A6052472; Wed, 5 Feb 2025 12:35:47 -0500 (EST) Subject: |SUCCESS| pw150227 [PATCH] [v8] app/testpmd: add attach and detach p From: dpdklab@iol.unh.edu To: Test Report Cc: dpdk-test-reports@iol.unh.edu In-Reply-To: <20250120064218.32733-1-lihuisong@huawei.com> References: <20250120064218.32733-1-lihuisong@huawei.com> Content-Type: text/plain X-BeenThere: test-report@dpdk.org X-Mailman-Version: 2.1.29 Precedence: list List-Id: automatic DPDK test reports List-Unsubscribe: , List-Archive: List-Post: List-Help: List-Subscribe: , Errors-To: test-report-bounces@dpdk.org Test-Label: iol-compile-amd64-testing Test-Status: SUCCESS http://dpdk.org/patch/150227 _Testing PASS_ Submitter: Huisong Li Date: Monday, January 20 2025 06:42:18 DPDK git baseline: Repo:dpdk Branch: master CommitID:bd8b5185d3e9737ab05c8e30155004b63d1a36bc 150227 --> testing pass Test environment and result as below: +---------------------+--------------------+------------------+-------------------+-------------------+-------------------------+----------------------+ | Environment | dpdk_meson_compile | dpdk_compile_ovs | dpdk_compile_spdk | dpdk_msvc_compile | dpdk_llvm_clang_compile | dpdk_mingw64_compile | +=====================+====================+==================+===================+===================+=========================+======================+ | Debian Bullseye | PASS | PASS | PASS | SKIPPED | SKIPPED | SKIPPED | +---------------------+--------------------+------------------+-------------------+-------------------+-------------------------+----------------------+ | CentOS Stream 9 | PASS | PASS | PASS | SKIPPED | SKIPPED | SKIPPED | +---------------------+--------------------+------------------+-------------------+-------------------+-------------------------+----------------------+ | Fedora 40 (Clang) | PASS | PASS | PASS | SKIPPED | SKIPPED | SKIPPED | +---------------------+--------------------+------------------+-------------------+-------------------+-------------------------+----------------------+ | Debian 12 | PASS | PASS | PASS | SKIPPED | SKIPPED | SKIPPED | +---------------------+--------------------+------------------+-------------------+-------------------+-------------------------+----------------------+ | Fedora 41 (Clang) | PASS | PASS | PASS | SKIPPED | SKIPPED | SKIPPED | +---------------------+--------------------+------------------+-------------------+-------------------+-------------------------+----------------------+ | Fedora 40 | PASS | PASS | PASS | SKIPPED | SKIPPED | SKIPPED | +---------------------+--------------------+------------------+-------------------+-------------------+-------------------------+----------------------+ | Fedora 41 | PASS | PASS | PASS | SKIPPED | SKIPPED | SKIPPED | +---------------------+--------------------+------------------+-------------------+-------------------+-------------------------+----------------------+ | openSUSE Leap 15 | PASS | SKIPPED | SKIPPED | SKIPPED | SKIPPED | SKIPPED | +---------------------+--------------------+------------------+-------------------+-------------------+-------------------------+----------------------+ | Ubuntu 20.04 | PASS | SKIPPED | SKIPPED | SKIPPED | SKIPPED | SKIPPED | +---------------------+--------------------+------------------+-------------------+-------------------+-------------------------+----------------------+ | RHEL8 | PASS | PASS | SKIPPED | SKIPPED | SKIPPED | SKIPPED | +---------------------+--------------------+------------------+-------------------+-------------------+-------------------------+----------------------+ | RHEL9 | PASS | PASS | SKIPPED | SKIPPED | SKIPPED | SKIPPED | +---------------------+--------------------+------------------+-------------------+-------------------+-------------------------+----------------------+ | Alpine | PASS | PASS | SKIPPED | SKIPPED | SKIPPED | SKIPPED | +---------------------+--------------------+------------------+-------------------+-------------------+-------------------------+----------------------+ | FreeBSD 13.4 | PASS | SKIPPED | SKIPPED | SKIPPED | SKIPPED | SKIPPED | +---------------------+--------------------+------------------+-------------------+-------------------+-------------------------+----------------------+ | Ubuntu 22.04 | PASS | PASS | PASS | SKIPPED | SKIPPED | SKIPPED | +---------------------+--------------------+------------------+-------------------+-------------------+-------------------------+----------------------+ | Ubuntu 24.04 | PASS | PASS | PASS | SKIPPED | SKIPPED | SKIPPED | +---------------------+--------------------+------------------+-------------------+-------------------+-------------------------+----------------------+ | FreeBSD 14.2 | PASS | SKIPPED | SKIPPED | SKIPPED | SKIPPED | SKIPPED | +---------------------+--------------------+------------------+-------------------+-------------------+-------------------------+----------------------+ | Windows Server 2022 | SKIPPED | SKIPPED | SKIPPED | PASS | PASS | PASS | +---------------------+--------------------+------------------+-------------------+-------------------+-------------------------+----------------------+ Debian Bullseye Kernel: Depends on container host Compiler: gcc (Debian 10.2.1-6) 10.2.1 20210110 CentOS Stream 9 Kernel: Depends on container host Compiler: gcc 11.5.0 20240719 (Red Hat 11.5.0-2) Fedora 40 (Clang) Kernel: Depends on container host Compiler: clang 18.1.8 (Fedora 18.1.8-1.fc40) Debian 12 Kernel: Depends on container host Compiler: gcc (Debian 12.2.0-14) 12.2.0 Fedora 41 (Clang) Kernel: Depends on container host Compiler: clang 19.1.5 (Fedora 19.1.5-1.fc41) Fedora 40 Kernel: Depends on container host Compiler: gcc 14.2.1 20240912 (Red Hat 14.2.1-3) Fedora 41 Kernel: Depends on container host Compiler: gcc 14.2.1 20240912 (Red Hat 14.2.1-3) openSUSE Leap 15 Kernel: Depends on container host Compiler: gcc (SUSE Linux) 7.5.0 Ubuntu 20.04 Kernel: Depends on container host Compiler: gcc (Ubuntu 9.4.0-1ubuntu1~20.04.2) 9.4.0 RHEL8 Kernel: Depends on container host Compiler: gcc 8.5.0 20210514 (Red Hat 8.5.0-22) RHEL9 Kernel: Depends on container host Compiler: gcc 11.5.0 20240719 (Red Hat 11.5.0-2) Alpine Kernel: Depends on container host Compiler: gcc (Alpine 14.2.0) 14.2.0 FreeBSD 13.4 Kernel: 13.4-RELEASE-p1 Compiler: clang 18.1.6 Ubuntu 22.04 Kernel: Depends on container host Compiler: gcc (Ubuntu 11.4.0-1ubuntu1~22.04) 11.4.0 Ubuntu 24.04 Kernel: Depends on container host Compiler: gcc (Ubuntu 13.3.0-6ubuntu2~24.04) 13.3.0 FreeBSD 14.2 Kernel: 14.2-RELEASE Compiler: clang 18.1.6 Windows Server 2022 Kernel: 10.0.20348.2031 Compiler: clang 15.0.7, gcc 14.1.0 (MinGW), and MSVC VS 19.39.33521 To view detailed results, visit: https://lab.dpdk.org/results/dashboard/patchsets/32368/ UNH-IOL DPDK Community Lab To manage your email subscriptions, visit: https://lab.dpdk.org/results/dashboard/preferences/subscriptions/