From mboxrd@z Thu Jan 1 00:00:00 1970 Return-Path: Received: from mails.dpdk.org (mails.dpdk.org [217.70.189.124]) by inbox.dpdk.org (Postfix) with ESMTP id 45494461A0 for ; Wed, 5 Feb 2025 18:35:59 +0100 (CET) Received: from mails.dpdk.org (localhost [127.0.0.1]) by mails.dpdk.org (Postfix) with ESMTP id 42520402E0; Wed, 5 Feb 2025 18:35:59 +0100 (CET) Received: from mail-pl1-f227.google.com (mail-pl1-f227.google.com [209.85.214.227]) by mails.dpdk.org (Postfix) with ESMTP id EB198402DC for ; Wed, 5 Feb 2025 18:35:57 +0100 (CET) Received: by mail-pl1-f227.google.com with SMTP id d9443c01a7336-21634338cfdso1579485ad.2 for ; Wed, 05 Feb 2025 09:35:57 -0800 (PST) DKIM-Signature: v=1; a=rsa-sha256; c=relaxed/relaxed; d=iol.unh.edu; s=unh-iol; t=1738776957; x=1739381757; darn=dpdk.org; h=references:in-reply-to:cc:to:from:subject:message-id:date:from:to :cc:subject:date:message-id:reply-to; bh=HFsh9TgVHj3hXJJ5mzU7fHvGCSzmJl1FAxZ6ycSMsK4=; b=RxyZjX/iBpEF0uVm2fPJpc17ckkO4VOhHGTGr3Hu0db5827Ai26Q8A2i7or+ksIaes 46IuLxzxuFfxkQnMIUzLOy0m96WkjWkruVddGRZUWdtmfQlp6Ggtuor9hNp/3GzRJ2E9 fr96ZxlKdppJXFRIpLEc9q9lIq6O6ZIaSXy28= X-Google-DKIM-Signature: v=1; a=rsa-sha256; c=relaxed/relaxed; d=1e100.net; s=20230601; t=1738776957; x=1739381757; h=references:in-reply-to:cc:to:from:subject:message-id:date :x-gm-message-state:from:to:cc:subject:date:message-id:reply-to; bh=HFsh9TgVHj3hXJJ5mzU7fHvGCSzmJl1FAxZ6ycSMsK4=; b=qus+YbdlG42VPt/+rRTvmOqA9S6Fa5Fesw4WDbZYcJ7CK/LVysxjFane3S85W7Vaxm V3hwKuv09Vx/zyhdavCcZ1e9beMJDXyyfc7FSMniZFA/sffSyEVXu8VfM52JWKAFaF8y tHcALyOqGosQGp7J/N39M2vis4kFSYxAoC+9WUx0vfWNfzaToAW8vCJecOLU1DxI0i5h I+WjuyuPOXVvh2z+q2jZNEvSrvVwUgIOcyRuQ/rsGcuTN6aNcZ7eDsvn7IWkrDXfoSHv rVRW4h9/0MtFROk9dj4NFctBAfVhycHiaTXX06JBoGRN81MPCedWm3wntUwVfQMjjZfA NQxw== X-Gm-Message-State: AOJu0Yyr/qOxV3OuAHwvq9Jo2+6R2sAg7tkZAx9FYbJ6U8py0xCBk9xS a2swzcRu0gWYS+eyT99vppS4Al6rNMgBDMlZoVm6jN1MdB9pcltPBk1Ihj882m04kLormMaeCsy Iqmf5iYamaR4lEqCGBTbjN3YwikW5zjELM0/W337a X-Gm-Gg: ASbGnctzlob82OnKIxI7lCjELfwteYMoH8WSdVGy4YGHyGkpXMPPLmmynBU780wwhri NMjnE9VqSYx6rfRTIwa9+I3VkwwBSkLv6lc/acthSypLEqRaKGWQuyp7sFlOIot+Pc7wFsuoKLG mS4GaHA1FSrhMs2AgDRBTZRlUPbCBh7l4a4OFQsq+gL16Rm9x/Mqny8kxwcizkaNSowfLaqUgeu 6XSMtl/KhRla7LrudZMRX6HaG2zpTBHXbbeZ5RbHez/v7o5DKvvHdBDUP/ofvGn8F/lbxePhENw FALz0ruhPnbx2Epjkbw9LGlLfoxNMg== X-Google-Smtp-Source: AGHT+IGMpC+cUHXUmaEJ/YbRMhi1EEnALh2VG7HPiMdCxKtwY44MsfgkD2eKAZ9jB8lOPx7Qd3v7qNFd89x/ X-Received: by 2002:a17:902:d512:b0:21f:9d8:867e with SMTP id d9443c01a7336-21f17f24d7amr62007905ad.51.1738776957214; Wed, 05 Feb 2025 09:35:57 -0800 (PST) Received: from postal.iol.unh.edu (postal.iol.unh.edu. [132.177.123.84]) by smtp-relay.gmail.com with ESMTPS id d9443c01a7336-21f0997ba01sm1988715ad.114.2025.02.05.09.35.57 (version=TLS1_2 cipher=ECDHE-ECDSA-AES128-GCM-SHA256 bits=128/128); Wed, 05 Feb 2025 09:35:57 -0800 (PST) X-Relaying-Domain: iol.unh.edu Date: Wed, 05 Feb 2025 09:35:57 -0800 (PST) Message-ID: <67a3a17d.170a0220.e60bd.9bb0SMTPIN_ADDED_MISSING@mx.google.com> Received: from [172.21.0.5] (unknown [172.18.0.240]) by postal.iol.unh.edu (Postfix) with ESMTP id 618FC6052471; Wed, 5 Feb 2025 12:35:56 -0500 (EST) Subject: |SUCCESS| pw150364 [PATCH] net/nfp: fix multiple PFs check from NSP From: dpdklab@iol.unh.edu To: Test Report Cc: dpdk-test-reports@iol.unh.edu In-Reply-To: <20250122012815.1703017-1-chaoyong.he@corigine.com> References: <20250122012815.1703017-1-chaoyong.he@corigine.com> Content-Type: text/plain X-BeenThere: test-report@dpdk.org X-Mailman-Version: 2.1.29 Precedence: list List-Id: automatic DPDK test reports List-Unsubscribe: , List-Archive: List-Post: List-Help: List-Subscribe: , Errors-To: test-report-bounces@dpdk.org Test-Label: iol-compile-amd64-testing Test-Status: SUCCESS http://dpdk.org/patch/150364 _Testing PASS_ Submitter: Chaoyong He Date: Wednesday, January 22 2025 01:28:15 DPDK git baseline: Repo:dpdk Branch: master CommitID:347a988b93e7b63b27f1dfa09bd03318d810a9a9 150364 --> testing pass Test environment and result as below: +---------------------+-------------------------+-------------------+--------------------+------------------+-------------------+----------------------+ | Environment | dpdk_llvm_clang_compile | dpdk_msvc_compile | dpdk_meson_compile | dpdk_compile_ovs | dpdk_compile_spdk | dpdk_mingw64_compile | +=====================+=========================+===================+====================+==================+===================+======================+ | Windows Server 2022 | PASS | PASS | SKIPPED | SKIPPED | SKIPPED | PASS | +---------------------+-------------------------+-------------------+--------------------+------------------+-------------------+----------------------+ | FreeBSD 13.4 | SKIPPED | SKIPPED | PASS | SKIPPED | SKIPPED | SKIPPED | +---------------------+-------------------------+-------------------+--------------------+------------------+-------------------+----------------------+ | FreeBSD 14.2 | SKIPPED | SKIPPED | PASS | SKIPPED | SKIPPED | SKIPPED | +---------------------+-------------------------+-------------------+--------------------+------------------+-------------------+----------------------+ | CentOS Stream 9 | SKIPPED | SKIPPED | PASS | PASS | PASS | SKIPPED | +---------------------+-------------------------+-------------------+--------------------+------------------+-------------------+----------------------+ | Debian Bullseye | SKIPPED | SKIPPED | PASS | PASS | PASS | SKIPPED | +---------------------+-------------------------+-------------------+--------------------+------------------+-------------------+----------------------+ | Debian 12 | SKIPPED | SKIPPED | PASS | PASS | PASS | SKIPPED | +---------------------+-------------------------+-------------------+--------------------+------------------+-------------------+----------------------+ | Fedora 40 (Clang) | SKIPPED | SKIPPED | PASS | PASS | PASS | SKIPPED | +---------------------+-------------------------+-------------------+--------------------+------------------+-------------------+----------------------+ | Fedora 40 | SKIPPED | SKIPPED | PASS | PASS | PASS | SKIPPED | +---------------------+-------------------------+-------------------+--------------------+------------------+-------------------+----------------------+ | Fedora 41 (Clang) | SKIPPED | SKIPPED | PASS | PASS | PASS | SKIPPED | +---------------------+-------------------------+-------------------+--------------------+------------------+-------------------+----------------------+ | Fedora 41 | SKIPPED | SKIPPED | PASS | PASS | PASS | SKIPPED | +---------------------+-------------------------+-------------------+--------------------+------------------+-------------------+----------------------+ | openSUSE Leap 15 | SKIPPED | SKIPPED | PASS | SKIPPED | SKIPPED | SKIPPED | +---------------------+-------------------------+-------------------+--------------------+------------------+-------------------+----------------------+ | RHEL8 | SKIPPED | SKIPPED | PASS | PASS | SKIPPED | SKIPPED | +---------------------+-------------------------+-------------------+--------------------+------------------+-------------------+----------------------+ | RHEL9 | SKIPPED | SKIPPED | PASS | PASS | SKIPPED | SKIPPED | +---------------------+-------------------------+-------------------+--------------------+------------------+-------------------+----------------------+ | Ubuntu 20.04 | SKIPPED | SKIPPED | PASS | SKIPPED | SKIPPED | SKIPPED | +---------------------+-------------------------+-------------------+--------------------+------------------+-------------------+----------------------+ | Ubuntu 22.04 | SKIPPED | SKIPPED | PASS | PASS | PASS | SKIPPED | +---------------------+-------------------------+-------------------+--------------------+------------------+-------------------+----------------------+ | Ubuntu 24.04 | SKIPPED | SKIPPED | PASS | PASS | PASS | SKIPPED | +---------------------+-------------------------+-------------------+--------------------+------------------+-------------------+----------------------+ | Alpine | SKIPPED | SKIPPED | PASS | PASS | SKIPPED | SKIPPED | +---------------------+-------------------------+-------------------+--------------------+------------------+-------------------+----------------------+ Windows Server 2022 Kernel: 10.0.20348.2031 Compiler: clang 15.0.7, gcc 14.1.0 (MinGW), and MSVC VS 19.39.33521 FreeBSD 13.4 Kernel: 13.4-RELEASE-p1 Compiler: clang 18.1.6 FreeBSD 14.2 Kernel: 14.2-RELEASE Compiler: clang 18.1.6 CentOS Stream 9 Kernel: Depends on container host Compiler: gcc 11.5.0 20240719 (Red Hat 11.5.0-2) Debian Bullseye Kernel: Depends on container host Compiler: gcc (Debian 10.2.1-6) 10.2.1 20210110 Debian 12 Kernel: Depends on container host Compiler: gcc (Debian 12.2.0-14) 12.2.0 Fedora 40 (Clang) Kernel: Depends on container host Compiler: clang 18.1.8 (Fedora 18.1.8-1.fc40) Fedora 40 Kernel: Depends on container host Compiler: gcc 14.2.1 20240912 (Red Hat 14.2.1-3) Fedora 41 (Clang) Kernel: Depends on container host Compiler: clang 19.1.5 (Fedora 19.1.5-1.fc41) Fedora 41 Kernel: Depends on container host Compiler: gcc 14.2.1 20240912 (Red Hat 14.2.1-3) openSUSE Leap 15 Kernel: Depends on container host Compiler: gcc (SUSE Linux) 7.5.0 RHEL8 Kernel: Depends on container host Compiler: gcc 8.5.0 20210514 (Red Hat 8.5.0-22) RHEL9 Kernel: Depends on container host Compiler: gcc 11.5.0 20240719 (Red Hat 11.5.0-2) Ubuntu 20.04 Kernel: Depends on container host Compiler: gcc (Ubuntu 9.4.0-1ubuntu1~20.04.2) 9.4.0 Ubuntu 22.04 Kernel: Depends on container host Compiler: gcc (Ubuntu 11.4.0-1ubuntu1~22.04) 11.4.0 Ubuntu 24.04 Kernel: Depends on container host Compiler: gcc (Ubuntu 13.3.0-6ubuntu2~24.04) 13.3.0 Alpine Kernel: Depends on container host Compiler: gcc (Alpine 14.2.0) 14.2.0 To view detailed results, visit: https://lab.dpdk.org/results/dashboard/patchsets/32389/ UNH-IOL DPDK Community Lab To manage your email subscriptions, visit: https://lab.dpdk.org/results/dashboard/preferences/subscriptions/