From mboxrd@z Thu Jan 1 00:00:00 1970 Return-Path: Received: from mails.dpdk.org (mails.dpdk.org [217.70.189.124]) by inbox.dpdk.org (Postfix) with ESMTP id 763E9461A0 for ; Wed, 5 Feb 2025 18:36:52 +0100 (CET) Received: from mails.dpdk.org (localhost [127.0.0.1]) by mails.dpdk.org (Postfix) with ESMTP id 727AF402E0; Wed, 5 Feb 2025 18:36:52 +0100 (CET) Received: from mail-pl1-f225.google.com (mail-pl1-f225.google.com [209.85.214.225]) by mails.dpdk.org (Postfix) with ESMTP id 5268C402DC for ; Wed, 5 Feb 2025 18:36:51 +0100 (CET) Received: by mail-pl1-f225.google.com with SMTP id d9443c01a7336-21f2f1181f2so1832865ad.2 for ; Wed, 05 Feb 2025 09:36:51 -0800 (PST) DKIM-Signature: v=1; a=rsa-sha256; c=relaxed/relaxed; d=iol.unh.edu; s=unh-iol; t=1738777010; x=1739381810; darn=dpdk.org; h=references:in-reply-to:cc:to:from:subject:message-id:date:from:to :cc:subject:date:message-id:reply-to; bh=Hcal+B+CBTp3bLHa90CeUSvcrcNfUsXl8wkULAKEmb8=; b=OmNGZBHC7Mu1rhV6cOwSTxJqXBXLFkvFdFpli5ekx+c05IUHCvMRQKvG/F1hU0SxEm Enzo5gJ3FHr/qVJsFZJU3pd6NfN7sftmTbmb3qf5BJGbi6+mGFj0oACaZouqd10+YqEq YLVes4MFgmyhTfXgtXzNGmNfpW2d/N9dcRa2s= X-Google-DKIM-Signature: v=1; a=rsa-sha256; c=relaxed/relaxed; d=1e100.net; s=20230601; t=1738777010; x=1739381810; h=references:in-reply-to:cc:to:from:subject:message-id:date :x-gm-message-state:from:to:cc:subject:date:message-id:reply-to; bh=Hcal+B+CBTp3bLHa90CeUSvcrcNfUsXl8wkULAKEmb8=; b=s4toPOlgDRMWKBMMJPk7PYVXGmdqktz32zR2ebi8Ql120/D4f0Xaou6/Ycc3Ce/E3o YeHzSumbazwDd2yqbWwV/ehDLJyOUdb4JOigZ/lvzL08C0kAzkIAuoJQVdNlvDuxvmx5 h6RV5Chqb2YBn2pgtLPzb+dc0P6EMWxOedmxCXZX7Z5r85PCP9G53/J+TgOirTCANK1K jq1iEkjqGqMy4DVwC9j6HvC36T6vA3KOzdj16XNZp4nSRYsp6z/1xxkqqYrHlM14d3qw t/pjjd9CwyqAoN2qm9uJN6pwWxYHHeloUzbewv3y64LpeuP8Giz1Ni+YCHx7ee5VAblN nX7g== X-Gm-Message-State: AOJu0YyfXOMHy2Io02Iz/jw+9zYdc40gfL3mUC0JviApK0a/915W9HLs oXtGbqv84yAuho2eJ/kgUI3BHVDBWUh91+d0OP9U1vY4HMou1001fkssuUjUnpwrMJA2L+u9xll NYiTsbdnVaBSubGhNyuI3WXBog1zqiYixcslbCHZZ0ih3KhAJ835IG2HV X-Gm-Gg: ASbGncumrYd0VcYkZpSmDGOG1CYT2FrROw0Z7YNnhP7Q/UIzZNpUSEk3c61xqgoaTJJ 1ycWsM3wx2xvMPYa5zdjW1jciX7FgvxpexXem1hGVIbzsuI/AOAJPO1EAu62fOzP3zrGC47PhxE QMja6zjkbtbUJvh2t2GfhzJ6m5H4OFGe/CwImQ33cMqz/kY6zALXzyo53rnvGO90SosVbwSMOyL cACzKdyyC96cIUzJSZnmXNbCxm1r2RNWF6J/kuXCSLveqxSDhkZvvfqgwJvBFpyeJBw9uxtwQen qRuUdiyyxtOzyBBKv3yuaWyOJOhvbV54LlWZ7Fecww== X-Google-Smtp-Source: AGHT+IGjfaazsju/eGSxJTVm9I4EMBEeApJv7gGAZ/61AxWBr2vsOsceNqH071+2Q9St3FmilGGIcD1AZlmL X-Received: by 2002:a05:6a20:12d1:b0:1e0:e000:ca60 with SMTP id adf61e73a8af0-1ede88a6819mr6315799637.28.1738777010477; Wed, 05 Feb 2025 09:36:50 -0800 (PST) Received: from postal.iol.unh.edu (postal.iol.unh.edu. [2606:4100:3880:1234::84]) by smtp-relay.gmail.com with ESMTPS id 41be03b00d2f7-acfc562fe2esm695190a12.18.2025.02.05.09.36.50 (version=TLS1_2 cipher=ECDHE-ECDSA-AES128-GCM-SHA256 bits=128/128); Wed, 05 Feb 2025 09:36:50 -0800 (PST) X-Relaying-Domain: iol.unh.edu Date: Wed, 05 Feb 2025 09:36:50 -0800 (PST) Message-ID: <67a3a1b2.630a0220.3adb63.0d07SMTPIN_ADDED_MISSING@mx.google.com> Received: from [172.21.0.19] (unknown [172.18.0.240]) by postal.iol.unh.edu (Postfix) with ESMTP id 95FCB6052471; Wed, 5 Feb 2025 12:36:49 -0500 (EST) Subject: |SUCCESS| pw149938 [PATCH] [1/1] eal/linux: Remove unused values From: dpdklab@iol.unh.edu To: Test Report Cc: dpdk-test-reports@iol.unh.edu In-Reply-To: <20250113171920.1185214-2-ariel.otilibili@6wind.com> References: <20250113171920.1185214-2-ariel.otilibili@6wind.com> Content-Type: text/plain X-BeenThere: test-report@dpdk.org X-Mailman-Version: 2.1.29 Precedence: list List-Id: automatic DPDK test reports List-Unsubscribe: , List-Archive: List-Post: List-Help: List-Subscribe: , Errors-To: test-report-bounces@dpdk.org Test-Label: iol-compile-amd64-testing Test-Status: SUCCESS http://dpdk.org/patch/149938 _Testing PASS_ Submitter: Ariel Otilibili Date: Monday, January 13 2025 17:19:20 DPDK git baseline: Repo:dpdk Branch: master CommitID:fd51012de5369679e807be1d6a81d63ef15015ce 149938 --> testing pass Test environment and result as below: +---------------------+--------------------+------------------+-------------------+-------------------+-------------------------+----------------------+ | Environment | dpdk_meson_compile | dpdk_compile_ovs | dpdk_compile_spdk | dpdk_msvc_compile | dpdk_llvm_clang_compile | dpdk_mingw64_compile | +=====================+====================+==================+===================+===================+=========================+======================+ | Debian Bullseye | PASS | PASS | PASS | SKIPPED | SKIPPED | SKIPPED | +---------------------+--------------------+------------------+-------------------+-------------------+-------------------------+----------------------+ | CentOS Stream 9 | PASS | PASS | PASS | SKIPPED | SKIPPED | SKIPPED | +---------------------+--------------------+------------------+-------------------+-------------------+-------------------------+----------------------+ | Fedora 40 | PASS | PASS | PASS | SKIPPED | SKIPPED | SKIPPED | +---------------------+--------------------+------------------+-------------------+-------------------+-------------------------+----------------------+ | Fedora 40 (Clang) | PASS | PASS | PASS | SKIPPED | SKIPPED | SKIPPED | +---------------------+--------------------+------------------+-------------------+-------------------+-------------------------+----------------------+ | Fedora 41 (Clang) | PASS | PASS | PASS | SKIPPED | SKIPPED | SKIPPED | +---------------------+--------------------+------------------+-------------------+-------------------+-------------------------+----------------------+ | Fedora 41 | PASS | PASS | PASS | SKIPPED | SKIPPED | SKIPPED | +---------------------+--------------------+------------------+-------------------+-------------------+-------------------------+----------------------+ | openSUSE Leap 15 | PASS | SKIPPED | SKIPPED | SKIPPED | SKIPPED | SKIPPED | +---------------------+--------------------+------------------+-------------------+-------------------+-------------------------+----------------------+ | RHEL8 | PASS | PASS | SKIPPED | SKIPPED | SKIPPED | SKIPPED | +---------------------+--------------------+------------------+-------------------+-------------------+-------------------------+----------------------+ | RHEL9 | PASS | PASS | SKIPPED | SKIPPED | SKIPPED | SKIPPED | +---------------------+--------------------+------------------+-------------------+-------------------+-------------------------+----------------------+ | Ubuntu 20.04 | PASS | SKIPPED | SKIPPED | SKIPPED | SKIPPED | SKIPPED | +---------------------+--------------------+------------------+-------------------+-------------------+-------------------------+----------------------+ | Ubuntu 22.04 | PASS | PASS | PASS | SKIPPED | SKIPPED | SKIPPED | +---------------------+--------------------+------------------+-------------------+-------------------+-------------------------+----------------------+ | Ubuntu 24.04 | PASS | PASS | PASS | SKIPPED | SKIPPED | SKIPPED | +---------------------+--------------------+------------------+-------------------+-------------------+-------------------------+----------------------+ | Alpine | PASS | PASS | SKIPPED | SKIPPED | SKIPPED | SKIPPED | +---------------------+--------------------+------------------+-------------------+-------------------+-------------------------+----------------------+ | FreeBSD 13.4 | PASS | SKIPPED | SKIPPED | SKIPPED | SKIPPED | SKIPPED | +---------------------+--------------------+------------------+-------------------+-------------------+-------------------------+----------------------+ | FreeBSD 14.2 | PASS | SKIPPED | SKIPPED | SKIPPED | SKIPPED | SKIPPED | +---------------------+--------------------+------------------+-------------------+-------------------+-------------------------+----------------------+ | Debian 12 | PASS | PASS | PASS | SKIPPED | SKIPPED | SKIPPED | +---------------------+--------------------+------------------+-------------------+-------------------+-------------------------+----------------------+ | Windows Server 2022 | SKIPPED | SKIPPED | SKIPPED | PASS | PASS | PASS | +---------------------+--------------------+------------------+-------------------+-------------------+-------------------------+----------------------+ Debian Bullseye Kernel: Depends on container host Compiler: gcc (Debian 10.2.1-6) 10.2.1 20210110 CentOS Stream 9 Kernel: Depends on container host Compiler: gcc 11.5.0 20240719 (Red Hat 11.5.0-2) Fedora 40 Kernel: Depends on container host Compiler: gcc 14.2.1 20240912 (Red Hat 14.2.1-3) Fedora 40 (Clang) Kernel: Depends on container host Compiler: clang 18.1.8 (Fedora 18.1.8-1.fc40) Fedora 41 (Clang) Kernel: Depends on container host Compiler: clang 19.1.5 (Fedora 19.1.5-1.fc41) Fedora 41 Kernel: Depends on container host Compiler: gcc 14.2.1 20240912 (Red Hat 14.2.1-3) openSUSE Leap 15 Kernel: Depends on container host Compiler: gcc (SUSE Linux) 7.5.0 RHEL8 Kernel: Depends on container host Compiler: gcc 8.5.0 20210514 (Red Hat 8.5.0-22) RHEL9 Kernel: Depends on container host Compiler: gcc 11.5.0 20240719 (Red Hat 11.5.0-2) Ubuntu 20.04 Kernel: Depends on container host Compiler: gcc (Ubuntu 9.4.0-1ubuntu1~20.04.2) 9.4.0 Ubuntu 22.04 Kernel: Depends on container host Compiler: gcc (Ubuntu 11.4.0-1ubuntu1~22.04) 11.4.0 Ubuntu 24.04 Kernel: Depends on container host Compiler: gcc (Ubuntu 13.3.0-6ubuntu2~24.04) 13.3.0 Alpine Kernel: Depends on container host Compiler: gcc (Alpine 14.2.0) 14.2.0 FreeBSD 13.4 Kernel: 13.4-RELEASE-p1 Compiler: clang 18.1.6 FreeBSD 14.2 Kernel: 14.2-RELEASE Compiler: clang 18.1.6 Debian 12 Kernel: Depends on container host Compiler: gcc (Debian 12.2.0-14) 12.2.0 Windows Server 2022 Kernel: 10.0.20348.2031 Compiler: clang 15.0.7, gcc 14.1.0 (MinGW), and MSVC VS 19.39.33521 To view detailed results, visit: https://lab.dpdk.org/results/dashboard/patchsets/32309/ UNH-IOL DPDK Community Lab To manage your email subscriptions, visit: https://lab.dpdk.org/results/dashboard/preferences/subscriptions/