From mboxrd@z Thu Jan 1 00:00:00 1970 Return-Path: Received: from mails.dpdk.org (mails.dpdk.org [217.70.189.124]) by inbox.dpdk.org (Postfix) with ESMTP id C99B7461A0 for ; Wed, 5 Feb 2025 19:09:29 +0100 (CET) Received: from mails.dpdk.org (localhost [127.0.0.1]) by mails.dpdk.org (Postfix) with ESMTP id A9A42402D9; Wed, 5 Feb 2025 19:09:29 +0100 (CET) Received: from mail-pj1-f98.google.com (mail-pj1-f98.google.com [209.85.216.98]) by mails.dpdk.org (Postfix) with ESMTP id 3ABE940261 for ; Wed, 5 Feb 2025 19:09:28 +0100 (CET) Received: by mail-pj1-f98.google.com with SMTP id 98e67ed59e1d1-2f9b9c0088fso77169a91.0 for ; Wed, 05 Feb 2025 10:09:28 -0800 (PST) DKIM-Signature: v=1; a=rsa-sha256; c=relaxed/relaxed; d=iol.unh.edu; s=unh-iol; t=1738778967; x=1739383767; darn=dpdk.org; h=references:in-reply-to:cc:to:from:subject:message-id:date:from:to :cc:subject:date:message-id:reply-to; bh=AYr0cZQoNLZztIEg0CGmp6EuYSO1giLQt7Gy9/CJnHA=; b=g6XIbzk/lxc0uw6Haw/LjSnRG0RyGNhCHZCUxYLRAnOu6kVHvjpDMgd9QxLT1ihwQ8 df+Llw72kDwYuVegptSBJqOkS6mZOgoqp4o9MogNG46UM3Jx5sb29ayKQEYKTdRVSnpk i7YFJNGSuNWvlNk0LHLHuaNcTra4uctMlV7oQ= X-Google-DKIM-Signature: v=1; a=rsa-sha256; c=relaxed/relaxed; d=1e100.net; s=20230601; t=1738778967; x=1739383767; h=references:in-reply-to:cc:to:from:subject:message-id:date :x-gm-message-state:from:to:cc:subject:date:message-id:reply-to; bh=AYr0cZQoNLZztIEg0CGmp6EuYSO1giLQt7Gy9/CJnHA=; b=FxKYcCHdVDLzcOdlkflBnSpqNv3Lk6nsZU20VmLapf8xv0ZUikQFP0M5f+2ScmPHQd aY7g3x/Jaobpt6zfixsRmAQMit7We5jVOYX/6bWho4VONbwO75VRfDgyL/FSchnXZ3Mu /+NTu9w5PGwjEaZm/EOKYXkZB2MZJHU/eaXje57SPUs2sU2L6tNXH1ABUFSEfeMImrWL kDdfCVHRIukM/RQa1LxSUeQlfoPlbcdM/6cL7hC/0VTkdQvF8Evhtz4pFWZ3Te6loB+7 npQy6ezYY3FTE8pdSLWh55GTg8wHRr6fiZjANnUWPfLjS33dc5OCWz8uKT6BJcESglot SR4w== X-Gm-Message-State: AOJu0YyeVLZxSJle3SmFNaUpq3X9u2Tsl9AGG0hIOptQK83+HD1JlfRD F5TGGopHTFRMIAyfJdJFmqb0zZIMt1nfZvNvMgkDjMrnyTYUCkqRKDIZd76JAa7/dMBTn6R9aHn bx8Qmq33BFYGhu2KQOk85moB0je49B7lBm5PV93QX X-Gm-Gg: ASbGncupHnlWSVuRlFn+C/Uqdrhd+umAGLSTakgiZfNLkV+DkPm2hRE+/b00b16Xpb4 eFkp0t8rvGO3bhQkXUS42ygysvDfjN7yjK+neNNr8cZfVO6JsouEoTMmaE3aDz3IluTzBJb9IDZ HpKIVnfh7MQA69QuqdK/u45aLyGrWQDd5wwEYcKpjxsdNjcNOQdQ0AJ+pES2nKOGP4BgcqM2a63 HM6rUs2tKf71F4WtBdmkstWZQrgkpCoUOeoVtoBuUvlRN0Znpb9zlc4r6+QsvFgxFAgQwarDspR XThX7aBbG4Ja+xZohHnvbDECq77ZyA== X-Google-Smtp-Source: AGHT+IFUFb1nQWMcB/+R3zqSy57DkQs73Foz/fpEGc/ufi6ihAMXM9vyUNhZW/CLpjNuQHV0WrEDS0Kfh94r X-Received: by 2002:a17:90b:2243:b0:2f2:e905:d5ff with SMTP id 98e67ed59e1d1-2f9ff8b47c7mr449241a91.6.1738778967273; Wed, 05 Feb 2025 10:09:27 -0800 (PST) Received: from postal.iol.unh.edu (postal.iol.unh.edu. [132.177.123.84]) by smtp-relay.gmail.com with ESMTPS id 98e67ed59e1d1-2f9e1d7b64esm170529a91.6.2025.02.05.10.09.27 (version=TLS1_2 cipher=ECDHE-ECDSA-AES128-GCM-SHA256 bits=128/128); Wed, 05 Feb 2025 10:09:27 -0800 (PST) X-Relaying-Domain: iol.unh.edu Date: Wed, 05 Feb 2025 10:09:27 -0800 (PST) Message-ID: <67a3a957.170a0220.1f21b8.719bSMTPIN_ADDED_MISSING@mx.google.com> Received: from [172.17.0.5] (unknown [172.18.0.217]) by postal.iol.unh.edu (Postfix) with ESMTP id 56DFD6052471; Wed, 5 Feb 2025 13:09:26 -0500 (EST) Subject: |SUCCESS| pw148945 [PATCH] [v2] net/mlx5: fix RSS hash for non-RSS C From: dpdklab@iol.unh.edu To: Test Report Cc: dpdk-test-reports@iol.unh.edu In-Reply-To: <20241129204540.2159168-1-akozyrev@nvidia.com> References: <20241129204540.2159168-1-akozyrev@nvidia.com> Content-Type: text/plain X-BeenThere: test-report@dpdk.org X-Mailman-Version: 2.1.29 Precedence: list List-Id: automatic DPDK test reports List-Unsubscribe: , List-Archive: List-Post: List-Help: List-Subscribe: , Errors-To: test-report-bounces@dpdk.org Test-Label: iol-compile-amd64-testing Test-Status: SUCCESS http://dpdk.org/patch/148945 _Testing PASS_ Submitter: Alexander Kozyrev Date: Friday, November 29 2024 20:44:59 DPDK git baseline: Repo:dpdk Branch: master CommitID:8750576fb2a9a067ffbcce4bab6481f3bfa47097 148945 --> testing pass Test environment and result as below: +---------------------+--------------------+------------------+-------------------+-------------------+-------------------------+----------------------+ | Environment | dpdk_meson_compile | dpdk_compile_ovs | dpdk_compile_spdk | dpdk_msvc_compile | dpdk_llvm_clang_compile | dpdk_mingw64_compile | +=====================+====================+==================+===================+===================+=========================+======================+ | CentOS Stream 9 | PASS | PASS | PASS | SKIPPED | SKIPPED | SKIPPED | +---------------------+--------------------+------------------+-------------------+-------------------+-------------------------+----------------------+ | Fedora 40 (Clang) | PASS | PASS | PASS | SKIPPED | SKIPPED | SKIPPED | +---------------------+--------------------+------------------+-------------------+-------------------+-------------------------+----------------------+ | Debian 12 | PASS | PASS | PASS | SKIPPED | SKIPPED | SKIPPED | +---------------------+--------------------+------------------+-------------------+-------------------+-------------------------+----------------------+ | Fedora 40 | PASS | PASS | PASS | SKIPPED | SKIPPED | SKIPPED | +---------------------+--------------------+------------------+-------------------+-------------------+-------------------------+----------------------+ | Fedora 39 (Clang) | PASS | PASS | PASS | SKIPPED | SKIPPED | SKIPPED | +---------------------+--------------------+------------------+-------------------+-------------------+-------------------------+----------------------+ | Fedora 39 | PASS | PASS | PASS | SKIPPED | SKIPPED | SKIPPED | +---------------------+--------------------+------------------+-------------------+-------------------+-------------------------+----------------------+ | Ubuntu 22.04 | PASS | PASS | PASS | SKIPPED | SKIPPED | SKIPPED | +---------------------+--------------------+------------------+-------------------+-------------------+-------------------------+----------------------+ | Alpine | PASS | PASS | SKIPPED | SKIPPED | SKIPPED | SKIPPED | +---------------------+--------------------+------------------+-------------------+-------------------+-------------------------+----------------------+ | openSUSE Leap 15 | PASS | PASS | SKIPPED | SKIPPED | SKIPPED | SKIPPED | +---------------------+--------------------+------------------+-------------------+-------------------+-------------------------+----------------------+ | RHEL8 | PASS | PASS | SKIPPED | SKIPPED | SKIPPED | SKIPPED | +---------------------+--------------------+------------------+-------------------+-------------------+-------------------------+----------------------+ | Ubuntu 20.04 | PASS | SKIPPED | SKIPPED | SKIPPED | SKIPPED | SKIPPED | +---------------------+--------------------+------------------+-------------------+-------------------+-------------------------+----------------------+ | RHEL9 | PASS | PASS | SKIPPED | SKIPPED | SKIPPED | SKIPPED | +---------------------+--------------------+------------------+-------------------+-------------------+-------------------------+----------------------+ | Ubuntu 24.04 | PASS | PASS | PASS | SKIPPED | SKIPPED | SKIPPED | +---------------------+--------------------+------------------+-------------------+-------------------+-------------------------+----------------------+ | FreeBSD 14.2 | PASS | SKIPPED | SKIPPED | SKIPPED | SKIPPED | SKIPPED | +---------------------+--------------------+------------------+-------------------+-------------------+-------------------------+----------------------+ | FreeBSD 13.4 | PASS | SKIPPED | SKIPPED | SKIPPED | SKIPPED | SKIPPED | +---------------------+--------------------+------------------+-------------------+-------------------+-------------------------+----------------------+ | Windows Server 2022 | SKIPPED | SKIPPED | SKIPPED | PASS | PASS | PASS | +---------------------+--------------------+------------------+-------------------+-------------------+-------------------------+----------------------+ CentOS Stream 9 Kernel: Depends on container host Compiler: gcc 11.5.0 20240719 (Red Hat 11.5.0-2) Fedora 40 (Clang) Kernel: Depends on container host Compiler: clang 18.1.8 (Fedora 18.1.8-1.fc40) Debian 12 Kernel: Depends on container host Compiler: gcc (Debian 12.2.0-14) 12.2.0 Fedora 40 Kernel: Depends on container host Compiler: gcc 14.2.1 20240912 (Red Hat 14.2.1-3) Fedora 39 (Clang) Kernel: Depends on container host Compiler: clang 17.0.6 (Fedora 17.0.6-2.fc39) Fedora 39 Kernel: Depends on container host Compiler: gcc 13.3.1 20240522 (Red Hat 13.3.1-1) Ubuntu 22.04 Kernel: Depends on container host Compiler: gcc (Ubuntu 11.4.0-1ubuntu1~22.04) 11.4.0 Alpine Kernel: Depends on container host Compiler: gcc (Alpine 14.2.0) 14.2.0 openSUSE Leap 15 Kernel: Depends on container host Compiler: gcc (SUSE Linux) 7.5.0 RHEL8 Kernel: Depends on container host Compiler: gcc 8.5.0 20210514 (Red Hat 8.5.0-22) Ubuntu 20.04 Kernel: Depends on container host Compiler: gcc (Ubuntu 9.4.0-1ubuntu1~20.04.2) 9.4.0 RHEL9 Kernel: Depends on container host Compiler: gcc 11.5.0 20240719 (Red Hat 11.5.0-2) Ubuntu 24.04 Kernel: Depends on container host Compiler: gcc (Ubuntu 13.3.0-6ubuntu2~24.04) 13.3.0 FreeBSD 14.2 Kernel: 14.2-RELEASE Compiler: clang 18.1.6 FreeBSD 13.4 Kernel: 13.4-RELEASE-p1 Compiler: clang 18.1.6 Windows Server 2022 Kernel: 10.0.20348.2031 Compiler: clang 15.0.7, gcc 14.1.0 (MinGW), and MSVC VS 19.39.33521 To view detailed results, visit: https://lab.dpdk.org/results/dashboard/patchsets/32060/ UNH-IOL DPDK Community Lab To manage your email subscriptions, visit: https://lab.dpdk.org/results/dashboard/preferences/subscriptions/