From mboxrd@z Thu Jan 1 00:00:00 1970 Return-Path: Received: from mails.dpdk.org (mails.dpdk.org [217.70.189.124]) by inbox.dpdk.org (Postfix) with ESMTP id BCCD8461A0 for ; Wed, 5 Feb 2025 19:09:31 +0100 (CET) Received: from mails.dpdk.org (localhost [127.0.0.1]) by mails.dpdk.org (Postfix) with ESMTP id BA03740270; Wed, 5 Feb 2025 19:09:31 +0100 (CET) Received: from mail-pl1-f228.google.com (mail-pl1-f228.google.com [209.85.214.228]) by mails.dpdk.org (Postfix) with ESMTP id A206D40261 for ; Wed, 5 Feb 2025 19:09:29 +0100 (CET) Received: by mail-pl1-f228.google.com with SMTP id d9443c01a7336-2166360285dso2391985ad.1 for ; Wed, 05 Feb 2025 10:09:29 -0800 (PST) DKIM-Signature: v=1; a=rsa-sha256; c=relaxed/relaxed; d=iol.unh.edu; s=unh-iol; t=1738778969; x=1739383769; darn=dpdk.org; h=references:in-reply-to:cc:to:from:subject:message-id:date:from:to :cc:subject:date:message-id:reply-to; bh=hb8JkA924+ZmMjmN4iWWtS+bsjnRNES8sZtdU8VVElw=; b=Kn4AVR93WDYSDIQ1mAzro7bOwRD+OWF3UjBZn1g1Gr+w7v6LuS7T1QCK8PdeSfS+C8 zRYT9KDCmbnOwzuO5SNc7YnGmlYZ/S/kCSAzL/EfDKV/kkb1GOf8P/5E7vEG1DjMiwDc YvqdW467ZlELa3l9ZR6dHH+HAnMAPzcVVwGC0= X-Google-DKIM-Signature: v=1; a=rsa-sha256; c=relaxed/relaxed; d=1e100.net; s=20230601; t=1738778969; x=1739383769; h=references:in-reply-to:cc:to:from:subject:message-id:date :x-gm-message-state:from:to:cc:subject:date:message-id:reply-to; bh=hb8JkA924+ZmMjmN4iWWtS+bsjnRNES8sZtdU8VVElw=; b=U6VLXJusvEv3uZrnsDZwS2AoUjguOz+gliJhur1POYv69kZv2CMEMOPaRiifj2+Ggn 0itFcpNT8QxUSQaKJE15kOWxEwWN3pooilzenjntfduXDLdlUj3R1C8f1NjQxQ6CffPH VAlOpo5ZVPIPyNDbv8LpU6+K3C3zHO5tTPSkMpkJ2JXHJO6+BlX4GF0cztjS2kQ3Kcn7 ZnYL1CYXFgcx9tCuVR1InXmiD88PvojsRjbFRc+TE2Eec2nUpQDFdG0F/7Jhimm3207Y NyB+SkZjSOml/8I8dCTKThxV6unW0rotdtPiNl/gY0F/yvInR1US9iLuV8SYU2xfYjfL eDeQ== X-Gm-Message-State: AOJu0Ywsq1aT9uhT1q2uuN1/BDY5v82MqUMGBukOzopQCoTyY5dI7Pyj lm+1B4EjGr664qlXkvJHpARD57qSlQ3JOrV51JZQGwyefrk1cAqrRq8GP9Ym51znlq9nc5QNm7w g5h4mSGfqFeTDxaigCD4rOeW2WYKD29YqgyMaSfOY X-Gm-Gg: ASbGncsUvT79mEuwPGtUxL0kJnWqt8L9UsdBU2dT3Rw0aUwKHjulrt0KNdeCwvJS7Ye A3gdwYJXIpWtQgwYZjhj2ApmGvAQ+57DE7eNCUhmiyx5Zp+BNLHZoL5bxCkpO6HGmONQ0LM20Dx bG5cjL0UdfRaehBND7u/0VmuFnwlh6Gs3gGC+9xboVysRY1Qc1ykNICgWIVrP5QJQkYt31+wld5 VzpIfEKfGUBLOeV9D/houWoTjxQgjl+1QY5Y2tvfOTmKxBhQC0emF0lZXNp1ckPiWK12CRIlZAS iVpgLZ8+pKg8V/YlqK7ARKhK2AWOtA== X-Google-Smtp-Source: AGHT+IHbXicJvO2xIsjNam+1TQnrKPf8pXNNKjEAuMCrvDVm+vzABSmYYu5B82JlbQqMSBaca6jQHi/ZpUft X-Received: by 2002:a17:902:d481:b0:211:fcad:d6ea with SMTP id d9443c01a7336-21f17f031afmr63098595ad.45.1738778968746; Wed, 05 Feb 2025 10:09:28 -0800 (PST) Received: from postal.iol.unh.edu (postal.iol.unh.edu. [132.177.123.84]) by smtp-relay.gmail.com with ESMTPS id d9443c01a7336-21f0a1409d6sm1890775ad.42.2025.02.05.10.09.28 (version=TLS1_2 cipher=ECDHE-ECDSA-AES128-GCM-SHA256 bits=128/128); Wed, 05 Feb 2025 10:09:28 -0800 (PST) X-Relaying-Domain: iol.unh.edu Date: Wed, 05 Feb 2025 10:09:28 -0800 (PST) Message-ID: <67a3a958.170a0220.3b9231.8f4eSMTPIN_ADDED_MISSING@mx.google.com> Received: from [172.17.0.3] (unknown [172.18.0.214]) by postal.iol.unh.edu (Postfix) with ESMTP id D65466052471; Wed, 5 Feb 2025 13:09:27 -0500 (EST) Subject: |SUCCESS| pw148923 [PATCH] test/crypto: return proper codes in creat From: dpdklab@iol.unh.edu To: Test Report Cc: dpdk-test-reports@iol.unh.edu In-Reply-To: <20241127151510.1080129-1-rmudimadugul@marvell.com> References: <20241127151510.1080129-1-rmudimadugul@marvell.com> Content-Type: text/plain X-BeenThere: test-report@dpdk.org X-Mailman-Version: 2.1.29 Precedence: list List-Id: automatic DPDK test reports List-Unsubscribe: , List-Archive: List-Post: List-Help: List-Subscribe: , Errors-To: test-report-bounces@dpdk.org Test-Label: iol-compile-amd64-testing Test-Status: SUCCESS http://dpdk.org/patch/148923 _Testing PASS_ Submitter: Rajesh Mudimadugula Date: Wednesday, November 27 2024 15:15:10 DPDK git baseline: Repo:dpdk Branch: master CommitID:f4ccce58c1a33cb41e1e820da504698437987efc 148923 --> testing pass Test environment and result as below: +---------------------+--------------------+------------------+-------------------+-------------------+-------------------------+----------------------+ | Environment | dpdk_meson_compile | dpdk_compile_ovs | dpdk_compile_spdk | dpdk_msvc_compile | dpdk_llvm_clang_compile | dpdk_mingw64_compile | +=====================+====================+==================+===================+===================+=========================+======================+ | Fedora 39 (Clang) | PASS | PASS | PASS | SKIPPED | SKIPPED | SKIPPED | +---------------------+--------------------+------------------+-------------------+-------------------+-------------------------+----------------------+ | Debian 12 | PASS | PASS | PASS | SKIPPED | SKIPPED | SKIPPED | +---------------------+--------------------+------------------+-------------------+-------------------+-------------------------+----------------------+ | CentOS Stream 9 | PASS | PASS | PASS | SKIPPED | SKIPPED | SKIPPED | +---------------------+--------------------+------------------+-------------------+-------------------+-------------------------+----------------------+ | Fedora 39 | PASS | PASS | PASS | SKIPPED | SKIPPED | SKIPPED | +---------------------+--------------------+------------------+-------------------+-------------------+-------------------------+----------------------+ | Fedora 40 | PASS | PASS | PASS | SKIPPED | SKIPPED | SKIPPED | +---------------------+--------------------+------------------+-------------------+-------------------+-------------------------+----------------------+ | openSUSE Leap 15 | PASS | PASS | SKIPPED | SKIPPED | SKIPPED | SKIPPED | +---------------------+--------------------+------------------+-------------------+-------------------+-------------------------+----------------------+ | RHEL8 | PASS | PASS | SKIPPED | SKIPPED | SKIPPED | SKIPPED | +---------------------+--------------------+------------------+-------------------+-------------------+-------------------------+----------------------+ | RHEL9 | PASS | PASS | SKIPPED | SKIPPED | SKIPPED | SKIPPED | +---------------------+--------------------+------------------+-------------------+-------------------+-------------------------+----------------------+ | Ubuntu 20.04 | PASS | SKIPPED | SKIPPED | SKIPPED | SKIPPED | SKIPPED | +---------------------+--------------------+------------------+-------------------+-------------------+-------------------------+----------------------+ | Ubuntu 22.04 | PASS | PASS | PASS | SKIPPED | SKIPPED | SKIPPED | +---------------------+--------------------+------------------+-------------------+-------------------+-------------------------+----------------------+ | Ubuntu 24.04 | PASS | PASS | PASS | SKIPPED | SKIPPED | SKIPPED | +---------------------+--------------------+------------------+-------------------+-------------------+-------------------------+----------------------+ | Alpine | PASS | PASS | SKIPPED | SKIPPED | SKIPPED | SKIPPED | +---------------------+--------------------+------------------+-------------------+-------------------+-------------------------+----------------------+ | FreeBSD 14.2 | PASS | SKIPPED | SKIPPED | SKIPPED | SKIPPED | SKIPPED | +---------------------+--------------------+------------------+-------------------+-------------------+-------------------------+----------------------+ | FreeBSD 13.4 | PASS | SKIPPED | SKIPPED | SKIPPED | SKIPPED | SKIPPED | +---------------------+--------------------+------------------+-------------------+-------------------+-------------------------+----------------------+ | Fedora 40 (Clang) | PASS | PASS | PASS | SKIPPED | SKIPPED | SKIPPED | +---------------------+--------------------+------------------+-------------------+-------------------+-------------------------+----------------------+ | Windows Server 2022 | SKIPPED | SKIPPED | SKIPPED | PASS | PASS | PASS | +---------------------+--------------------+------------------+-------------------+-------------------+-------------------------+----------------------+ Fedora 39 (Clang) Kernel: Depends on container host Compiler: clang 17.0.6 (Fedora 17.0.6-2.fc39) Debian 12 Kernel: Depends on container host Compiler: gcc (Debian 12.2.0-14) 12.2.0 CentOS Stream 9 Kernel: Depends on container host Compiler: gcc 11.5.0 20240719 (Red Hat 11.5.0-2) Fedora 39 Kernel: Depends on container host Compiler: gcc 13.3.1 20240522 (Red Hat 13.3.1-1) Fedora 40 Kernel: Depends on container host Compiler: gcc 14.2.1 20240912 (Red Hat 14.2.1-3) openSUSE Leap 15 Kernel: Depends on container host Compiler: gcc (SUSE Linux) 7.5.0 RHEL8 Kernel: Depends on container host Compiler: gcc 8.5.0 20210514 (Red Hat 8.5.0-22) RHEL9 Kernel: Depends on container host Compiler: gcc 11.5.0 20240719 (Red Hat 11.5.0-2) Ubuntu 20.04 Kernel: Depends on container host Compiler: gcc (Ubuntu 9.4.0-1ubuntu1~20.04.2) 9.4.0 Ubuntu 22.04 Kernel: Depends on container host Compiler: gcc (Ubuntu 11.4.0-1ubuntu1~22.04) 11.4.0 Ubuntu 24.04 Kernel: Depends on container host Compiler: gcc (Ubuntu 13.3.0-6ubuntu2~24.04) 13.3.0 Alpine Kernel: Depends on container host Compiler: gcc (Alpine 14.2.0) 14.2.0 FreeBSD 14.2 Kernel: 14.2-RELEASE Compiler: clang 18.1.6 FreeBSD 13.4 Kernel: 13.4-RELEASE-p1 Compiler: clang 18.1.6 Fedora 40 (Clang) Kernel: Depends on container host Compiler: clang 18.1.8 (Fedora 18.1.8-1.fc40) Windows Server 2022 Kernel: 10.0.20348.2031 Compiler: clang 15.0.7, gcc 14.1.0 (MinGW), and MSVC VS 19.39.33521 To view detailed results, visit: https://lab.dpdk.org/results/dashboard/patchsets/32042/ UNH-IOL DPDK Community Lab To manage your email subscriptions, visit: https://lab.dpdk.org/results/dashboard/preferences/subscriptions/