From mboxrd@z Thu Jan 1 00:00:00 1970 Return-Path: Received: from mails.dpdk.org (mails.dpdk.org [217.70.189.124]) by inbox.dpdk.org (Postfix) with ESMTP id EBD58461A0 for ; Wed, 5 Feb 2025 19:09:31 +0100 (CET) Received: from mails.dpdk.org (localhost [127.0.0.1]) by mails.dpdk.org (Postfix) with ESMTP id DF93F402EE; Wed, 5 Feb 2025 19:09:31 +0100 (CET) Received: from mail-il1-f226.google.com (mail-il1-f226.google.com [209.85.166.226]) by mails.dpdk.org (Postfix) with ESMTP id EF72840261 for ; Wed, 5 Feb 2025 19:09:30 +0100 (CET) Received: by mail-il1-f226.google.com with SMTP id e9e14a558f8ab-3cfe17f75dfso35335ab.2 for ; Wed, 05 Feb 2025 10:09:30 -0800 (PST) DKIM-Signature: v=1; a=rsa-sha256; c=relaxed/relaxed; d=iol.unh.edu; s=unh-iol; t=1738778970; x=1739383770; darn=dpdk.org; h=cc:to:from:subject:message-id:date:from:to:cc:subject:date :message-id:reply-to; bh=uic0krRSU1WRNEcP/akFwRmftsKJWYaayxm0cc7+U8c=; b=LRgd6EGeTvMkdstIOtbyYuilaXa49Pv+kmx4Tkx12IsX8s/1iW5gd+iz2bd+Q/kJlx wsHi4so2UKVAGQA7Db7vbGFlMthWwcSODQvhuqqYnTheul8iln1TvXNdwQ0fLkCrGJsw NDkWafNnvqM2u01sCyl39P/Jj6JSgi/diXGjY= X-Google-DKIM-Signature: v=1; a=rsa-sha256; c=relaxed/relaxed; d=1e100.net; s=20230601; t=1738778970; x=1739383770; h=cc:to:from:subject:message-id:date:x-gm-message-state:from:to:cc :subject:date:message-id:reply-to; bh=uic0krRSU1WRNEcP/akFwRmftsKJWYaayxm0cc7+U8c=; b=SYNRasUrwn+WXvsZgDHVl53xBcoKFc8PWktFdElYS3/vKMd/bOL10e2N1Xm3XjFiHE Qp/Il/EbvyGDZSvEqCO2tvIRt4iAxiI0/HdUaIz2VxJByHlJvv2Pmbi5bc16PiBSwqS1 Gc3gkbGrP4/y7ehDf1Y7xGx/LWP16IiQoAZtp1yCnQtd3Ycno99W9wQajiV8CKaAadaG N62uOEUTLXYrQax0qzjRSrkddX92gs50x9Hed5xjDyQ5Bw9h8qlaTQ2RdhciVxTtU8+h Xa4v225TH+UdjyCzDqIXpTdG+LffaQFR0AAW10MUgBKEiK4vEMS7pNO3gQ2jnw8FrX2Y XujA== X-Gm-Message-State: AOJu0Yxl6TOb0hvR742mn6CEk/F9i5Ad5q2x2oyOdZY0DLPV597NdXwM 2F2V9mBzkhGEZaomVXfpcrdNoQYNz3TcP2514E8Dk0gHL7pH0Pao6lqw2yRSIMNV5n2Lpe7YUd3 aX+gycu+SKje2UCIXYKtiaAC6iNwKPy4T X-Gm-Gg: ASbGncvTq/Rc5wcmKpVFExN/mls6CDLeIoBgfNVbXlnH7XNOam0b8m+q1jnqSFTLb6G x0kNuqsYA+KGJZxzd18KAJ/nCHltSbiI0vKeP8fZfDMXoIVM06b35yeQD2t19mi/lA/dofqFfPR oaZQw3YHC7ezTyQ2sRORRE7sywK835Pyi2usIbxdV/6yowc49MyTVb/peR5OMeF/IK00HOL8HsM A2ja9qBMWBP5hCJnmHzqOhFJKLfjQNNZKaBu3zHA2gzK/F1aaKX+duhpB76US20Pii/yFwpduow UBSoZc5E8KU5N11xPQXdBvAWZvPhww== X-Google-Smtp-Source: AGHT+IH5ltmVASxXNGsat5lV/KzJc+eOjqbxd9B4nHcjtJK+U8RU89IUp3oKPWag9P/4Fi/IMOEw0GLnTu0I X-Received: by 2002:a92:c565:0:b0:3d0:285a:56b with SMTP id e9e14a558f8ab-3d04f6e4391mr39938065ab.17.1738778970320; Wed, 05 Feb 2025 10:09:30 -0800 (PST) Received: from postal.iol.unh.edu (postal.iol.unh.edu. [132.177.123.84]) by smtp-relay.gmail.com with ESMTPS id 8926c6da1cb9f-4ec746c0f79sm816333173.72.2025.02.05.10.09.30 (version=TLS1_2 cipher=ECDHE-ECDSA-AES128-GCM-SHA256 bits=128/128); Wed, 05 Feb 2025 10:09:30 -0800 (PST) X-Relaying-Domain: iol.unh.edu Date: Wed, 05 Feb 2025 10:09:30 -0800 (PST) Message-ID: <67a3a95a.050a0220.38b597.5589SMTPIN_ADDED_MISSING@mx.google.com> Received: from [172.21.0.18] (unknown [172.18.0.240]) by postal.iol.unh.edu (Postfix) with ESMTP id D26E66052471; Wed, 5 Feb 2025 13:09:29 -0500 (EST) Subject: |SUCCESS| [GIT MASTER] e8eb14e00d56027bef8569d68cf00e39670edca2 From: dpdklab@iol.unh.edu To: Test Report Cc: dpdk-test-reports@iol.unh.edu, Xueming Li , Christian Ehrhardt , Kevin Traynor , Luca Boccassi Content-Type: text/plain X-BeenThere: test-report@dpdk.org X-Mailman-Version: 2.1.29 Precedence: list List-Id: automatic DPDK test reports List-Unsubscribe: , List-Archive: List-Post: List-Help: List-Subscribe: , Errors-To: test-report-bounces@dpdk.org _Testing PASS_ Branch: tags/v23.11 e8eb14e00d56027bef8569d68cf00e39670edca2 --> testing pass Test environment and result as below: +---------------------+--------------------+------------------+-------------------+-------------------+-------------------------+----------------------+ | Environment | dpdk_meson_compile | dpdk_compile_ovs | dpdk_compile_spdk | dpdk_msvc_compile | dpdk_llvm_clang_compile | dpdk_mingw64_compile | +=====================+====================+==================+===================+===================+=========================+======================+ | CentOS Stream 9 | PASS | PASS | PASS | SKIPPED | SKIPPED | SKIPPED | +---------------------+--------------------+------------------+-------------------+-------------------+-------------------------+----------------------+ | Debian 12 | PASS | PASS | PASS | SKIPPED | SKIPPED | SKIPPED | +---------------------+--------------------+------------------+-------------------+-------------------+-------------------------+----------------------+ | Fedora 39 (Clang) | PASS | PASS | PASS | SKIPPED | SKIPPED | SKIPPED | +---------------------+--------------------+------------------+-------------------+-------------------+-------------------------+----------------------+ | Fedora 39 | PASS | PASS | PASS | SKIPPED | SKIPPED | SKIPPED | +---------------------+--------------------+------------------+-------------------+-------------------+-------------------------+----------------------+ | Fedora 40 | PASS | PASS | PASS | SKIPPED | SKIPPED | SKIPPED | +---------------------+--------------------+------------------+-------------------+-------------------+-------------------------+----------------------+ | Fedora 40 (Clang) | PASS | PASS | PASS | SKIPPED | SKIPPED | SKIPPED | +---------------------+--------------------+------------------+-------------------+-------------------+-------------------------+----------------------+ | RHEL9 | PASS | PASS | SKIPPED | SKIPPED | SKIPPED | SKIPPED | +---------------------+--------------------+------------------+-------------------+-------------------+-------------------------+----------------------+ | Ubuntu 20.04 | PASS | SKIPPED | SKIPPED | SKIPPED | SKIPPED | SKIPPED | +---------------------+--------------------+------------------+-------------------+-------------------+-------------------------+----------------------+ | openSUSE Leap 15 | PASS | PASS | SKIPPED | SKIPPED | SKIPPED | SKIPPED | +---------------------+--------------------+------------------+-------------------+-------------------+-------------------------+----------------------+ | Ubuntu 22.04 | PASS | PASS | PASS | SKIPPED | SKIPPED | SKIPPED | +---------------------+--------------------+------------------+-------------------+-------------------+-------------------------+----------------------+ | Ubuntu 24.04 | PASS | PASS | PASS | SKIPPED | SKIPPED | SKIPPED | +---------------------+--------------------+------------------+-------------------+-------------------+-------------------------+----------------------+ | Alpine | PASS | PASS | SKIPPED | SKIPPED | SKIPPED | SKIPPED | +---------------------+--------------------+------------------+-------------------+-------------------+-------------------------+----------------------+ | FreeBSD 13.4 | PASS | SKIPPED | SKIPPED | SKIPPED | SKIPPED | SKIPPED | +---------------------+--------------------+------------------+-------------------+-------------------+-------------------------+----------------------+ | FreeBSD 14.2 | PASS | SKIPPED | SKIPPED | SKIPPED | SKIPPED | SKIPPED | +---------------------+--------------------+------------------+-------------------+-------------------+-------------------------+----------------------+ | RHEL8 | PASS | PASS | SKIPPED | SKIPPED | SKIPPED | SKIPPED | +---------------------+--------------------+------------------+-------------------+-------------------+-------------------------+----------------------+ | Windows Server 2022 | SKIPPED | SKIPPED | SKIPPED | PASS | PASS | PASS | +---------------------+--------------------+------------------+-------------------+-------------------+-------------------------+----------------------+ CentOS Stream 9 Kernel: Depends on container host Compiler: gcc 11.5.0 20240719 (Red Hat 11.5.0-2) Debian 12 Kernel: Depends on container host Compiler: gcc (Debian 12.2.0-14) 12.2.0 Fedora 39 (Clang) Kernel: Depends on container host Compiler: clang 17.0.6 (Fedora 17.0.6-2.fc39) Fedora 39 Kernel: Depends on container host Compiler: gcc 13.3.1 20240522 (Red Hat 13.3.1-1) Fedora 40 Kernel: Depends on container host Compiler: gcc 14.2.1 20240912 (Red Hat 14.2.1-3) Fedora 40 (Clang) Kernel: Depends on container host Compiler: clang 18.1.8 (Fedora 18.1.8-1.fc40) RHEL9 Kernel: Depends on container host Compiler: gcc 11.5.0 20240719 (Red Hat 11.5.0-2) Ubuntu 20.04 Kernel: Depends on container host Compiler: gcc (Ubuntu 9.4.0-1ubuntu1~20.04.2) 9.4.0 openSUSE Leap 15 Kernel: Depends on container host Compiler: gcc (SUSE Linux) 7.5.0 Ubuntu 22.04 Kernel: Depends on container host Compiler: gcc (Ubuntu 11.4.0-1ubuntu1~22.04) 11.4.0 Ubuntu 24.04 Kernel: Depends on container host Compiler: gcc (Ubuntu 13.3.0-6ubuntu2~24.04) 13.3.0 Alpine Kernel: Depends on container host Compiler: gcc (Alpine 14.2.0) 14.2.0 FreeBSD 13.4 Kernel: 13.4-RELEASE-p1 Compiler: clang 18.1.6 FreeBSD 14.2 Kernel: 14.2-RELEASE Compiler: clang 18.1.6 RHEL8 Kernel: Depends on container host Compiler: gcc 8.5.0 20210514 (Red Hat 8.5.0-22) Windows Server 2022 Kernel: 10.0.20348.2031 Compiler: clang 15.0.7, gcc 14.1.0 (MinGW), and MSVC VS 19.39.33521 To view detailed results, visit: https://lab.dpdk.org/results/dashboard/tarballs/31810/ UNH-IOL DPDK Community Lab To manage your email subscriptions, visit: https://lab.dpdk.org/results/dashboard/preferences/subscriptions/