From mboxrd@z Thu Jan 1 00:00:00 1970 Return-Path: Received: from mails.dpdk.org (mails.dpdk.org [217.70.189.124]) by inbox.dpdk.org (Postfix) with ESMTP id 094B1461A0 for ; Wed, 5 Feb 2025 19:09:41 +0100 (CET) Received: from mails.dpdk.org (localhost [127.0.0.1]) by mails.dpdk.org (Postfix) with ESMTP id 0445940270; Wed, 5 Feb 2025 19:09:41 +0100 (CET) Received: from mail-pl1-f226.google.com (mail-pl1-f226.google.com [209.85.214.226]) by mails.dpdk.org (Postfix) with ESMTP id 80BC940261 for ; Wed, 5 Feb 2025 19:09:39 +0100 (CET) Received: by mail-pl1-f226.google.com with SMTP id d9443c01a7336-21f0444b478so1785125ad.0 for ; Wed, 05 Feb 2025 10:09:39 -0800 (PST) DKIM-Signature: v=1; a=rsa-sha256; c=relaxed/relaxed; d=iol.unh.edu; s=unh-iol; t=1738778979; x=1739383779; darn=dpdk.org; h=references:in-reply-to:cc:to:from:subject:message-id:date:from:to :cc:subject:date:message-id:reply-to; bh=dK3acRcgdanz3GLuRJB72jzC02VuDSYwhD7JJNzamBk=; b=WEBG7s4+qQrgOuUlsUGLx8wKFrp7CkPOhLfwOV7YdX6fc6zPu4HFMLPLRB5mXrrowQ qLl793FAqRDYxeI8gl8DqbLuc6WwNXfsIDqNuuBQA+YH/H+QwZbwaCEM/Vol4QWCqMx9 KsiLm1WtG4c1B3VPaNNB+Wyxq4rG6tQjwrel0= X-Google-DKIM-Signature: v=1; a=rsa-sha256; c=relaxed/relaxed; d=1e100.net; s=20230601; t=1738778979; x=1739383779; h=references:in-reply-to:cc:to:from:subject:message-id:date :x-gm-message-state:from:to:cc:subject:date:message-id:reply-to; bh=dK3acRcgdanz3GLuRJB72jzC02VuDSYwhD7JJNzamBk=; b=MkV5l1NVC0a2w87rWS6xvx8qi/N3np6wXndy2Y1rEjpiVPkLr8ynexLOc2Gtyp7Juf BxoKigXe+G7cT4LWkrFtzuMXdTTtzNySZZ3Gt1Wa7l9NmTivn15tmp26eUM/g22lWRmF blkhzdOFj7rbMSs/2Ym1J9ZdmrM/NQRTvSNHyK2nJlQJMPrxMbE2oHmCxtWKv6SmSCHB OgKT1vXdlWDllSH3sxHsP2nBEm7qg2yTaAZfbk6IjFBCxnVyKoE3n4AT97cwtxF1UmCp TOPwiYPyDmy8qDWPjnhReEg4HF0WelbDWcXfHZO4ms6F2KwiIUh2MrxpRlOxuO5bfyXf fwwg== X-Gm-Message-State: AOJu0YwPFLbLW0MKlOsa8t2AB1p+EblOVoA9AqUJ+gdMotdSIv58Tyvn j7Sdo82Sb1ME6J1bGsIfiR3HEtSnCILgkv3hX8RyRYygZjHrnnN9Dv5n2Rc40r70eiG/cnhcyEj QQwLT4CM74JqsdqoUdLEfZYw+3QU9ZZWN3Gdkde6g X-Gm-Gg: ASbGncsRuzBmL7bSmF7m8NrsUW/iJ4uBmuUw0GG7Ka4/DDpqW1cMQ/LHi5V7/FvyPPF 8o5O456iMF/K3tRGalASJ7U0cSivTfviSVBq/+krrw+ztxNbFX0UxuTEuk/a9jxlic1OISPPUVI uYQet5Pr9MpJfmtlGjnMQxQkyEGiM+5SOEHI5S21h6u07szyxQkfE6CfVL5rn08DWYz350OSsQy O0Ig39Sg8FlZZc4dPNKHCT6WPSbU2Fy5lrUxmsAHWZmmYyowdZzTxmPI6FecHP784SaGO3hH+A/ SnNsa5vLzHMk8x/Nkzr4y49PeALuoQ== X-Google-Smtp-Source: AGHT+IF14AK/CqwMXtmBEWXh2cSTvuduoY41UFApWyJZ4WXsHigsLGHWiSXzDjS+RKTMMNAU83AhhixE3aoP X-Received: by 2002:a17:902:da8c:b0:216:2426:7668 with SMTP id d9443c01a7336-21f17e4c840mr57543875ad.13.1738778978708; Wed, 05 Feb 2025 10:09:38 -0800 (PST) Received: from postal.iol.unh.edu (postal.iol.unh.edu. [132.177.123.84]) by smtp-relay.gmail.com with ESMTPS id d9443c01a7336-21f17ab5a4esm1249885ad.61.2025.02.05.10.09.38 (version=TLS1_2 cipher=ECDHE-ECDSA-AES128-GCM-SHA256 bits=128/128); Wed, 05 Feb 2025 10:09:38 -0800 (PST) X-Relaying-Domain: iol.unh.edu Date: Wed, 05 Feb 2025 10:09:38 -0800 (PST) Message-ID: <67a3a962.170a0220.7249f.58edSMTPIN_ADDED_MISSING@mx.google.com> Received: from [172.17.0.3] (unknown [172.18.0.57]) by postal.iol.unh.edu (Postfix) with ESMTP id 300906052471; Wed, 5 Feb 2025 13:09:38 -0500 (EST) Subject: |SUCCESS| pw148974-148976 [PATCH] [RFC,3/3] eal: enhance lock annota From: dpdklab@iol.unh.edu To: Test Report Cc: dpdk-test-reports@iol.unh.edu In-Reply-To: <20241202125316.3732529-4-david.marchand@redhat.com> References: <20241202125316.3732529-4-david.marchand@redhat.com> Content-Type: text/plain X-BeenThere: test-report@dpdk.org X-Mailman-Version: 2.1.29 Precedence: list List-Id: automatic DPDK test reports List-Unsubscribe: , List-Archive: List-Post: List-Help: List-Subscribe: , Errors-To: test-report-bounces@dpdk.org Test-Label: iol-compile-amd64-testing Test-Status: SUCCESS http://dpdk.org/patch/148976 _Testing PASS_ Submitter: David Marchand Date: Monday, December 02 2024 12:53:16 DPDK git baseline: Repo:dpdk Branch: master CommitID:1b3bf1128d9bda5595861814792f74b8f57160c8 148974-148976 --> testing pass Test environment and result as below: +---------------------+--------------------+------------------+-------------------+-------------------------+-------------------+----------------------+ | Environment | dpdk_meson_compile | dpdk_compile_ovs | dpdk_compile_spdk | dpdk_llvm_clang_compile | dpdk_msvc_compile | dpdk_mingw64_compile | +=====================+====================+==================+===================+=========================+===================+======================+ | Fedora 39 (Clang) | PASS | PASS | PASS | SKIPPED | SKIPPED | SKIPPED | +---------------------+--------------------+------------------+-------------------+-------------------------+-------------------+----------------------+ | Debian 12 | PASS | PASS | PASS | SKIPPED | SKIPPED | SKIPPED | +---------------------+--------------------+------------------+-------------------+-------------------------+-------------------+----------------------+ | CentOS Stream 9 | PASS | PASS | PASS | SKIPPED | SKIPPED | SKIPPED | +---------------------+--------------------+------------------+-------------------+-------------------------+-------------------+----------------------+ | Fedora 39 | PASS | PASS | PASS | SKIPPED | SKIPPED | SKIPPED | +---------------------+--------------------+------------------+-------------------+-------------------------+-------------------+----------------------+ | Fedora 40 (Clang) | PASS | PASS | PASS | SKIPPED | SKIPPED | SKIPPED | +---------------------+--------------------+------------------+-------------------+-------------------------+-------------------+----------------------+ | RHEL8 | PASS | PASS | SKIPPED | SKIPPED | SKIPPED | SKIPPED | +---------------------+--------------------+------------------+-------------------+-------------------------+-------------------+----------------------+ | RHEL9 | PASS | PASS | SKIPPED | SKIPPED | SKIPPED | SKIPPED | +---------------------+--------------------+------------------+-------------------+-------------------------+-------------------+----------------------+ | openSUSE Leap 15 | PASS | PASS | SKIPPED | SKIPPED | SKIPPED | SKIPPED | +---------------------+--------------------+------------------+-------------------+-------------------------+-------------------+----------------------+ | Ubuntu 20.04 | PASS | SKIPPED | SKIPPED | SKIPPED | SKIPPED | SKIPPED | +---------------------+--------------------+------------------+-------------------+-------------------------+-------------------+----------------------+ | Fedora 40 | PASS | PASS | PASS | SKIPPED | SKIPPED | SKIPPED | +---------------------+--------------------+------------------+-------------------+-------------------------+-------------------+----------------------+ | Ubuntu 22.04 | PASS | PASS | PASS | SKIPPED | SKIPPED | SKIPPED | +---------------------+--------------------+------------------+-------------------+-------------------------+-------------------+----------------------+ | Ubuntu 24.04 | PASS | PASS | PASS | SKIPPED | SKIPPED | SKIPPED | +---------------------+--------------------+------------------+-------------------+-------------------------+-------------------+----------------------+ | Alpine | PASS | PASS | SKIPPED | SKIPPED | SKIPPED | SKIPPED | +---------------------+--------------------+------------------+-------------------+-------------------------+-------------------+----------------------+ | FreeBSD 13.4 | PASS | SKIPPED | SKIPPED | SKIPPED | SKIPPED | SKIPPED | +---------------------+--------------------+------------------+-------------------+-------------------------+-------------------+----------------------+ | FreeBSD 14.2 | PASS | SKIPPED | SKIPPED | SKIPPED | SKIPPED | SKIPPED | +---------------------+--------------------+------------------+-------------------+-------------------------+-------------------+----------------------+ | Windows Server 2022 | SKIPPED | SKIPPED | SKIPPED | PASS | PASS | PASS | +---------------------+--------------------+------------------+-------------------+-------------------------+-------------------+----------------------+ Fedora 39 (Clang) Kernel: Depends on container host Compiler: clang 17.0.6 (Fedora 17.0.6-2.fc39) Debian 12 Kernel: Depends on container host Compiler: gcc (Debian 12.2.0-14) 12.2.0 CentOS Stream 9 Kernel: Depends on container host Compiler: gcc 11.5.0 20240719 (Red Hat 11.5.0-2) Fedora 39 Kernel: Depends on container host Compiler: gcc 13.3.1 20240522 (Red Hat 13.3.1-1) Fedora 40 (Clang) Kernel: Depends on container host Compiler: clang 18.1.8 (Fedora 18.1.8-1.fc40) RHEL8 Kernel: Depends on container host Compiler: gcc 8.5.0 20210514 (Red Hat 8.5.0-22) RHEL9 Kernel: Depends on container host Compiler: gcc 11.5.0 20240719 (Red Hat 11.5.0-2) openSUSE Leap 15 Kernel: Depends on container host Compiler: gcc (SUSE Linux) 7.5.0 Ubuntu 20.04 Kernel: Depends on container host Compiler: gcc (Ubuntu 9.4.0-1ubuntu1~20.04.2) 9.4.0 Fedora 40 Kernel: Depends on container host Compiler: gcc 14.2.1 20240912 (Red Hat 14.2.1-3) Ubuntu 22.04 Kernel: Depends on container host Compiler: gcc (Ubuntu 11.4.0-1ubuntu1~22.04) 11.4.0 Ubuntu 24.04 Kernel: Depends on container host Compiler: gcc (Ubuntu 13.3.0-6ubuntu2~24.04) 13.3.0 Alpine Kernel: Depends on container host Compiler: gcc (Alpine 14.2.0) 14.2.0 FreeBSD 13.4 Kernel: 13.4-RELEASE-p1 Compiler: clang 18.1.6 FreeBSD 14.2 Kernel: 14.2-RELEASE Compiler: clang 18.1.6 Windows Server 2022 Kernel: 10.0.20348.2031 Compiler: clang 15.0.7, gcc 14.1.0 (MinGW), and MSVC VS 19.39.33521 To view detailed results, visit: https://lab.dpdk.org/results/dashboard/patchsets/32068/ UNH-IOL DPDK Community Lab To manage your email subscriptions, visit: https://lab.dpdk.org/results/dashboard/preferences/subscriptions/