From mboxrd@z Thu Jan 1 00:00:00 1970 Return-Path: Received: from mails.dpdk.org (mails.dpdk.org [217.70.189.124]) by inbox.dpdk.org (Postfix) with ESMTP id 41CA5461A0 for ; Wed, 5 Feb 2025 19:09:46 +0100 (CET) Received: from mails.dpdk.org (localhost [127.0.0.1]) by mails.dpdk.org (Postfix) with ESMTP id 3F35F40270; Wed, 5 Feb 2025 19:09:46 +0100 (CET) Received: from mail-yw1-f225.google.com (mail-yw1-f225.google.com [209.85.128.225]) by mails.dpdk.org (Postfix) with ESMTP id 90DAD40261 for ; Wed, 5 Feb 2025 19:09:44 +0100 (CET) Received: by mail-yw1-f225.google.com with SMTP id 00721157ae682-6f754678c29so888677b3.0 for ; Wed, 05 Feb 2025 10:09:44 -0800 (PST) DKIM-Signature: v=1; a=rsa-sha256; c=relaxed/relaxed; d=iol.unh.edu; s=unh-iol; t=1738778984; x=1739383784; darn=dpdk.org; h=cc:to:from:subject:message-id:date:from:to:cc:subject:date :message-id:reply-to; bh=rowIOOzKasZA/YBUKy2NshC6ANCGyOdD8eREmPm26YM=; b=dzRL/vv95Rg94SCl283W1qb9EL/3jR9KCE4NOLeEfde09+/gmbAX847Kv3ybZtlcVP o4dvCWsOW/tTP1RTO+lJzRApE7YWgOuA4QKgwqEHHJ1l30YHYjF9935lMAxRo3N6/bdB IiEKkoSrNoI5IdlAd8MkgpLWZ7vg3JKHt8oJE= X-Google-DKIM-Signature: v=1; a=rsa-sha256; c=relaxed/relaxed; d=1e100.net; s=20230601; t=1738778984; x=1739383784; h=cc:to:from:subject:message-id:date:x-gm-message-state:from:to:cc :subject:date:message-id:reply-to; bh=rowIOOzKasZA/YBUKy2NshC6ANCGyOdD8eREmPm26YM=; b=gFryqwg3uQtyQ5M7WCoZp+TuAH6Pdbd0w+DCNTi98FmtqiXboCveeYNJNhKYuhZYlf sFL/a2rc9lZ6/pFdHGwoq/z5ybffZktkeHe29zTqOKpgfXhyXVPWX5QwG+Srm2FB5My2 AFFKxhqkjQ4Vb2/zGYiG87PVWjoK6KeZmqhDPOphgdqnYMJHu58ppmtsxJm0aPP2R4jD R2KReKUfE+fLgpSxaXLb+2hn+QckHZN9eNC/Puw2ESFa+BCPo+ijpIg3EXoBKpNUWpoT a5JERaa3c4CMUMiiij8hI4bwAui7Rs/n/Sx2xpW62xqoWeGAjHkH7vIYgPEOAAA3OHJP wS8w== X-Gm-Message-State: AOJu0YzXJtxNrF1swihrH+gLO6TW/SBwQ/ovO3APQ+dTpB1Fv1DaJHWP Kvnr+j38hK3puvu2IkMbG3PxmbfGujJU+8cNIL+j+5xJTf74MZzh2G0vtUF87kz1wFUzhWmqafa 1dvlhy4RhoNF44cqWHQQIYy7EIVjnRrAwv2sHo9q+ X-Gm-Gg: ASbGncvXHS3pdlvl9g4inMalZGmZ6t9E/JMMDuza+XPjAh1tzqASqGbmEx8QJJw//h2 T5pxiViCydjCfoOUi+54zty/2bRuAiytcPaaREA9KkJiSjy+/AgaBJoyKR+YInHeIuvdFmfEplT F1KA7kNQAi/VxG7NyCslI8lV6eZy/LjPj94rsoXy4hHmIuUXwmzUBhQpJpb9HhNiKkMu7oAROa1 4o/DVbWEeqjprHZaPkToHC/d0Cxv524msGSA2O/TyPm6dthwTWtd76jsOEXcoAgYY0C4QXvNa9x 0HL2Ka2Kh7O4aESBRoubmJhcG4X+Jg== X-Google-Smtp-Source: AGHT+IGRg4R/hRBP3o4j1QDw6DIMN3XgXuqyYuLOnzMF0K5smSamUZzCfGzh9pvdVwLNw1mQ/clIZ3Qs6Ncn X-Received: by 2002:a05:690c:360d:b0:6f6:ca3a:9548 with SMTP id 00721157ae682-6f989fb8b05mr32461577b3.38.1738778983878; Wed, 05 Feb 2025 10:09:43 -0800 (PST) Received: from postal.iol.unh.edu (postal.iol.unh.edu. [132.177.123.84]) by smtp-relay.gmail.com with ESMTPS id 00721157ae682-6f8c460d232sm6887657b3.10.2025.02.05.10.09.43 (version=TLS1_2 cipher=ECDHE-ECDSA-AES128-GCM-SHA256 bits=128/128); Wed, 05 Feb 2025 10:09:43 -0800 (PST) X-Relaying-Domain: iol.unh.edu Date: Wed, 05 Feb 2025 10:09:43 -0800 (PST) Message-ID: <67a3a967.050a0220.1659bf.ecddSMTPIN_ADDED_MISSING@mx.google.com> Received: from [172.21.0.14] (unknown [172.18.0.240]) by postal.iol.unh.edu (Postfix) with ESMTP id 81F4D6052471; Wed, 5 Feb 2025 13:09:43 -0500 (EST) Subject: |SUCCESS| [GIT MASTER] ce85dd8562ad9673eb4fe46b4a8bd3a508e8b32f From: dpdklab@iol.unh.edu To: Test Report Cc: dpdk-test-reports@iol.unh.edu, Bruce Richardson Content-Type: text/plain X-BeenThere: test-report@dpdk.org X-Mailman-Version: 2.1.29 Precedence: list List-Id: automatic DPDK test reports List-Unsubscribe: , List-Archive: List-Post: List-Help: List-Subscribe: , Errors-To: test-report-bounces@dpdk.org _Testing PASS_ Branch: dpdk-next-net-intel ce85dd8562ad9673eb4fe46b4a8bd3a508e8b32f --> testing pass Test environment and result as below: +---------------------+--------------------+------------------+-------------------+-------------------------+-------------------+----------------------+ | Environment | dpdk_meson_compile | dpdk_compile_ovs | dpdk_compile_spdk | dpdk_llvm_clang_compile | dpdk_msvc_compile | dpdk_mingw64_compile | +=====================+====================+==================+===================+=========================+===================+======================+ | Debian 12 | PASS | PASS | PASS | SKIPPED | SKIPPED | SKIPPED | +---------------------+--------------------+------------------+-------------------+-------------------------+-------------------+----------------------+ | CentOS Stream 9 | PASS | PASS | PASS | SKIPPED | SKIPPED | SKIPPED | +---------------------+--------------------+------------------+-------------------+-------------------------+-------------------+----------------------+ | Fedora 40 | PASS | PASS | PASS | SKIPPED | SKIPPED | SKIPPED | +---------------------+--------------------+------------------+-------------------+-------------------------+-------------------+----------------------+ | Fedora 39 | PASS | PASS | PASS | SKIPPED | SKIPPED | SKIPPED | +---------------------+--------------------+------------------+-------------------+-------------------------+-------------------+----------------------+ | Fedora 40 (Clang) | PASS | PASS | PASS | SKIPPED | SKIPPED | SKIPPED | +---------------------+--------------------+------------------+-------------------+-------------------------+-------------------+----------------------+ | Fedora 39 (Clang) | PASS | PASS | PASS | SKIPPED | SKIPPED | SKIPPED | +---------------------+--------------------+------------------+-------------------+-------------------------+-------------------+----------------------+ | RHEL8 | PASS | PASS | SKIPPED | SKIPPED | SKIPPED | SKIPPED | +---------------------+--------------------+------------------+-------------------+-------------------------+-------------------+----------------------+ | RHEL9 | PASS | PASS | SKIPPED | SKIPPED | SKIPPED | SKIPPED | +---------------------+--------------------+------------------+-------------------+-------------------------+-------------------+----------------------+ | openSUSE Leap 15 | PASS | PASS | SKIPPED | SKIPPED | SKIPPED | SKIPPED | +---------------------+--------------------+------------------+-------------------+-------------------------+-------------------+----------------------+ | Ubuntu 22.04 | PASS | PASS | PASS | SKIPPED | SKIPPED | SKIPPED | +---------------------+--------------------+------------------+-------------------+-------------------------+-------------------+----------------------+ | Ubuntu 20.04 | PASS | SKIPPED | SKIPPED | SKIPPED | SKIPPED | SKIPPED | +---------------------+--------------------+------------------+-------------------+-------------------------+-------------------+----------------------+ | Alpine | PASS | PASS | SKIPPED | SKIPPED | SKIPPED | SKIPPED | +---------------------+--------------------+------------------+-------------------+-------------------------+-------------------+----------------------+ | FreeBSD 13.4 | PASS | SKIPPED | SKIPPED | SKIPPED | SKIPPED | SKIPPED | +---------------------+--------------------+------------------+-------------------+-------------------------+-------------------+----------------------+ | FreeBSD 14.2 | PASS | SKIPPED | SKIPPED | SKIPPED | SKIPPED | SKIPPED | +---------------------+--------------------+------------------+-------------------+-------------------------+-------------------+----------------------+ | Ubuntu 24.04 | PASS | PASS | PASS | SKIPPED | SKIPPED | SKIPPED | +---------------------+--------------------+------------------+-------------------+-------------------------+-------------------+----------------------+ | Windows Server 2022 | SKIPPED | SKIPPED | SKIPPED | PASS | PASS | PASS | +---------------------+--------------------+------------------+-------------------+-------------------------+-------------------+----------------------+ Debian 12 Kernel: Depends on container host Compiler: gcc (Debian 12.2.0-14) 12.2.0 CentOS Stream 9 Kernel: Depends on container host Compiler: gcc 11.5.0 20240719 (Red Hat 11.5.0-2) Fedora 40 Kernel: Depends on container host Compiler: gcc 14.2.1 20240912 (Red Hat 14.2.1-3) Fedora 39 Kernel: Depends on container host Compiler: gcc 13.3.1 20240522 (Red Hat 13.3.1-1) Fedora 40 (Clang) Kernel: Depends on container host Compiler: clang 18.1.8 (Fedora 18.1.8-1.fc40) Fedora 39 (Clang) Kernel: Depends on container host Compiler: clang 17.0.6 (Fedora 17.0.6-2.fc39) RHEL8 Kernel: Depends on container host Compiler: gcc 8.5.0 20210514 (Red Hat 8.5.0-22) RHEL9 Kernel: Depends on container host Compiler: gcc 11.5.0 20240719 (Red Hat 11.5.0-2) openSUSE Leap 15 Kernel: Depends on container host Compiler: gcc (SUSE Linux) 7.5.0 Ubuntu 22.04 Kernel: Depends on container host Compiler: gcc (Ubuntu 11.4.0-1ubuntu1~22.04) 11.4.0 Ubuntu 20.04 Kernel: Depends on container host Compiler: gcc (Ubuntu 9.4.0-1ubuntu1~20.04.2) 9.4.0 Alpine Kernel: Depends on container host Compiler: gcc (Alpine 14.2.0) 14.2.0 FreeBSD 13.4 Kernel: 13.4-RELEASE-p1 Compiler: clang 18.1.6 FreeBSD 14.2 Kernel: 14.2-RELEASE Compiler: clang 18.1.6 Ubuntu 24.04 Kernel: Depends on container host Compiler: gcc (Ubuntu 13.3.0-6ubuntu2~24.04) 13.3.0 Windows Server 2022 Kernel: 10.0.20348.2031 Compiler: clang 15.0.7, gcc 14.1.0 (MinGW), and MSVC VS 19.39.33521 To view detailed results, visit: https://lab.dpdk.org/results/dashboard/tarballs/31770/ UNH-IOL DPDK Community Lab To manage your email subscriptions, visit: https://lab.dpdk.org/results/dashboard/preferences/subscriptions/