From mboxrd@z Thu Jan 1 00:00:00 1970 Return-Path: Received: from mails.dpdk.org (mails.dpdk.org [217.70.189.124]) by inbox.dpdk.org (Postfix) with ESMTP id 53FF9461A0 for ; Wed, 5 Feb 2025 19:09:46 +0100 (CET) Received: from mails.dpdk.org (localhost [127.0.0.1]) by mails.dpdk.org (Postfix) with ESMTP id 4E3E1402EE; Wed, 5 Feb 2025 19:09:46 +0100 (CET) Received: from mail-pl1-f227.google.com (mail-pl1-f227.google.com [209.85.214.227]) by mails.dpdk.org (Postfix) with ESMTP id 42BEF40261 for ; Wed, 5 Feb 2025 19:09:45 +0100 (CET) Received: by mail-pl1-f227.google.com with SMTP id d9443c01a7336-21f0c4275a1so1586395ad.2 for ; Wed, 05 Feb 2025 10:09:45 -0800 (PST) DKIM-Signature: v=1; a=rsa-sha256; c=relaxed/relaxed; d=iol.unh.edu; s=unh-iol; t=1738778984; x=1739383784; darn=dpdk.org; h=references:in-reply-to:cc:to:from:subject:message-id:date:from:to :cc:subject:date:message-id:reply-to; bh=51oK6ae2VW3Xf257HzGFxlnDFIE5XUwDbZbwlPOLDgI=; b=i4agJDB5Qus6ZO+LeCb7ALvM4rxe5fHi/iPRBzrOTwmJYcrpAk8+HBHVdhw4Uy2vo1 XtTiWHBo311946zcenfsYCc5whzZKe3ybjkBhVHbzwEGsFUlnPxwkKswlXiyBqs7I3N6 2DhZA+YqruVr63TICqIkWqfEvjvTeTj6gAZ6I= X-Google-DKIM-Signature: v=1; a=rsa-sha256; c=relaxed/relaxed; d=1e100.net; s=20230601; t=1738778984; x=1739383784; h=references:in-reply-to:cc:to:from:subject:message-id:date :x-gm-message-state:from:to:cc:subject:date:message-id:reply-to; bh=51oK6ae2VW3Xf257HzGFxlnDFIE5XUwDbZbwlPOLDgI=; b=JkQ5WqK4/5Kj3N/WC6DGRLhXGZi4nUP51acurhZhxqVHb+Xbs81pTR1dpzgihssOsY bi866msNJaNjUcpYWGWJIlC5B7HWFNjDmnD/R8mNPrr5jl7bOAWqpAgfdjrLKB2xWQfq k6Arsu6kSmvLkm+1pW39xFZ6WWjhCiqfgKSzkDtBmnMF0yx1Tvow+LIYNglv1t3PLnyz IarpKdo9ecrDlGuoYlRrqav6hjAyFFW1c4wUpH6sW8a5PEKgA8P1C4nXJhDqafCCSZiZ la/6KAacVczv2R+ffVssupV6gJWDzp+OQRtusaDn0/p2DmJ4yGqqov9JjLAnuUXGuYpz jaLA== X-Gm-Message-State: AOJu0YzEMhR9tZKnUDxdXXvDH1+hmMPJyAwDgWrti1NT0Q/Vuz3rcz5+ P2eyJKMsHElGUOuNrKKkT6qFefq8nQUZdcbcwc5fjoWZGHqnt7+izz2WVa2tgL3SWbYlWRO/sdO /NiSLjGHh25s6aPQ7v+fjPYEZbQGEi9oAVcqA1nGtz/YM738m2t26AN+l X-Gm-Gg: ASbGncvVSrI1JCRxonBvSP7/V7JA1Wy04K3BQ8q+MKxN/AguViBQV6KNTi43NxPjU4Z zoEJqNlQedzX4bAXT/VwBDGi1T2SuMHl+XKun0jH0AXnR2uMxYi3UZGwYvT0TdhLwj5TqPowE8D OgT5bM19ixJSc+Fupj6wsDLq0mhDR5td4d9q1aDTVCYf9yjcKvJ+gd5T0qFT27vt13nePkxY079 D3kb6+306FPolUhkcYetETPsix/PAtA1BC/x3GDkibLMrLgTmUtr1aLVGh5CUx7yEMncHoVCQHO YVk6/dtcfiGyVgLk6pbhpkoV3xZ0i2MtTo1r8Uyo7A== X-Google-Smtp-Source: AGHT+IFDrd3EruCHrVD+XYWHt4C8tNU/8vG8DdfLTY6OWujSvaw8twEA3DPMwb6xQUn+zymsXz7PDx6UEd3Y X-Received: by 2002:a17:903:2301:b0:216:59ed:1ab0 with SMTP id d9443c01a7336-21f17e7421dmr60101985ad.27.1738778984491; Wed, 05 Feb 2025 10:09:44 -0800 (PST) Received: from postal.iol.unh.edu (postal.iol.unh.edu. [2606:4100:3880:1234::84]) by smtp-relay.gmail.com with ESMTPS id d9443c01a7336-21f1a9104f5sm1061665ad.91.2025.02.05.10.09.44 (version=TLS1_2 cipher=ECDHE-ECDSA-AES128-GCM-SHA256 bits=128/128); Wed, 05 Feb 2025 10:09:44 -0800 (PST) X-Relaying-Domain: iol.unh.edu Date: Wed, 05 Feb 2025 10:09:44 -0800 (PST) Message-ID: <67a3a968.170a0220.1ef97d.46c8SMTPIN_ADDED_MISSING@mx.google.com> Received: from [172.21.0.5] (unknown [172.18.0.240]) by postal.iol.unh.edu (Postfix) with ESMTP id A3E396052472; Wed, 5 Feb 2025 13:09:43 -0500 (EST) Subject: |SUCCESS| pw148925 [PATCH] lib/eal: fix macros for noinline and alwa From: dpdklab@iol.unh.edu To: Test Report Cc: dpdk-test-reports@iol.unh.edu In-Reply-To: <1732723879-23806-1-git-send-email-andremue@linux.microsoft.com> References: <1732723879-23806-1-git-send-email-andremue@linux.microsoft.com> Content-Type: text/plain X-BeenThere: test-report@dpdk.org X-Mailman-Version: 2.1.29 Precedence: list List-Id: automatic DPDK test reports List-Unsubscribe: , List-Archive: List-Post: List-Help: List-Subscribe: , Errors-To: test-report-bounces@dpdk.org Test-Label: iol-compile-amd64-testing Test-Status: SUCCESS http://dpdk.org/patch/148925 _Testing PASS_ Submitter: Andre Muezerie Date: Wednesday, November 27 2024 16:11:19 DPDK git baseline: Repo:dpdk Branch: master CommitID:4843aacb0d1201fef37e8a579fcd8baec4acdf98 148925 --> testing pass Test environment and result as below: +---------------------+--------------------+------------------+-------------------+-------------------+-------------------------+----------------------+ | Environment | dpdk_meson_compile | dpdk_compile_ovs | dpdk_compile_spdk | dpdk_msvc_compile | dpdk_llvm_clang_compile | dpdk_mingw64_compile | +=====================+====================+==================+===================+===================+=========================+======================+ | CentOS Stream 9 | PASS | PASS | PASS | SKIPPED | SKIPPED | SKIPPED | +---------------------+--------------------+------------------+-------------------+-------------------+-------------------------+----------------------+ | Debian 12 | PASS | PASS | PASS | SKIPPED | SKIPPED | SKIPPED | +---------------------+--------------------+------------------+-------------------+-------------------+-------------------------+----------------------+ | Fedora 39 (Clang) | PASS | PASS | PASS | SKIPPED | SKIPPED | SKIPPED | +---------------------+--------------------+------------------+-------------------+-------------------+-------------------------+----------------------+ | Fedora 39 | PASS | PASS | PASS | SKIPPED | SKIPPED | SKIPPED | +---------------------+--------------------+------------------+-------------------+-------------------+-------------------------+----------------------+ | Fedora 40 | PASS | PASS | PASS | SKIPPED | SKIPPED | SKIPPED | +---------------------+--------------------+------------------+-------------------+-------------------+-------------------------+----------------------+ | openSUSE Leap 15 | PASS | PASS | SKIPPED | SKIPPED | SKIPPED | SKIPPED | +---------------------+--------------------+------------------+-------------------+-------------------+-------------------------+----------------------+ | Fedora 40 (Clang) | PASS | PASS | PASS | SKIPPED | SKIPPED | SKIPPED | +---------------------+--------------------+------------------+-------------------+-------------------+-------------------------+----------------------+ | RHEL8 | PASS | PASS | SKIPPED | SKIPPED | SKIPPED | SKIPPED | +---------------------+--------------------+------------------+-------------------+-------------------+-------------------------+----------------------+ | RHEL9 | PASS | PASS | SKIPPED | SKIPPED | SKIPPED | SKIPPED | +---------------------+--------------------+------------------+-------------------+-------------------+-------------------------+----------------------+ | Ubuntu 20.04 | PASS | SKIPPED | SKIPPED | SKIPPED | SKIPPED | SKIPPED | +---------------------+--------------------+------------------+-------------------+-------------------+-------------------------+----------------------+ | Ubuntu 24.04 | PASS | PASS | PASS | SKIPPED | SKIPPED | SKIPPED | +---------------------+--------------------+------------------+-------------------+-------------------+-------------------------+----------------------+ | Ubuntu 22.04 | PASS | PASS | PASS | SKIPPED | SKIPPED | SKIPPED | +---------------------+--------------------+------------------+-------------------+-------------------+-------------------------+----------------------+ | Alpine | PASS | PASS | SKIPPED | SKIPPED | SKIPPED | SKIPPED | +---------------------+--------------------+------------------+-------------------+-------------------+-------------------------+----------------------+ | FreeBSD 13.4 | PASS | SKIPPED | SKIPPED | SKIPPED | SKIPPED | SKIPPED | +---------------------+--------------------+------------------+-------------------+-------------------+-------------------------+----------------------+ | FreeBSD 14.2 | PASS | SKIPPED | SKIPPED | SKIPPED | SKIPPED | SKIPPED | +---------------------+--------------------+------------------+-------------------+-------------------+-------------------------+----------------------+ | Windows Server 2022 | SKIPPED | SKIPPED | SKIPPED | PASS | PASS | PASS | +---------------------+--------------------+------------------+-------------------+-------------------+-------------------------+----------------------+ CentOS Stream 9 Kernel: Depends on container host Compiler: gcc 11.5.0 20240719 (Red Hat 11.5.0-2) Debian 12 Kernel: Depends on container host Compiler: gcc (Debian 12.2.0-14) 12.2.0 Fedora 39 (Clang) Kernel: Depends on container host Compiler: clang 17.0.6 (Fedora 17.0.6-2.fc39) Fedora 39 Kernel: Depends on container host Compiler: gcc 13.3.1 20240522 (Red Hat 13.3.1-1) Fedora 40 Kernel: Depends on container host Compiler: gcc 14.2.1 20240912 (Red Hat 14.2.1-3) openSUSE Leap 15 Kernel: Depends on container host Compiler: gcc (SUSE Linux) 7.5.0 Fedora 40 (Clang) Kernel: Depends on container host Compiler: clang 18.1.8 (Fedora 18.1.8-1.fc40) RHEL8 Kernel: Depends on container host Compiler: gcc 8.5.0 20210514 (Red Hat 8.5.0-22) RHEL9 Kernel: Depends on container host Compiler: gcc 11.5.0 20240719 (Red Hat 11.5.0-2) Ubuntu 20.04 Kernel: Depends on container host Compiler: gcc (Ubuntu 9.4.0-1ubuntu1~20.04.2) 9.4.0 Ubuntu 24.04 Kernel: Depends on container host Compiler: gcc (Ubuntu 13.3.0-6ubuntu2~24.04) 13.3.0 Ubuntu 22.04 Kernel: Depends on container host Compiler: gcc (Ubuntu 11.4.0-1ubuntu1~22.04) 11.4.0 Alpine Kernel: Depends on container host Compiler: gcc (Alpine 14.2.0) 14.2.0 FreeBSD 13.4 Kernel: 13.4-RELEASE-p1 Compiler: clang 18.1.6 FreeBSD 14.2 Kernel: 14.2-RELEASE Compiler: clang 18.1.6 Windows Server 2022 Kernel: 10.0.20348.2031 Compiler: clang 15.0.7, gcc 14.1.0 (MinGW), and MSVC VS 19.39.33521 To view detailed results, visit: https://lab.dpdk.org/results/dashboard/patchsets/32044/ UNH-IOL DPDK Community Lab To manage your email subscriptions, visit: https://lab.dpdk.org/results/dashboard/preferences/subscriptions/