From mboxrd@z Thu Jan 1 00:00:00 1970 Return-Path: Received: from mails.dpdk.org (mails.dpdk.org [217.70.189.124]) by inbox.dpdk.org (Postfix) with ESMTP id 6A84E461A0 for ; Wed, 5 Feb 2025 19:09:50 +0100 (CET) Received: from mails.dpdk.org (localhost [127.0.0.1]) by mails.dpdk.org (Postfix) with ESMTP id 679BC40270; Wed, 5 Feb 2025 19:09:50 +0100 (CET) Received: from mail-il1-f228.google.com (mail-il1-f228.google.com [209.85.166.228]) by mails.dpdk.org (Postfix) with ESMTP id 6625440261 for ; Wed, 5 Feb 2025 19:09:48 +0100 (CET) Received: by mail-il1-f228.google.com with SMTP id e9e14a558f8ab-3d03d2bd7d2so207845ab.0 for ; Wed, 05 Feb 2025 10:09:48 -0800 (PST) DKIM-Signature: v=1; a=rsa-sha256; c=relaxed/relaxed; d=iol.unh.edu; s=unh-iol; t=1738778988; x=1739383788; darn=dpdk.org; h=references:in-reply-to:cc:to:from:subject:message-id:date:from:to :cc:subject:date:message-id:reply-to; bh=+xsFMcy6LVvsvqGV6W/o7eGFgvDQ8NMExFUe0po3mrA=; b=EghDEYEAfgwudig8kRtTXx3W/0okAmHysMXmoZ4PwHGr2rwBaTwaNc9KGBU3VCgcpI pqa3Sb1SHEkReyoOvcDtu/CCSRz2NBWiXmrubk4ujnbuJ9S5RvqdXRAmuVnOQlo7f2YN 2pUmUxQdIsn65qHOp6Ru1W+bYMsp6WlhJ8kfA= X-Google-DKIM-Signature: v=1; a=rsa-sha256; c=relaxed/relaxed; d=1e100.net; s=20230601; t=1738778988; x=1739383788; h=references:in-reply-to:cc:to:from:subject:message-id:date :x-gm-message-state:from:to:cc:subject:date:message-id:reply-to; bh=+xsFMcy6LVvsvqGV6W/o7eGFgvDQ8NMExFUe0po3mrA=; b=GzXL6NBwjh9dwylwvKqggZ8DL/+h5KBa01gLMQDQXYgKQ5WEa3rDg7w4joBeCQ2mJ/ vDaxEoGxCoOSFWinV3hm7PG3bjPDIdR3ijYiqdboR7dV98qzPy+ZYjgWBCkUP/dkVLGP 45XRqAN1mrttcOKYUQGG3Q5yBDNct2PPpdpH4a3ckVQBA/s5LYGF4Yjge4ux1/cA1FOB b9Zoi/iBX16tY0yQi4+u8hIq92Xhnvt+k7UDbOmiS7NDOnDCf+Q+SnzapMU0L0vWuKFC zV2OEzoDaEBjSvuy9Qf6XJWfmrsjw2V07pVa99lUh6wb5eVi5KxwkXG1qiWzgm1ttSOs S5qg== X-Gm-Message-State: AOJu0Yw0NtJPLfoB/C0eH7vx7WvOtbIZOft7wHy1dp7q+UQBg4yOaKOB 64MiIk2I60xYRWEAfnYEicpe/iwziGJkLQnNOrpd8qHuXjpkOxtReRLB8eDaM5i4CrmBOcYDg04 at7DN6f6XN2vYUN8a6HmqzIf7KV88g/LSf/TFr5n0NMWoNOo1Pyq7igws X-Gm-Gg: ASbGncuunscaDB2JsjX5aHNElgRK60WuCa+osH52MpID5mByxhzTd4Bf+OINEwiTSyH T+ZzxmrxURuw1DMonjf3TVVw5HIKiBrygfCwmBcLZJMM9oK4FtA2KO2MCGAROYVM3yRnY04yR+P Hi2g1/DTZwVl2AE4e84pktMi3R7eyfsugU9byZiVEGnnXfzWxulq6jjpExfHBsd/L80y5MyqSW7 faE17hGNCGXczEmNDgkp5JVjxn8/EEYKoB4QY909WJy07X+yBaouQ78tJedkTSMiu4GCoy+SYVd b4nDAYqYTGc+LMYqRvVd3v2n8fKd0+7Qbt9DvN5ZIw== X-Google-Smtp-Source: AGHT+IHkr74QsfjNfjYJif3Gd6ojYWGg6dUp194NzGpUD0/nPMshydwR201DBuXorPJ/oA+8C3CEH/k671l3 X-Received: by 2002:a05:6e02:1546:b0:3d0:47e3:40bb with SMTP id e9e14a558f8ab-3d04f47900cmr32915515ab.4.1738778987807; Wed, 05 Feb 2025 10:09:47 -0800 (PST) Received: from postal.iol.unh.edu (postal.iol.unh.edu. [2606:4100:3880:1234::84]) by smtp-relay.gmail.com with ESMTPS id e9e14a558f8ab-3d00a604f94sm10273675ab.65.2025.02.05.10.09.47 (version=TLS1_2 cipher=ECDHE-ECDSA-AES128-GCM-SHA256 bits=128/128); Wed, 05 Feb 2025 10:09:47 -0800 (PST) X-Relaying-Domain: iol.unh.edu Date: Wed, 05 Feb 2025 10:09:47 -0800 (PST) Message-ID: <67a3a96b.050a0220.145a59.0581SMTPIN_ADDED_MISSING@mx.google.com> Received: from [172.17.0.2] (unknown [172.18.0.215]) by postal.iol.unh.edu (Postfix) with ESMTP id 7448F6052471; Wed, 5 Feb 2025 13:09:47 -0500 (EST) Subject: |SUCCESS| pw148946-148947 [PATCH] [v3,2/2] config/arm: sort SOCs alp From: dpdklab@iol.unh.edu To: Test Report Cc: dpdk-test-reports@iol.unh.edu In-Reply-To: <20241129234726.1570765-2-wathsala.vithanage@arm.com> References: <20241129234726.1570765-2-wathsala.vithanage@arm.com> Content-Type: text/plain X-BeenThere: test-report@dpdk.org X-Mailman-Version: 2.1.29 Precedence: list List-Id: automatic DPDK test reports List-Unsubscribe: , List-Archive: List-Post: List-Help: List-Subscribe: , Errors-To: test-report-bounces@dpdk.org Test-Label: iol-compile-amd64-testing Test-Status: SUCCESS http://dpdk.org/patch/148947 _Testing PASS_ Submitter: Wathsala Vithanage Date: Friday, November 29 2024 23:47:26 DPDK git baseline: Repo:dpdk Branch: master CommitID:8750576fb2a9a067ffbcce4bab6481f3bfa47097 148946-148947 --> testing pass Test environment and result as below: +---------------------+--------------------+------------------+-------------------+-------------------+-------------------------+----------------------+ | Environment | dpdk_meson_compile | dpdk_compile_ovs | dpdk_compile_spdk | dpdk_msvc_compile | dpdk_llvm_clang_compile | dpdk_mingw64_compile | +=====================+====================+==================+===================+===================+=========================+======================+ | Fedora 39 (Clang) | PASS | PASS | PASS | SKIPPED | SKIPPED | SKIPPED | +---------------------+--------------------+------------------+-------------------+-------------------+-------------------------+----------------------+ | Debian 12 | PASS | PASS | PASS | SKIPPED | SKIPPED | SKIPPED | +---------------------+--------------------+------------------+-------------------+-------------------+-------------------------+----------------------+ | CentOS Stream 9 | PASS | PASS | PASS | SKIPPED | SKIPPED | SKIPPED | +---------------------+--------------------+------------------+-------------------+-------------------+-------------------------+----------------------+ | Fedora 40 (Clang) | PASS | PASS | PASS | SKIPPED | SKIPPED | SKIPPED | +---------------------+--------------------+------------------+-------------------+-------------------+-------------------------+----------------------+ | Fedora 40 | PASS | PASS | PASS | SKIPPED | SKIPPED | SKIPPED | +---------------------+--------------------+------------------+-------------------+-------------------+-------------------------+----------------------+ | openSUSE Leap 15 | PASS | PASS | SKIPPED | SKIPPED | SKIPPED | SKIPPED | +---------------------+--------------------+------------------+-------------------+-------------------+-------------------------+----------------------+ | RHEL8 | PASS | PASS | SKIPPED | SKIPPED | SKIPPED | SKIPPED | +---------------------+--------------------+------------------+-------------------+-------------------+-------------------------+----------------------+ | RHEL9 | PASS | PASS | SKIPPED | SKIPPED | SKIPPED | SKIPPED | +---------------------+--------------------+------------------+-------------------+-------------------+-------------------------+----------------------+ | Ubuntu 20.04 | PASS | SKIPPED | SKIPPED | SKIPPED | SKIPPED | SKIPPED | +---------------------+--------------------+------------------+-------------------+-------------------+-------------------------+----------------------+ | Ubuntu 22.04 | PASS | PASS | PASS | SKIPPED | SKIPPED | SKIPPED | +---------------------+--------------------+------------------+-------------------+-------------------+-------------------------+----------------------+ | Ubuntu 24.04 | PASS | PASS | PASS | SKIPPED | SKIPPED | SKIPPED | +---------------------+--------------------+------------------+-------------------+-------------------+-------------------------+----------------------+ | Alpine | PASS | PASS | SKIPPED | SKIPPED | SKIPPED | SKIPPED | +---------------------+--------------------+------------------+-------------------+-------------------+-------------------------+----------------------+ | FreeBSD 13.4 | PASS | SKIPPED | SKIPPED | SKIPPED | SKIPPED | SKIPPED | +---------------------+--------------------+------------------+-------------------+-------------------+-------------------------+----------------------+ | FreeBSD 14.2 | PASS | SKIPPED | SKIPPED | SKIPPED | SKIPPED | SKIPPED | +---------------------+--------------------+------------------+-------------------+-------------------+-------------------------+----------------------+ | Fedora 39 | PASS | PASS | PASS | SKIPPED | SKIPPED | SKIPPED | +---------------------+--------------------+------------------+-------------------+-------------------+-------------------------+----------------------+ | Windows Server 2022 | SKIPPED | SKIPPED | SKIPPED | PASS | PASS | PASS | +---------------------+--------------------+------------------+-------------------+-------------------+-------------------------+----------------------+ Fedora 39 (Clang) Kernel: Depends on container host Compiler: clang 17.0.6 (Fedora 17.0.6-2.fc39) Debian 12 Kernel: Depends on container host Compiler: gcc (Debian 12.2.0-14) 12.2.0 CentOS Stream 9 Kernel: Depends on container host Compiler: gcc 11.5.0 20240719 (Red Hat 11.5.0-2) Fedora 40 (Clang) Kernel: Depends on container host Compiler: clang 18.1.8 (Fedora 18.1.8-1.fc40) Fedora 40 Kernel: Depends on container host Compiler: gcc 14.2.1 20240912 (Red Hat 14.2.1-3) openSUSE Leap 15 Kernel: Depends on container host Compiler: gcc (SUSE Linux) 7.5.0 RHEL8 Kernel: Depends on container host Compiler: gcc 8.5.0 20210514 (Red Hat 8.5.0-22) RHEL9 Kernel: Depends on container host Compiler: gcc 11.5.0 20240719 (Red Hat 11.5.0-2) Ubuntu 20.04 Kernel: Depends on container host Compiler: gcc (Ubuntu 9.4.0-1ubuntu1~20.04.2) 9.4.0 Ubuntu 22.04 Kernel: Depends on container host Compiler: gcc (Ubuntu 11.4.0-1ubuntu1~22.04) 11.4.0 Ubuntu 24.04 Kernel: Depends on container host Compiler: gcc (Ubuntu 13.3.0-6ubuntu2~24.04) 13.3.0 Alpine Kernel: Depends on container host Compiler: gcc (Alpine 14.2.0) 14.2.0 FreeBSD 13.4 Kernel: 13.4-RELEASE-p1 Compiler: clang 18.1.6 FreeBSD 14.2 Kernel: 14.2-RELEASE Compiler: clang 18.1.6 Fedora 39 Kernel: Depends on container host Compiler: gcc 13.3.1 20240522 (Red Hat 13.3.1-1) Windows Server 2022 Kernel: 10.0.20348.2031 Compiler: clang 15.0.7, gcc 14.1.0 (MinGW), and MSVC VS 19.39.33521 To view detailed results, visit: https://lab.dpdk.org/results/dashboard/patchsets/32061/ UNH-IOL DPDK Community Lab To manage your email subscriptions, visit: https://lab.dpdk.org/results/dashboard/preferences/subscriptions/