From mboxrd@z Thu Jan 1 00:00:00 1970 Return-Path: Received: from mails.dpdk.org (mails.dpdk.org [217.70.189.124]) by inbox.dpdk.org (Postfix) with ESMTP id 7660E461A0 for ; Wed, 5 Feb 2025 19:09:50 +0100 (CET) Received: from mails.dpdk.org (localhost [127.0.0.1]) by mails.dpdk.org (Postfix) with ESMTP id 73E05402E6; Wed, 5 Feb 2025 19:09:50 +0100 (CET) Received: from mail-io1-f99.google.com (mail-io1-f99.google.com [209.85.166.99]) by mails.dpdk.org (Postfix) with ESMTP id C17D240261 for ; Wed, 5 Feb 2025 19:09:48 +0100 (CET) Received: by mail-io1-f99.google.com with SMTP id ca18e2360f4ac-844dfe4b136so2701939f.3 for ; Wed, 05 Feb 2025 10:09:48 -0800 (PST) DKIM-Signature: v=1; a=rsa-sha256; c=relaxed/relaxed; d=iol.unh.edu; s=unh-iol; t=1738778988; x=1739383788; darn=dpdk.org; h=references:in-reply-to:cc:to:from:subject:message-id:date:from:to :cc:subject:date:message-id:reply-to; bh=v+z2E0uKiBKJrSF6rIcWZb7AB6WwWx4WJQdxmXclORo=; b=icBxID/7rTpfedAEEiZ7Xqasvkb+XYVRLPDv98tSQqdULNpnalPEADzbqQSJ8zf8ea N0QWBC7agZNHM4q3wxcHwq2DfNLGlg5xeLR+z2DEl9BNissdPxh8ABFoyLG3tVh+OCSd lch5pL/zeHuJrRxT17qhoLFxBlNPKIYgIW46I= X-Google-DKIM-Signature: v=1; a=rsa-sha256; c=relaxed/relaxed; d=1e100.net; s=20230601; t=1738778988; x=1739383788; h=references:in-reply-to:cc:to:from:subject:message-id:date :x-gm-message-state:from:to:cc:subject:date:message-id:reply-to; bh=v+z2E0uKiBKJrSF6rIcWZb7AB6WwWx4WJQdxmXclORo=; b=C5aofZKcA860lE0RDhoQr1MCidem0SOsmQFMq5M6BiUUUyRR6tzk23/kzknyDguKwY yAqISvO5ZGXpUlpSAGqgyQlPVcKdY9xlnMJG1vlzv16WxKVLgkJVnvl2pubySGm9D8wh lQZXLcnx0Tu/SJHWmd50aqYyXPVx6CZ8ltY3ZJNgYuLmVy2Td71tGzOl4SUWjohGZHMf UvFYXUf4CK07jbloIOt5k0UV1fvXj196bAcG5VKyvZ5SVrWG3CPRGNHh8xIWN+KxHnu0 DB0ON2A4Aj9+0pC9+wwzRxLmwkQYJfLNl8jB6mX7us4emXPgmnQcrEX11toz++pifafK cxtQ== X-Gm-Message-State: AOJu0YzvYvVjOhC3ABkpyea3jWpR/UyxU4vfP4nSXj/jXJ6QhP+c1GxB 481zZgKVyypuIrb0knmmSdxGf3aKIFbkgO8NTQuiRo1eUhg9fIlsP2KGBWMFfJlmNGeFhlcFZc5 XwZPgytNhVf+59+wTRiyV6BvEgFHApN15AjW/HoOY X-Gm-Gg: ASbGnct/t7ApzN0sy+n+5xRhFJf+JZNSF9n7PtIDZ/hXnFJ7SWzUzb7JwDDCLzIGaW7 AwHPPMelB5Y0k/eKPmY71U2tAsyfXxZs8aXIk/Sk5NzrBEJQgYeRmwSdmPRTrdXd1Rz7tjSWc4f NLewzWSDdRXmeXOnFCyYEQIHwydGzGTINguhM6ZXnCkNKpREfTnn7htrY8tihZNuyDf5p38fa9x heQrTxA+esQ/h1/c14klYtoTJWanw3kkg75vdajZ7JhafNHGOVmOGm8cKttJ48i5wmfm2g51TZo 83tJGbFyA94kWmo4s0K+ADanYRs4Og== X-Google-Smtp-Source: AGHT+IHop9/Zgb5CcP4QnZgos6YpoP9cwrJZ7ghvi/naYdkyZw4XeChUGPTWQwvPYTCoGj9wbN2js8kT+4Cg X-Received: by 2002:a05:6602:7210:b0:844:e06e:53c6 with SMTP id ca18e2360f4ac-854ea5114e7mr385068639f.11.1738778988089; Wed, 05 Feb 2025 10:09:48 -0800 (PST) Received: from postal.iol.unh.edu (postal.iol.unh.edu. [132.177.123.84]) by smtp-relay.gmail.com with ESMTPS id ca18e2360f4ac-854a15b9de0sm81851939f.6.2025.02.05.10.09.48 (version=TLS1_2 cipher=ECDHE-ECDSA-AES128-GCM-SHA256 bits=128/128); Wed, 05 Feb 2025 10:09:48 -0800 (PST) X-Relaying-Domain: iol.unh.edu Date: Wed, 05 Feb 2025 10:09:48 -0800 (PST) Message-ID: <67a3a96c.050a0220.50a03.5adcSMTPIN_ADDED_MISSING@mx.google.com> Received: from [172.17.0.4] (unknown [172.18.0.215]) by postal.iol.unh.edu (Postfix) with ESMTP id 9F7586052472; Wed, 5 Feb 2025 13:09:47 -0500 (EST) Subject: |SUCCESS| pw148937 [PATCH] [v1,1/1] usertools/devbind: fix NUMA node From: dpdklab@iol.unh.edu To: Test Report Cc: dpdk-test-reports@iol.unh.edu In-Reply-To: <9af1231398c4ba116d3b89164690feace37293a9.1732810125.git.anatoly.burakov@intel.com> References: <9af1231398c4ba116d3b89164690feace37293a9.1732810125.git.anatoly.burakov@intel.com> Content-Type: text/plain X-BeenThere: test-report@dpdk.org X-Mailman-Version: 2.1.29 Precedence: list List-Id: automatic DPDK test reports List-Unsubscribe: , List-Archive: List-Post: List-Help: List-Subscribe: , Errors-To: test-report-bounces@dpdk.org Test-Label: iol-compile-amd64-testing Test-Status: SUCCESS http://dpdk.org/patch/148937 _Testing PASS_ Submitter: Burakov, Anatoly Date: Thursday, November 28 2024 16:08:55 DPDK git baseline: Repo:dpdk Branch: master CommitID:4843aacb0d1201fef37e8a579fcd8baec4acdf98 148937 --> testing pass Test environment and result as below: +---------------------+--------------------+------------------+-------------------+-------------------+-------------------------+----------------------+ | Environment | dpdk_meson_compile | dpdk_compile_ovs | dpdk_compile_spdk | dpdk_msvc_compile | dpdk_llvm_clang_compile | dpdk_mingw64_compile | +=====================+====================+==================+===================+===================+=========================+======================+ | Fedora 39 (Clang) | PASS | PASS | PASS | SKIPPED | SKIPPED | SKIPPED | +---------------------+--------------------+------------------+-------------------+-------------------+-------------------------+----------------------+ | Fedora 39 | PASS | PASS | PASS | SKIPPED | SKIPPED | SKIPPED | +---------------------+--------------------+------------------+-------------------+-------------------+-------------------------+----------------------+ | Fedora 40 (Clang) | PASS | PASS | PASS | SKIPPED | SKIPPED | SKIPPED | +---------------------+--------------------+------------------+-------------------+-------------------+-------------------------+----------------------+ | Debian 12 | PASS | PASS | PASS | SKIPPED | SKIPPED | SKIPPED | +---------------------+--------------------+------------------+-------------------+-------------------+-------------------------+----------------------+ | openSUSE Leap 15 | PASS | PASS | SKIPPED | SKIPPED | SKIPPED | SKIPPED | +---------------------+--------------------+------------------+-------------------+-------------------+-------------------------+----------------------+ | Fedora 40 | PASS | PASS | PASS | SKIPPED | SKIPPED | SKIPPED | +---------------------+--------------------+------------------+-------------------+-------------------+-------------------------+----------------------+ | RHEL8 | PASS | PASS | SKIPPED | SKIPPED | SKIPPED | SKIPPED | +---------------------+--------------------+------------------+-------------------+-------------------+-------------------------+----------------------+ | RHEL9 | PASS | PASS | SKIPPED | SKIPPED | SKIPPED | SKIPPED | +---------------------+--------------------+------------------+-------------------+-------------------+-------------------------+----------------------+ | Ubuntu 20.04 | PASS | SKIPPED | SKIPPED | SKIPPED | SKIPPED | SKIPPED | +---------------------+--------------------+------------------+-------------------+-------------------+-------------------------+----------------------+ | Ubuntu 22.04 | PASS | PASS | PASS | SKIPPED | SKIPPED | SKIPPED | +---------------------+--------------------+------------------+-------------------+-------------------+-------------------------+----------------------+ | FreeBSD 13.4 | PASS | SKIPPED | SKIPPED | SKIPPED | SKIPPED | SKIPPED | +---------------------+--------------------+------------------+-------------------+-------------------+-------------------------+----------------------+ | Ubuntu 24.04 | PASS | PASS | PASS | SKIPPED | SKIPPED | SKIPPED | +---------------------+--------------------+------------------+-------------------+-------------------+-------------------------+----------------------+ | Alpine | PASS | PASS | SKIPPED | SKIPPED | SKIPPED | SKIPPED | +---------------------+--------------------+------------------+-------------------+-------------------+-------------------------+----------------------+ | FreeBSD 14.2 | PASS | SKIPPED | SKIPPED | SKIPPED | SKIPPED | SKIPPED | +---------------------+--------------------+------------------+-------------------+-------------------+-------------------------+----------------------+ | CentOS Stream 9 | PASS | PASS | PASS | SKIPPED | SKIPPED | SKIPPED | +---------------------+--------------------+------------------+-------------------+-------------------+-------------------------+----------------------+ | Windows Server 2022 | SKIPPED | SKIPPED | SKIPPED | PASS | PASS | PASS | +---------------------+--------------------+------------------+-------------------+-------------------+-------------------------+----------------------+ Fedora 39 (Clang) Kernel: Depends on container host Compiler: clang 17.0.6 (Fedora 17.0.6-2.fc39) Fedora 39 Kernel: Depends on container host Compiler: gcc 13.3.1 20240522 (Red Hat 13.3.1-1) Fedora 40 (Clang) Kernel: Depends on container host Compiler: clang 18.1.8 (Fedora 18.1.8-1.fc40) Debian 12 Kernel: Depends on container host Compiler: gcc (Debian 12.2.0-14) 12.2.0 openSUSE Leap 15 Kernel: Depends on container host Compiler: gcc (SUSE Linux) 7.5.0 Fedora 40 Kernel: Depends on container host Compiler: gcc 14.2.1 20240912 (Red Hat 14.2.1-3) RHEL8 Kernel: Depends on container host Compiler: gcc 8.5.0 20210514 (Red Hat 8.5.0-22) RHEL9 Kernel: Depends on container host Compiler: gcc 11.5.0 20240719 (Red Hat 11.5.0-2) Ubuntu 20.04 Kernel: Depends on container host Compiler: gcc (Ubuntu 9.4.0-1ubuntu1~20.04.2) 9.4.0 Ubuntu 22.04 Kernel: Depends on container host Compiler: gcc (Ubuntu 11.4.0-1ubuntu1~22.04) 11.4.0 FreeBSD 13.4 Kernel: 13.4-RELEASE-p1 Compiler: clang 18.1.6 Ubuntu 24.04 Kernel: Depends on container host Compiler: gcc (Ubuntu 13.3.0-6ubuntu2~24.04) 13.3.0 Alpine Kernel: Depends on container host Compiler: gcc (Alpine 14.2.0) 14.2.0 FreeBSD 14.2 Kernel: 14.2-RELEASE Compiler: clang 18.1.6 CentOS Stream 9 Kernel: Depends on container host Compiler: gcc 11.5.0 20240719 (Red Hat 11.5.0-2) Windows Server 2022 Kernel: 10.0.20348.2031 Compiler: clang 15.0.7, gcc 14.1.0 (MinGW), and MSVC VS 19.39.33521 To view detailed results, visit: https://lab.dpdk.org/results/dashboard/patchsets/32052/ UNH-IOL DPDK Community Lab To manage your email subscriptions, visit: https://lab.dpdk.org/results/dashboard/preferences/subscriptions/