From mboxrd@z Thu Jan 1 00:00:00 1970 Return-Path: Received: from mails.dpdk.org (mails.dpdk.org [217.70.189.124]) by inbox.dpdk.org (Postfix) with ESMTP id 930C6461A0 for ; Wed, 5 Feb 2025 19:09:54 +0100 (CET) Received: from mails.dpdk.org (localhost [127.0.0.1]) by mails.dpdk.org (Postfix) with ESMTP id 9067A40270; Wed, 5 Feb 2025 19:09:54 +0100 (CET) Received: from mail-pl1-f226.google.com (mail-pl1-f226.google.com [209.85.214.226]) by mails.dpdk.org (Postfix) with ESMTP id 1254E40261 for ; Wed, 5 Feb 2025 19:09:53 +0100 (CET) Received: by mail-pl1-f226.google.com with SMTP id d9443c01a7336-21f11b0e580so2094995ad.1 for ; Wed, 05 Feb 2025 10:09:52 -0800 (PST) DKIM-Signature: v=1; a=rsa-sha256; c=relaxed/relaxed; d=iol.unh.edu; s=unh-iol; t=1738778992; x=1739383792; darn=dpdk.org; h=cc:to:from:subject:message-id:date:from:to:cc:subject:date :message-id:reply-to; bh=rFe3/w5fZALtjXxUXGoX43XItpoRDMEgeSalHguZKZw=; b=capy22HCKpAnaB4SW6YEHfIdgVRf6866XfAgwcgt7VlYr+XzTLVu694wQNdK6zt82F VcMtP61OxeJm9PUkD44YFBPiV0vd8IRIa4UbsXLx6B0h8uMUXFOWRmTJyuFQ8eqm/fbE ET8Ji21EAzG03Yl8yzEB5SpDYgqzNk3SjA/7M= X-Google-DKIM-Signature: v=1; a=rsa-sha256; c=relaxed/relaxed; d=1e100.net; s=20230601; t=1738778992; x=1739383792; h=cc:to:from:subject:message-id:date:x-gm-message-state:from:to:cc :subject:date:message-id:reply-to; bh=rFe3/w5fZALtjXxUXGoX43XItpoRDMEgeSalHguZKZw=; b=oNQ32GSOTV1j7PXgRMa5bdCRe8sZzbbJRZvVOJw0ihJ6ENfOnTTOryiqABkqJ+Rnhm x7glEl3e/gTsy/ahkjX5kBuUGj7JtTD6uSticmx/hVMPSFajl8frqBYjmux9GKOotC6M DW67gXpPaXys/Y0ku7s40zyAQpVOMLGlj+Sh+rw5W0wEQUNOMAE//tx7hobsXEKFhAyB ktWYbhCUmwOSka+Fqc0WhWitejxmHryEIk99PnBVPx+UpmSS8YbIb3PaYT0KZoJ4SN2U x1pg9ZTMv6u3gLU8nG4ac03YFYcFlGC2mT2uNhmk/fCOseIcGBVub6gpz4MK0ssgaAVB r3cA== X-Gm-Message-State: AOJu0YzSiOmeFyFONYnKtfvwRKyaT4K6tbEY4m1QrhC2yOiVWb8b0r6M Gy0j6BqoYMrOxiMJY3qpAhoU14q3T48si+iM2DpiD7+CzMRKhUCq3P5QdUgCG6oPkOtKy0fzxC9 alyduqrQO/DFN2iT3Oqsg0mHGRY3grO7tw5rLKV9C X-Gm-Gg: ASbGncsoU+uOiLIBDORTHnvOMNcaracERn4G4SwSxB746V+6GFy7Gl1qKhbOr3rbRN8 UHt1JeNDoXIVfGn6MsDg2ihY8SBXSOCF1X62k2BMVcVJ4ZlKVj+rD1oSnB83AD0xHFaQdRhZ/9+ ZvepG0lzMTN4r/TKDgOKH+KR4xUj3fB6NEF2dBW48n8MHQOTeimqL6JjlUVzbcSvDmhHamL3wXL 53iBol1j+teMSNLPIqMKwiL/jG2+p8+blI7B09g86PXJ/wzvEM0cre/M1IZdVBuCWfS4ZSwcwgg HmTwnHysacShHOsszM+M3p+5Nw9fMw== X-Google-Smtp-Source: AGHT+IHf1iPVdfXkxkqzgTmrX11bmVnKrUDDTtVkVfBD21dpO0TlY/cFru8aNASSJckookixTUdEB8rXBUbK X-Received: by 2002:a17:902:d512:b0:21f:9d8:867e with SMTP id d9443c01a7336-21f17f24d7amr64024615ad.51.1738778992331; Wed, 05 Feb 2025 10:09:52 -0800 (PST) Received: from postal.iol.unh.edu (postal.iol.unh.edu. [132.177.123.84]) by smtp-relay.gmail.com with ESMTPS id d9443c01a7336-21f280a0830sm442705ad.78.2025.02.05.10.09.52 (version=TLS1_2 cipher=ECDHE-ECDSA-AES128-GCM-SHA256 bits=128/128); Wed, 05 Feb 2025 10:09:52 -0800 (PST) X-Relaying-Domain: iol.unh.edu Date: Wed, 05 Feb 2025 10:09:52 -0800 (PST) Message-ID: <67a3a970.170a0220.13e785.2054SMTPIN_ADDED_MISSING@mx.google.com> Received: from [172.21.0.9] (unknown [172.18.0.240]) by postal.iol.unh.edu (Postfix) with ESMTP id 7FA076052472; Wed, 5 Feb 2025 13:09:51 -0500 (EST) Subject: |SUCCESS| [GIT MASTER] 1b3bf1128d9bda5595861814792f74b8f57160c8 From: dpdklab@iol.unh.edu To: Test Report Cc: dpdk-test-reports@iol.unh.edu, Jerin Jacob Content-Type: text/plain X-BeenThere: test-report@dpdk.org X-Mailman-Version: 2.1.29 Precedence: list List-Id: automatic DPDK test reports List-Unsubscribe: , List-Archive: List-Post: List-Help: List-Subscribe: , Errors-To: test-report-bounces@dpdk.org _Testing PASS_ Branch: dpdk-next-eventdev 1b3bf1128d9bda5595861814792f74b8f57160c8 --> testing pass Test environment and result as below: +---------------------+--------------------+------------------+-------------------+-------------------------+-------------------+----------------------+ | Environment | dpdk_meson_compile | dpdk_compile_ovs | dpdk_compile_spdk | dpdk_llvm_clang_compile | dpdk_msvc_compile | dpdk_mingw64_compile | +=====================+====================+==================+===================+=========================+===================+======================+ | Debian 12 | PASS | PASS | PASS | SKIPPED | SKIPPED | SKIPPED | +---------------------+--------------------+------------------+-------------------+-------------------------+-------------------+----------------------+ | Fedora 39 (Clang) | PASS | PASS | PASS | SKIPPED | SKIPPED | SKIPPED | +---------------------+--------------------+------------------+-------------------+-------------------------+-------------------+----------------------+ | openSUSE Leap 15 | PASS | PASS | SKIPPED | SKIPPED | SKIPPED | SKIPPED | +---------------------+--------------------+------------------+-------------------+-------------------------+-------------------+----------------------+ | Fedora 39 | PASS | PASS | PASS | SKIPPED | SKIPPED | SKIPPED | +---------------------+--------------------+------------------+-------------------+-------------------------+-------------------+----------------------+ | Fedora 40 | PASS | PASS | PASS | SKIPPED | SKIPPED | SKIPPED | +---------------------+--------------------+------------------+-------------------+-------------------------+-------------------+----------------------+ | Fedora 40 (Clang) | PASS | PASS | PASS | SKIPPED | SKIPPED | SKIPPED | +---------------------+--------------------+------------------+-------------------+-------------------------+-------------------+----------------------+ | CentOS Stream 9 | PASS | PASS | PASS | SKIPPED | SKIPPED | SKIPPED | +---------------------+--------------------+------------------+-------------------+-------------------------+-------------------+----------------------+ | RHEL9 | PASS | PASS | SKIPPED | SKIPPED | SKIPPED | SKIPPED | +---------------------+--------------------+------------------+-------------------+-------------------------+-------------------+----------------------+ | Ubuntu 20.04 | PASS | SKIPPED | SKIPPED | SKIPPED | SKIPPED | SKIPPED | +---------------------+--------------------+------------------+-------------------+-------------------------+-------------------+----------------------+ | Ubuntu 22.04 | PASS | PASS | PASS | SKIPPED | SKIPPED | SKIPPED | +---------------------+--------------------+------------------+-------------------+-------------------------+-------------------+----------------------+ | Ubuntu 24.04 | PASS | PASS | PASS | SKIPPED | SKIPPED | SKIPPED | +---------------------+--------------------+------------------+-------------------+-------------------------+-------------------+----------------------+ | RHEL8 | PASS | PASS | SKIPPED | SKIPPED | SKIPPED | SKIPPED | +---------------------+--------------------+------------------+-------------------+-------------------------+-------------------+----------------------+ | Alpine | PASS | PASS | SKIPPED | SKIPPED | SKIPPED | SKIPPED | +---------------------+--------------------+------------------+-------------------+-------------------------+-------------------+----------------------+ | FreeBSD 13.4 | PASS | SKIPPED | SKIPPED | SKIPPED | SKIPPED | SKIPPED | +---------------------+--------------------+------------------+-------------------+-------------------------+-------------------+----------------------+ | FreeBSD 14.2 | PASS | SKIPPED | SKIPPED | SKIPPED | SKIPPED | SKIPPED | +---------------------+--------------------+------------------+-------------------+-------------------------+-------------------+----------------------+ | Windows Server 2022 | SKIPPED | SKIPPED | SKIPPED | PASS | PASS | PASS | +---------------------+--------------------+------------------+-------------------+-------------------------+-------------------+----------------------+ Debian 12 Kernel: Depends on container host Compiler: gcc (Debian 12.2.0-14) 12.2.0 Fedora 39 (Clang) Kernel: Depends on container host Compiler: clang 17.0.6 (Fedora 17.0.6-2.fc39) openSUSE Leap 15 Kernel: Depends on container host Compiler: gcc (SUSE Linux) 7.5.0 Fedora 39 Kernel: Depends on container host Compiler: gcc 13.3.1 20240522 (Red Hat 13.3.1-1) Fedora 40 Kernel: Depends on container host Compiler: gcc 14.2.1 20240912 (Red Hat 14.2.1-3) Fedora 40 (Clang) Kernel: Depends on container host Compiler: clang 18.1.8 (Fedora 18.1.8-1.fc40) CentOS Stream 9 Kernel: Depends on container host Compiler: gcc 11.5.0 20240719 (Red Hat 11.5.0-2) RHEL9 Kernel: Depends on container host Compiler: gcc 11.5.0 20240719 (Red Hat 11.5.0-2) Ubuntu 20.04 Kernel: Depends on container host Compiler: gcc (Ubuntu 9.4.0-1ubuntu1~20.04.2) 9.4.0 Ubuntu 22.04 Kernel: Depends on container host Compiler: gcc (Ubuntu 11.4.0-1ubuntu1~22.04) 11.4.0 Ubuntu 24.04 Kernel: Depends on container host Compiler: gcc (Ubuntu 13.3.0-6ubuntu2~24.04) 13.3.0 RHEL8 Kernel: Depends on container host Compiler: gcc 8.5.0 20210514 (Red Hat 8.5.0-22) Alpine Kernel: Depends on container host Compiler: gcc (Alpine 14.2.0) 14.2.0 FreeBSD 13.4 Kernel: 13.4-RELEASE-p1 Compiler: clang 18.1.6 FreeBSD 14.2 Kernel: 14.2-RELEASE Compiler: clang 18.1.6 Windows Server 2022 Kernel: 10.0.20348.2031 Compiler: clang 15.0.7, gcc 14.1.0 (MinGW), and MSVC VS 19.39.33521 To view detailed results, visit: https://lab.dpdk.org/results/dashboard/tarballs/31794/ UNH-IOL DPDK Community Lab To manage your email subscriptions, visit: https://lab.dpdk.org/results/dashboard/preferences/subscriptions/