From mboxrd@z Thu Jan 1 00:00:00 1970 Return-Path: Received: from mails.dpdk.org (mails.dpdk.org [217.70.189.124]) by inbox.dpdk.org (Postfix) with ESMTP id B2C4E461A0 for ; Wed, 5 Feb 2025 19:09:57 +0100 (CET) Received: from mails.dpdk.org (localhost [127.0.0.1]) by mails.dpdk.org (Postfix) with ESMTP id AFA9D402EE; Wed, 5 Feb 2025 19:09:57 +0100 (CET) Received: from mail-pl1-f225.google.com (mail-pl1-f225.google.com [209.85.214.225]) by mails.dpdk.org (Postfix) with ESMTP id 2698940261 for ; Wed, 5 Feb 2025 19:09:54 +0100 (CET) Received: by mail-pl1-f225.google.com with SMTP id d9443c01a7336-21f2f386cbeso847195ad.0 for ; Wed, 05 Feb 2025 10:09:54 -0800 (PST) DKIM-Signature: v=1; a=rsa-sha256; c=relaxed/relaxed; d=iol.unh.edu; s=unh-iol; t=1738778993; x=1739383793; darn=dpdk.org; h=references:in-reply-to:cc:to:from:subject:message-id:date:from:to :cc:subject:date:message-id:reply-to; bh=zsq46r8/YZBVEVrru9YALXnHZjcX7s3hj1kG16aSGLA=; b=dlMYbnKhnyWEIeP/GWiQt5UaQFJRH1A5D7KqlMZHc6CaJTFpLhQK2JqreRgWaU5OiX ZE1QNNJRfKgClQQf0YJa24rugx/UpmPZyP7M/kUXBIZ0gmsy6uTNnwS4BxdVnNcA1WZS aek1FeOAqE7J9fcBfLRad0CC0Khrt3Z6US/Eo= X-Google-DKIM-Signature: v=1; a=rsa-sha256; c=relaxed/relaxed; d=1e100.net; s=20230601; t=1738778993; x=1739383793; h=references:in-reply-to:cc:to:from:subject:message-id:date :x-gm-message-state:from:to:cc:subject:date:message-id:reply-to; bh=zsq46r8/YZBVEVrru9YALXnHZjcX7s3hj1kG16aSGLA=; b=C40MRTVrByxD3h2FuUFYPx9HYBUA0+3wUP9G/5lKaYMS8EVNS1mYSnL2Fx4aSwHVVn 4/RqXgw78xc/ZCD1xSMEByaXISahsw+RHakuY6zaPqhvkCw3jqJBOQ3a1f43ltHUclHV QKhGbjbtSLdoI6mRd7228oqdMQOPr1w0Bb/cA/q3j57kbFQYitxXxsh89HwQllozgxaw 1m5dJUJOCecoZXyliQnPpSvrn8pzI6Hwql3deBxzoMVVAJ75OkUb9LNxMynSkuDONC6n zwsqXKnFvtZSXIdqvCDUzAzU3NDXZITTltgsltowqm/biF0c7Peuxs+TH2NXnNjT+FvV WYwA== X-Gm-Message-State: AOJu0Yz4XBPC63YGLH2ohdAg7y0cB0+r9FqQrLDDl/feeR5iyJ+LKMHp vwr9A5vwPQHp0/qa/8jVjfAhkmWirNHa0hSbEOf7UCA76EfO9kuoTIbSagATfWTHwKk+C4sSHIP nCQXLPV0uMz5pVQgCbl85H77vR+F0LLbfQGOZl/5e5QmmX5BB7X9frZgw X-Gm-Gg: ASbGncsvlvcfQYLYR20wib1Snu0YFLvA6NDCm/X8P3azHmJ7g0RliYDPUGtCikoGxAW d5MewjT+vtJqKTc/nqhLsUk+6Yxd6BlQlbLGMoCH2hQlHNamqiDKpQskPNfsGO1QdxJB3u+OvUW HFSdTikEPPKHwvdI9N74lUrflYhLOUe7ICM0mkToKE/31qfhBA+nd5sYb8xpKr7MHOeXehckVQ3 9NTMApOq9+5sbNfUUaHdfUjkCXELkkZ+ov5hYeI8zebOGfMWuC6DHL4++fGkOE++xuOaX/CCGOv CcId+gxSlLxEwkIWHG1BY4xNCWxbmy5iV0979qK1Eg== X-Google-Smtp-Source: AGHT+IGQMcp6401baic6v1dula6IZraP0zthN3LQum9UaMbpdVctKNlHncu/tLJPAdGGlsxQs5SW6Z5013Ov X-Received: by 2002:a17:902:d50e:b0:216:6be9:fd57 with SMTP id d9443c01a7336-21f17e08095mr71438415ad.21.1738778993365; Wed, 05 Feb 2025 10:09:53 -0800 (PST) Received: from postal.iol.unh.edu (postal.iol.unh.edu. [2606:4100:3880:1234::84]) by smtp-relay.gmail.com with ESMTPS id d9443c01a7336-21de3249497sm6917955ad.33.2025.02.05.10.09.53 (version=TLS1_2 cipher=ECDHE-ECDSA-AES128-GCM-SHA256 bits=128/128); Wed, 05 Feb 2025 10:09:53 -0800 (PST) X-Relaying-Domain: iol.unh.edu Date: Wed, 05 Feb 2025 10:09:53 -0800 (PST) Message-ID: <67a3a971.170a0220.cd6e3.f915SMTPIN_ADDED_MISSING@mx.google.com> Received: from [172.17.0.6] (unknown [172.18.0.57]) by postal.iol.unh.edu (Postfix) with ESMTP id 8AF8E6052472; Wed, 5 Feb 2025 13:09:52 -0500 (EST) Subject: |SUCCESS| pw148934 [PATCH] eal: fix bus cleanup in secondary process From: dpdklab@iol.unh.edu To: Test Report Cc: dpdk-test-reports@iol.unh.edu In-Reply-To: <20241128054829.1453-1-ming.1.yang@nokia-sbell.com> References: <20241128054829.1453-1-ming.1.yang@nokia-sbell.com> Content-Type: text/plain X-BeenThere: test-report@dpdk.org X-Mailman-Version: 2.1.29 Precedence: list List-Id: automatic DPDK test reports List-Unsubscribe: , List-Archive: List-Post: List-Help: List-Subscribe: , Errors-To: test-report-bounces@dpdk.org Test-Label: iol-compile-amd64-testing Test-Status: SUCCESS http://dpdk.org/patch/148934 _Testing PASS_ Submitter: Yang Ming Date: Thursday, November 28 2024 05:48:29 DPDK git baseline: Repo:dpdk Branch: master CommitID:4843aacb0d1201fef37e8a579fcd8baec4acdf98 148934 --> testing pass Test environment and result as below: +---------------------+-------------------+--------------------+------------------+-------------------+-------------------------+----------------------+ | Environment | dpdk_msvc_compile | dpdk_meson_compile | dpdk_compile_ovs | dpdk_compile_spdk | dpdk_llvm_clang_compile | dpdk_mingw64_compile | +=====================+===================+====================+==================+===================+=========================+======================+ | Windows Server 2022 | PASS | SKIPPED | SKIPPED | SKIPPED | PASS | PASS | +---------------------+-------------------+--------------------+------------------+-------------------+-------------------------+----------------------+ | FreeBSD 13.4 | SKIPPED | PASS | SKIPPED | SKIPPED | SKIPPED | SKIPPED | +---------------------+-------------------+--------------------+------------------+-------------------+-------------------------+----------------------+ | FreeBSD 14.2 | SKIPPED | PASS | SKIPPED | SKIPPED | SKIPPED | SKIPPED | +---------------------+-------------------+--------------------+------------------+-------------------+-------------------------+----------------------+ | CentOS Stream 9 | SKIPPED | PASS | PASS | PASS | SKIPPED | SKIPPED | +---------------------+-------------------+--------------------+------------------+-------------------+-------------------------+----------------------+ | Debian 12 | SKIPPED | PASS | PASS | PASS | SKIPPED | SKIPPED | +---------------------+-------------------+--------------------+------------------+-------------------+-------------------------+----------------------+ | Fedora 39 | SKIPPED | PASS | PASS | PASS | SKIPPED | SKIPPED | +---------------------+-------------------+--------------------+------------------+-------------------+-------------------------+----------------------+ | Fedora 39 (Clang) | SKIPPED | PASS | PASS | PASS | SKIPPED | SKIPPED | +---------------------+-------------------+--------------------+------------------+-------------------+-------------------------+----------------------+ | Fedora 40 (Clang) | SKIPPED | PASS | PASS | PASS | SKIPPED | SKIPPED | +---------------------+-------------------+--------------------+------------------+-------------------+-------------------------+----------------------+ | Fedora 40 | SKIPPED | PASS | PASS | PASS | SKIPPED | SKIPPED | +---------------------+-------------------+--------------------+------------------+-------------------+-------------------------+----------------------+ | openSUSE Leap 15 | SKIPPED | PASS | PASS | SKIPPED | SKIPPED | SKIPPED | +---------------------+-------------------+--------------------+------------------+-------------------+-------------------------+----------------------+ | RHEL8 | SKIPPED | PASS | PASS | SKIPPED | SKIPPED | SKIPPED | +---------------------+-------------------+--------------------+------------------+-------------------+-------------------------+----------------------+ | RHEL9 | SKIPPED | PASS | PASS | SKIPPED | SKIPPED | SKIPPED | +---------------------+-------------------+--------------------+------------------+-------------------+-------------------------+----------------------+ | Ubuntu 20.04 | SKIPPED | PASS | SKIPPED | SKIPPED | SKIPPED | SKIPPED | +---------------------+-------------------+--------------------+------------------+-------------------+-------------------------+----------------------+ | Ubuntu 22.04 | SKIPPED | PASS | PASS | PASS | SKIPPED | SKIPPED | +---------------------+-------------------+--------------------+------------------+-------------------+-------------------------+----------------------+ | Ubuntu 24.04 | SKIPPED | PASS | PASS | PASS | SKIPPED | SKIPPED | +---------------------+-------------------+--------------------+------------------+-------------------+-------------------------+----------------------+ | Alpine | SKIPPED | PASS | PASS | SKIPPED | SKIPPED | SKIPPED | +---------------------+-------------------+--------------------+------------------+-------------------+-------------------------+----------------------+ Windows Server 2022 Kernel: 10.0.20348.2031 Compiler: clang 15.0.7, gcc 14.1.0 (MinGW), and MSVC VS 19.39.33521 FreeBSD 13.4 Kernel: 13.4-RELEASE-p1 Compiler: clang 18.1.6 FreeBSD 14.2 Kernel: 14.2-RELEASE Compiler: clang 18.1.6 CentOS Stream 9 Kernel: Depends on container host Compiler: gcc 11.5.0 20240719 (Red Hat 11.5.0-2) Debian 12 Kernel: Depends on container host Compiler: gcc (Debian 12.2.0-14) 12.2.0 Fedora 39 Kernel: Depends on container host Compiler: gcc 13.3.1 20240522 (Red Hat 13.3.1-1) Fedora 39 (Clang) Kernel: Depends on container host Compiler: clang 17.0.6 (Fedora 17.0.6-2.fc39) Fedora 40 (Clang) Kernel: Depends on container host Compiler: clang 18.1.8 (Fedora 18.1.8-1.fc40) Fedora 40 Kernel: Depends on container host Compiler: gcc 14.2.1 20240912 (Red Hat 14.2.1-3) openSUSE Leap 15 Kernel: Depends on container host Compiler: gcc (SUSE Linux) 7.5.0 RHEL8 Kernel: Depends on container host Compiler: gcc 8.5.0 20210514 (Red Hat 8.5.0-22) RHEL9 Kernel: Depends on container host Compiler: gcc 11.5.0 20240719 (Red Hat 11.5.0-2) Ubuntu 20.04 Kernel: Depends on container host Compiler: gcc (Ubuntu 9.4.0-1ubuntu1~20.04.2) 9.4.0 Ubuntu 22.04 Kernel: Depends on container host Compiler: gcc (Ubuntu 11.4.0-1ubuntu1~22.04) 11.4.0 Ubuntu 24.04 Kernel: Depends on container host Compiler: gcc (Ubuntu 13.3.0-6ubuntu2~24.04) 13.3.0 Alpine Kernel: Depends on container host Compiler: gcc (Alpine 14.2.0) 14.2.0 To view detailed results, visit: https://lab.dpdk.org/results/dashboard/patchsets/32050/ UNH-IOL DPDK Community Lab To manage your email subscriptions, visit: https://lab.dpdk.org/results/dashboard/preferences/subscriptions/