From mboxrd@z Thu Jan 1 00:00:00 1970 Return-Path: Received: from mails.dpdk.org (mails.dpdk.org [217.70.189.124]) by inbox.dpdk.org (Postfix) with ESMTP id D6755461A0 for ; Wed, 5 Feb 2025 19:09:57 +0100 (CET) Received: from mails.dpdk.org (localhost [127.0.0.1]) by mails.dpdk.org (Postfix) with ESMTP id C88A040611; Wed, 5 Feb 2025 19:09:57 +0100 (CET) Received: from mail-io1-f99.google.com (mail-io1-f99.google.com [209.85.166.99]) by mails.dpdk.org (Postfix) with ESMTP id DA136402EE for ; Wed, 5 Feb 2025 19:09:54 +0100 (CET) Received: by mail-io1-f99.google.com with SMTP id ca18e2360f4ac-84cdacbc373so4041439f.1 for ; Wed, 05 Feb 2025 10:09:54 -0800 (PST) DKIM-Signature: v=1; a=rsa-sha256; c=relaxed/relaxed; d=iol.unh.edu; s=unh-iol; t=1738778994; x=1739383794; darn=dpdk.org; h=references:in-reply-to:cc:to:from:subject:message-id:date:from:to :cc:subject:date:message-id:reply-to; bh=ycktxCyvgvtWhSbbNKj+I9hnDBrJk68dWUdbk4zpZBM=; b=N6KeLW2tY175Sq6Ep7MCueWTf9JGBFrxv18UShAqrmygi17c3/xoVaTO8csvYKH5no xssmezOOGb+V16Cr32ofX+qI+XknGmFf9kzzA7l2rbreIb12PsQWhOwSXKyIzZ6xpMCT v/cmhDxHKbbFeILEhVV9S15Eo+o56P/zvj1eg= X-Google-DKIM-Signature: v=1; a=rsa-sha256; c=relaxed/relaxed; d=1e100.net; s=20230601; t=1738778994; x=1739383794; h=references:in-reply-to:cc:to:from:subject:message-id:date :x-gm-message-state:from:to:cc:subject:date:message-id:reply-to; bh=ycktxCyvgvtWhSbbNKj+I9hnDBrJk68dWUdbk4zpZBM=; b=FpH6iA/J7LL1+RLj0bYkmTi1sPyvK5OwJdJ8OBddjNstqqJVpiEmxh5OUAIeaxuRoV LzsM9H26HPqG0xKycWX7NqctLqUuSUtdPcQmsJIn1yQJhgpkpc/6eUY2cybpwxPeSxFp pp3W4Ed1UgdG1/kQFReehVbTLwDCOfg3//jgDnREEr+0CYJh2QuRggUj50UaRnlYUTRE Ljc2178Ld1t7CFBwkRiFTf6+7JApRnZOdwPPUs3Cjy5tq5BHky89PHAPwUYJgxXMDAZz NauZK61x3LE+uqJPCALPrp+NeKtkmjcqyjlD7IFoAdxze+j1YXecMqk00ir3PGmh79tN +U9g== X-Gm-Message-State: AOJu0YyjyWiuztyutQbT4qWKuggY3DoOYqo0DVsCyB18GgZNyWAtMqWH pNjzMeGVB3JLLcAexkeLRIRI0/ezCK7QpnH32S52RLhPGr54chQNYePodIOCH5rW1+m0zxArohH lgx/0WRF6X4+oTF5TVdIXY28o0mMrYztCXgPHSLqROMzHer+OGWofgin4 X-Gm-Gg: ASbGnctntNH/Jk0kQNT3qfbh0y9eacgMPJkgYauyfp6rS8pjTbTWturMvGqUJ2RZt7o 2Lsha5s1iOMOAt3xauuiNi5UydJ1ywtmlYi+sUCyheJybr0jmh/QTcE4UWguDaiS63LpLjr7JbD MYNMO2PQ29OGUcMQVw59wPrhb9xf0z2orP26nHVY663HMS4PHA1xGR/HtKNbRuuKheujXszITP6 5G0RRRq2281zE+FPjkTfi6dW7KeO6HDbvOxazZi4OLs2ml4XxH4HR+HihO0rVRCt1EZj1DQIXma vEsbDUfov2NZ/VzX2YSePlfZn4BPkQfE10872sJbdQ== X-Google-Smtp-Source: AGHT+IEFrGglpEoG6SFGvjIKYjn+JT5Da4KpGLyuQFd97zbEv7UQgmtYw0MTJSeKCCJXCIjs3UFy8K4HvZe8 X-Received: by 2002:a05:6602:481c:b0:83e:5860:5189 with SMTP id ca18e2360f4ac-854ea4cdb37mr334835839f.10.1738778994286; Wed, 05 Feb 2025 10:09:54 -0800 (PST) Received: from postal.iol.unh.edu (postal.iol.unh.edu. [2606:4100:3880:1234::84]) by smtp-relay.gmail.com with ESMTPS id 8926c6da1cb9f-4ec7469eb2bsm818372173.56.2025.02.05.10.09.54 (version=TLS1_2 cipher=ECDHE-ECDSA-AES128-GCM-SHA256 bits=128/128); Wed, 05 Feb 2025 10:09:54 -0800 (PST) X-Relaying-Domain: iol.unh.edu Date: Wed, 05 Feb 2025 10:09:54 -0800 (PST) Message-ID: <67a3a972.050a0220.82391.6528SMTPIN_ADDED_MISSING@mx.google.com> Received: from [172.21.0.19] (unknown [172.18.0.240]) by postal.iol.unh.edu (Postfix) with ESMTP id EB60A6052477; Wed, 5 Feb 2025 13:09:53 -0500 (EST) Subject: |SUCCESS| pw148927 [PATCH] [v2] lib/eal: fix macros for noinline and From: dpdklab@iol.unh.edu To: Test Report Cc: dpdk-test-reports@iol.unh.edu In-Reply-To: <1732736370-19115-1-git-send-email-andremue@linux.microsoft.com> References: <1732736370-19115-1-git-send-email-andremue@linux.microsoft.com> Content-Type: text/plain X-BeenThere: test-report@dpdk.org X-Mailman-Version: 2.1.29 Precedence: list List-Id: automatic DPDK test reports List-Unsubscribe: , List-Archive: List-Post: List-Help: List-Subscribe: , Errors-To: test-report-bounces@dpdk.org Test-Label: iol-compile-amd64-testing Test-Status: SUCCESS http://dpdk.org/patch/148927 _Testing PASS_ Submitter: Andre Muezerie Date: Wednesday, November 27 2024 19:39:30 DPDK git baseline: Repo:dpdk Branch: master CommitID:4843aacb0d1201fef37e8a579fcd8baec4acdf98 148927 --> testing pass Test environment and result as below: +---------------------+--------------------+------------------+-------------------+-------------------+-------------------------+----------------------+ | Environment | dpdk_meson_compile | dpdk_compile_ovs | dpdk_compile_spdk | dpdk_msvc_compile | dpdk_llvm_clang_compile | dpdk_mingw64_compile | +=====================+====================+==================+===================+===================+=========================+======================+ | CentOS Stream 9 | PASS | PASS | PASS | SKIPPED | SKIPPED | SKIPPED | +---------------------+--------------------+------------------+-------------------+-------------------+-------------------------+----------------------+ | Debian 12 | PASS | PASS | PASS | SKIPPED | SKIPPED | SKIPPED | +---------------------+--------------------+------------------+-------------------+-------------------+-------------------------+----------------------+ | Fedora 39 (Clang) | PASS | PASS | PASS | SKIPPED | SKIPPED | SKIPPED | +---------------------+--------------------+------------------+-------------------+-------------------+-------------------------+----------------------+ | Fedora 39 | PASS | PASS | PASS | SKIPPED | SKIPPED | SKIPPED | +---------------------+--------------------+------------------+-------------------+-------------------+-------------------------+----------------------+ | Fedora 40 (Clang) | PASS | PASS | PASS | SKIPPED | SKIPPED | SKIPPED | +---------------------+--------------------+------------------+-------------------+-------------------+-------------------------+----------------------+ | Fedora 40 | PASS | PASS | PASS | SKIPPED | SKIPPED | SKIPPED | +---------------------+--------------------+------------------+-------------------+-------------------+-------------------------+----------------------+ | openSUSE Leap 15 | PASS | PASS | SKIPPED | SKIPPED | SKIPPED | SKIPPED | +---------------------+--------------------+------------------+-------------------+-------------------+-------------------------+----------------------+ | RHEL8 | PASS | PASS | SKIPPED | SKIPPED | SKIPPED | SKIPPED | +---------------------+--------------------+------------------+-------------------+-------------------+-------------------------+----------------------+ | RHEL9 | PASS | PASS | SKIPPED | SKIPPED | SKIPPED | SKIPPED | +---------------------+--------------------+------------------+-------------------+-------------------+-------------------------+----------------------+ | Ubuntu 22.04 | PASS | PASS | PASS | SKIPPED | SKIPPED | SKIPPED | +---------------------+--------------------+------------------+-------------------+-------------------+-------------------------+----------------------+ | Ubuntu 24.04 | PASS | PASS | PASS | SKIPPED | SKIPPED | SKIPPED | +---------------------+--------------------+------------------+-------------------+-------------------+-------------------------+----------------------+ | Alpine | PASS | PASS | SKIPPED | SKIPPED | SKIPPED | SKIPPED | +---------------------+--------------------+------------------+-------------------+-------------------+-------------------------+----------------------+ | FreeBSD 13.4 | PASS | SKIPPED | SKIPPED | SKIPPED | SKIPPED | SKIPPED | +---------------------+--------------------+------------------+-------------------+-------------------+-------------------------+----------------------+ | FreeBSD 14.2 | PASS | SKIPPED | SKIPPED | SKIPPED | SKIPPED | SKIPPED | +---------------------+--------------------+------------------+-------------------+-------------------+-------------------------+----------------------+ | Ubuntu 20.04 | PASS | SKIPPED | SKIPPED | SKIPPED | SKIPPED | SKIPPED | +---------------------+--------------------+------------------+-------------------+-------------------+-------------------------+----------------------+ | Windows Server 2022 | SKIPPED | SKIPPED | SKIPPED | PASS | PASS | PASS | +---------------------+--------------------+------------------+-------------------+-------------------+-------------------------+----------------------+ CentOS Stream 9 Kernel: Depends on container host Compiler: gcc 11.5.0 20240719 (Red Hat 11.5.0-2) Debian 12 Kernel: Depends on container host Compiler: gcc (Debian 12.2.0-14) 12.2.0 Fedora 39 (Clang) Kernel: Depends on container host Compiler: clang 17.0.6 (Fedora 17.0.6-2.fc39) Fedora 39 Kernel: Depends on container host Compiler: gcc 13.3.1 20240522 (Red Hat 13.3.1-1) Fedora 40 (Clang) Kernel: Depends on container host Compiler: clang 18.1.8 (Fedora 18.1.8-1.fc40) Fedora 40 Kernel: Depends on container host Compiler: gcc 14.2.1 20240912 (Red Hat 14.2.1-3) openSUSE Leap 15 Kernel: Depends on container host Compiler: gcc (SUSE Linux) 7.5.0 RHEL8 Kernel: Depends on container host Compiler: gcc 8.5.0 20210514 (Red Hat 8.5.0-22) RHEL9 Kernel: Depends on container host Compiler: gcc 11.5.0 20240719 (Red Hat 11.5.0-2) Ubuntu 22.04 Kernel: Depends on container host Compiler: gcc (Ubuntu 11.4.0-1ubuntu1~22.04) 11.4.0 Ubuntu 24.04 Kernel: Depends on container host Compiler: gcc (Ubuntu 13.3.0-6ubuntu2~24.04) 13.3.0 Alpine Kernel: Depends on container host Compiler: gcc (Alpine 14.2.0) 14.2.0 FreeBSD 13.4 Kernel: 13.4-RELEASE-p1 Compiler: clang 18.1.6 FreeBSD 14.2 Kernel: 14.2-RELEASE Compiler: clang 18.1.6 Ubuntu 20.04 Kernel: Depends on container host Compiler: gcc (Ubuntu 9.4.0-1ubuntu1~20.04.2) 9.4.0 Windows Server 2022 Kernel: 10.0.20348.2031 Compiler: clang 15.0.7, gcc 14.1.0 (MinGW), and MSVC VS 19.39.33521 To view detailed results, visit: https://lab.dpdk.org/results/dashboard/patchsets/32046/ UNH-IOL DPDK Community Lab To manage your email subscriptions, visit: https://lab.dpdk.org/results/dashboard/preferences/subscriptions/