From mboxrd@z Thu Jan 1 00:00:00 1970 Return-Path: Received: from mails.dpdk.org (mails.dpdk.org [217.70.189.124]) by inbox.dpdk.org (Postfix) with ESMTP id 60CD5461A0 for ; Wed, 5 Feb 2025 19:09:58 +0100 (CET) Received: from mails.dpdk.org (localhost [127.0.0.1]) by mails.dpdk.org (Postfix) with ESMTP id 0674440664; Wed, 5 Feb 2025 19:09:58 +0100 (CET) Received: from mail-pl1-f226.google.com (mail-pl1-f226.google.com [209.85.214.226]) by mails.dpdk.org (Postfix) with ESMTP id 73EAD402EE for ; Wed, 5 Feb 2025 19:09:55 +0100 (CET) Received: by mail-pl1-f226.google.com with SMTP id d9443c01a7336-21634338cfdso2309385ad.2 for ; Wed, 05 Feb 2025 10:09:55 -0800 (PST) DKIM-Signature: v=1; a=rsa-sha256; c=relaxed/relaxed; d=iol.unh.edu; s=unh-iol; t=1738778994; x=1739383794; darn=dpdk.org; h=references:in-reply-to:cc:to:from:subject:message-id:date:from:to :cc:subject:date:message-id:reply-to; bh=iDcSudxsnPwQTUABygXK7ZvQ84G++RYf3uwUfEWRsys=; b=RqFqoSrIj+qQTUtPbGi/iiHDIAVg7eoDEgrGY1/Bms5rcQRjiuBr6fyhAPnvW33PZw bIs07iPA+NCqL2yVis+XUYUADKNau4xkdlbdwrXmTq9wYUHwUBxK+/B94QrLNpkJiNgh dKMyf2jg2jTijlzRuXP5fhLWHuYtxOpb0TV68= X-Google-DKIM-Signature: v=1; a=rsa-sha256; c=relaxed/relaxed; d=1e100.net; s=20230601; t=1738778994; x=1739383794; h=references:in-reply-to:cc:to:from:subject:message-id:date :x-gm-message-state:from:to:cc:subject:date:message-id:reply-to; bh=iDcSudxsnPwQTUABygXK7ZvQ84G++RYf3uwUfEWRsys=; b=f3Dgi/CvyErTLTZiIyzaWL8Iv2slKimcYbF37RA+d/P0UfuwgXEkzWZtkJLnfuyeBa 724exn8Q77+MGqGAnGUXQY5N0ekQTIsmdJqcWB4yFTeqWZTO8IvfvejDzHP17a+trdPG el2/UIGKTXwSIVJ14Eh2tzKjFK5V9+KfylcrYCyJpTC7T1ZRNCwqzf+mE2D4T/7QmNgM 5mw0Yq2toc5XTAroX7cQng0FlJ3kNWK8yytIBWx6J9MvspcnBcXo9l/U5v8uGa/99WmR Hs+lwz0/K9COx2RdSAFWwme3dUrmjL/7cNSvL4AtIKQzyEOaWnFEb8Op0gwR07tnrxJR l7Mg== X-Gm-Message-State: AOJu0YyUfNhGL0mwahj7gecXgEgAH/nu9PV9irjzusmmqkVAM5cb4ZC7 UGvbkjtpZ8vknG2TqlQmzV9m28J8p+68yVUVNWgBlDzU2EZYQ0Iobo6IJfK5B35avHC7yPopJ7R 4tqUel28VqjdWTJzeYQv6q+D1cN8YF8Wyj7kyR84R X-Gm-Gg: ASbGnctjv8tKOkgKO6g7VG0pTxMVup7DI5bhFlfxrj2BrY0VtYuL+2fUqvqD9NXjNFC eMy8StH6A3E7+NOyzZWbqoG8RwyMi3WMVwlDQsF5Mn7LEFtLnRfQGRg/DgMzCBDBO3gJtjsVwmY xPk1+G5YokLnejYQIHWSyZDIxLrFVY/aUKmBiuRknfIBlmUq8n56KfALlGNlNsAyGzRE4kGY692 MJB7hvWzY8u2Q9q+id5S7y0PlOIzSP1wxCIkg4z8OnuivMemiHY8mnaXbp8uTy6Eyqt3ctvXtqg dKzKv8CbaXvCDscc7NFP1O+Q2jmPbA== X-Google-Smtp-Source: AGHT+IHYd7d+XUE5sv6IaNjMjHLYrLcJHEUxzSJ9ZcmaSKJ4nDK8vDOfZdgeRNSicx6VWN49ZWgUM3sdIij+ X-Received: by 2002:a17:902:ced1:b0:216:281f:820d with SMTP id d9443c01a7336-21f17e2cc62mr63639845ad.11.1738778994718; Wed, 05 Feb 2025 10:09:54 -0800 (PST) Received: from postal.iol.unh.edu (postal.iol.unh.edu. [132.177.123.84]) by smtp-relay.gmail.com with ESMTPS id d9443c01a7336-21de324a42esm6983785ad.46.2025.02.05.10.09.54 (version=TLS1_2 cipher=ECDHE-ECDSA-AES128-GCM-SHA256 bits=128/128); Wed, 05 Feb 2025 10:09:54 -0800 (PST) X-Relaying-Domain: iol.unh.edu Date: Wed, 05 Feb 2025 10:09:54 -0800 (PST) Message-ID: <67a3a972.170a0220.2aa917.fefeSMTPIN_ADDED_MISSING@mx.google.com> Received: from [172.21.0.6] (unknown [172.18.0.240]) by postal.iol.unh.edu (Postfix) with ESMTP id D19D66052472; Wed, 5 Feb 2025 13:09:53 -0500 (EST) Subject: |SUCCESS| pw148944 [PATCH] crypto/openssl: fix CMAC auth context upd From: dpdklab@iol.unh.edu To: Test Report Cc: dpdk-test-reports@iol.unh.edu In-Reply-To: <20241129202023.1203341-1-wathsala.vithanage@arm.com> References: <20241129202023.1203341-1-wathsala.vithanage@arm.com> Content-Type: text/plain X-BeenThere: test-report@dpdk.org X-Mailman-Version: 2.1.29 Precedence: list List-Id: automatic DPDK test reports List-Unsubscribe: , List-Archive: List-Post: List-Help: List-Subscribe: , Errors-To: test-report-bounces@dpdk.org Test-Label: iol-compile-amd64-testing Test-Status: SUCCESS http://dpdk.org/patch/148944 _Testing PASS_ Submitter: Wathsala Vithanage Date: Friday, November 29 2024 20:20:22 DPDK git baseline: Repo:dpdk Branch: master CommitID:4843aacb0d1201fef37e8a579fcd8baec4acdf98 148944 --> testing pass Test environment and result as below: +---------------------+--------------------+------------------+-------------------+-------------------+-------------------------+----------------------+ | Environment | dpdk_meson_compile | dpdk_compile_ovs | dpdk_compile_spdk | dpdk_msvc_compile | dpdk_llvm_clang_compile | dpdk_mingw64_compile | +=====================+====================+==================+===================+===================+=========================+======================+ | CentOS Stream 9 | PASS | PASS | PASS | SKIPPED | SKIPPED | SKIPPED | +---------------------+--------------------+------------------+-------------------+-------------------+-------------------------+----------------------+ | Debian 12 | PASS | PASS | PASS | SKIPPED | SKIPPED | SKIPPED | +---------------------+--------------------+------------------+-------------------+-------------------+-------------------------+----------------------+ | Fedora 39 (Clang) | PASS | PASS | PASS | SKIPPED | SKIPPED | SKIPPED | +---------------------+--------------------+------------------+-------------------+-------------------+-------------------------+----------------------+ | Fedora 39 | PASS | PASS | PASS | SKIPPED | SKIPPED | SKIPPED | +---------------------+--------------------+------------------+-------------------+-------------------+-------------------------+----------------------+ | Fedora 40 (Clang) | PASS | PASS | PASS | SKIPPED | SKIPPED | SKIPPED | +---------------------+--------------------+------------------+-------------------+-------------------+-------------------------+----------------------+ | Fedora 40 | PASS | PASS | PASS | SKIPPED | SKIPPED | SKIPPED | +---------------------+--------------------+------------------+-------------------+-------------------+-------------------------+----------------------+ | openSUSE Leap 15 | PASS | PASS | SKIPPED | SKIPPED | SKIPPED | SKIPPED | +---------------------+--------------------+------------------+-------------------+-------------------+-------------------------+----------------------+ | RHEL8 | PASS | PASS | SKIPPED | SKIPPED | SKIPPED | SKIPPED | +---------------------+--------------------+------------------+-------------------+-------------------+-------------------------+----------------------+ | RHEL9 | PASS | PASS | SKIPPED | SKIPPED | SKIPPED | SKIPPED | +---------------------+--------------------+------------------+-------------------+-------------------+-------------------------+----------------------+ | Ubuntu 20.04 | PASS | SKIPPED | SKIPPED | SKIPPED | SKIPPED | SKIPPED | +---------------------+--------------------+------------------+-------------------+-------------------+-------------------------+----------------------+ | Ubuntu 24.04 | PASS | PASS | PASS | SKIPPED | SKIPPED | SKIPPED | +---------------------+--------------------+------------------+-------------------+-------------------+-------------------------+----------------------+ | Ubuntu 22.04 | PASS | PASS | PASS | SKIPPED | SKIPPED | SKIPPED | +---------------------+--------------------+------------------+-------------------+-------------------+-------------------------+----------------------+ | Alpine | PASS | PASS | SKIPPED | SKIPPED | SKIPPED | SKIPPED | +---------------------+--------------------+------------------+-------------------+-------------------+-------------------------+----------------------+ | FreeBSD 13.4 | PASS | SKIPPED | SKIPPED | SKIPPED | SKIPPED | SKIPPED | +---------------------+--------------------+------------------+-------------------+-------------------+-------------------------+----------------------+ | FreeBSD 14.2 | PASS | SKIPPED | SKIPPED | SKIPPED | SKIPPED | SKIPPED | +---------------------+--------------------+------------------+-------------------+-------------------+-------------------------+----------------------+ | Windows Server 2022 | SKIPPED | SKIPPED | SKIPPED | PASS | PASS | PASS | +---------------------+--------------------+------------------+-------------------+-------------------+-------------------------+----------------------+ CentOS Stream 9 Kernel: Depends on container host Compiler: gcc 11.5.0 20240719 (Red Hat 11.5.0-2) Debian 12 Kernel: Depends on container host Compiler: gcc (Debian 12.2.0-14) 12.2.0 Fedora 39 (Clang) Kernel: Depends on container host Compiler: clang 17.0.6 (Fedora 17.0.6-2.fc39) Fedora 39 Kernel: Depends on container host Compiler: gcc 13.3.1 20240522 (Red Hat 13.3.1-1) Fedora 40 (Clang) Kernel: Depends on container host Compiler: clang 18.1.8 (Fedora 18.1.8-1.fc40) Fedora 40 Kernel: Depends on container host Compiler: gcc 14.2.1 20240912 (Red Hat 14.2.1-3) openSUSE Leap 15 Kernel: Depends on container host Compiler: gcc (SUSE Linux) 7.5.0 RHEL8 Kernel: Depends on container host Compiler: gcc 8.5.0 20210514 (Red Hat 8.5.0-22) RHEL9 Kernel: Depends on container host Compiler: gcc 11.5.0 20240719 (Red Hat 11.5.0-2) Ubuntu 20.04 Kernel: Depends on container host Compiler: gcc (Ubuntu 9.4.0-1ubuntu1~20.04.2) 9.4.0 Ubuntu 24.04 Kernel: Depends on container host Compiler: gcc (Ubuntu 13.3.0-6ubuntu2~24.04) 13.3.0 Ubuntu 22.04 Kernel: Depends on container host Compiler: gcc (Ubuntu 11.4.0-1ubuntu1~22.04) 11.4.0 Alpine Kernel: Depends on container host Compiler: gcc (Alpine 14.2.0) 14.2.0 FreeBSD 13.4 Kernel: 13.4-RELEASE-p1 Compiler: clang 18.1.6 FreeBSD 14.2 Kernel: 14.2-RELEASE Compiler: clang 18.1.6 Windows Server 2022 Kernel: 10.0.20348.2031 Compiler: clang 15.0.7, gcc 14.1.0 (MinGW), and MSVC VS 19.39.33521 To view detailed results, visit: https://lab.dpdk.org/results/dashboard/patchsets/32059/ UNH-IOL DPDK Community Lab To manage your email subscriptions, visit: https://lab.dpdk.org/results/dashboard/preferences/subscriptions/