From mboxrd@z Thu Jan 1 00:00:00 1970 Return-Path: Received: from mails.dpdk.org (mails.dpdk.org [217.70.189.124]) by inbox.dpdk.org (Postfix) with ESMTP id 0EF03461A0 for ; Wed, 5 Feb 2025 19:09:58 +0100 (CET) Received: from mails.dpdk.org (localhost [127.0.0.1]) by mails.dpdk.org (Postfix) with ESMTP id D2FAA4064E; Wed, 5 Feb 2025 19:09:57 +0100 (CET) Received: from mail-qv1-f98.google.com (mail-qv1-f98.google.com [209.85.219.98]) by mails.dpdk.org (Postfix) with ESMTP id 1A7F640261 for ; Wed, 5 Feb 2025 19:09:55 +0100 (CET) Received: by mail-qv1-f98.google.com with SMTP id 6a1803df08f44-6e43557fd94so968056d6.0 for ; Wed, 05 Feb 2025 10:09:55 -0800 (PST) DKIM-Signature: v=1; a=rsa-sha256; c=relaxed/relaxed; d=iol.unh.edu; s=unh-iol; t=1738778994; x=1739383794; darn=dpdk.org; h=references:in-reply-to:cc:to:from:subject:message-id:date:from:to :cc:subject:date:message-id:reply-to; bh=X+yrLtT/Q7jEyxzNtse92hQbf9i1dw3E0ygN4DTL9yc=; b=aVia6hkS0YlP1RSP3eaIIbof2QR/A7Pw0vuzD9jukQuO5dqW6kiuwABO2hccb21B9S veukVXLc5Y+y8AFB+BrV3gyH80yiH2Uw5HtWTEa7wEjGeVCpxRtBLOBXrALRbwrJswp9 8jgUDT3CySpgLbX5CckHtdjCF3rQIho17VORo= X-Google-DKIM-Signature: v=1; a=rsa-sha256; c=relaxed/relaxed; d=1e100.net; s=20230601; t=1738778994; x=1739383794; h=references:in-reply-to:cc:to:from:subject:message-id:date :x-gm-message-state:from:to:cc:subject:date:message-id:reply-to; bh=X+yrLtT/Q7jEyxzNtse92hQbf9i1dw3E0ygN4DTL9yc=; b=CbPcama0XqM3aU/+uwJMJih6POvsSEshRf9y2qGhitxQtQjdwVRPHAy3uKthbuVfxj ijzR6C1I0n2cz3ixqtBxAtysMGbN6nzGwKsQwgkgf5U050NVjrbu3IVD/fdLohehG1cL /AmBCDiAjxz3SdqKixwy7KwIcfL9h2/tK4fE4Ya3xA5H/0/d/fhDkwLvOaKL9K+zO2gR EJpXBdkLr/Np/8M4RRVXa0j0yttlIsrRuC4sA97+kM+Q4mFZYYnZLgoxQMhjn4YFx4oN Ldz+UqJ2rMJbUOXY0gBJdJCVxlJVXXjcPKpSaAIHNiyKNpwHTOq5y9jdBA7rZGbp6XtV MTmg== X-Gm-Message-State: AOJu0YxgMlGIN1NDw7RvF/T74EUFxCKQPwMfdpfyJ6//UTU/uRbzBo2+ 2n2XGtqe7rpKmJwTVfyd6Mix2egu00xP+oXmQ/W2HN2Mz+9eKZK3G6YLmANA1iKntCwiK9FJJIw zwouIpZs+6olc4jQzv9NlwoFX9cwJtXOAC+Up1oRMnZny8vhOpiqCN3Pk X-Gm-Gg: ASbGnctm+ZQVKMePOTrmzjj9cKY5HhJVtv29YtDOXLLeAXGux+8bUlZXZaT6bc6JSoW rR57mF2jxFtdLLJH6MKcnicpvJNgLDJZAmAvHnKAoBorD9dgRW7tGGpJg5X2yHKD/fLt8NSXy0H MpFS25rRKQ0nc7QhyH2Ri71uv5Kxb9h2xrXrnWPXzEG2FC7nuyIZoEcXuxSOnfCDwIvl2lYVZyh 7zO7XMuIxkhmmK71Wisd2/+tDhIS488ImfHM7nnOMhTIhq8cqAs4KuTMwR8QfscBjaiLuK+U3KH g67ZV+NCY3TSy5n4yOrAYPpL2kQQoKtdAn8NIrNuCQ== X-Google-Smtp-Source: AGHT+IETq/LejUGeNJH2PM0EWxJhP1R1BNm70St6ZMSgcTKeYHr5TnakcSouPfYX09MpDjt4eMLB49OaJlkT X-Received: by 2002:ad4:5993:0:b0:6d8:f612:e27d with SMTP id 6a1803df08f44-6e42fc1c30dmr46361826d6.32.1738778994529; Wed, 05 Feb 2025 10:09:54 -0800 (PST) Received: from postal.iol.unh.edu (postal.iol.unh.edu. [2606:4100:3880:1234::84]) by smtp-relay.gmail.com with ESMTPS id 6a1803df08f44-6e2544dfd26sm10613766d6.8.2025.02.05.10.09.54 (version=TLS1_2 cipher=ECDHE-ECDSA-AES128-GCM-SHA256 bits=128/128); Wed, 05 Feb 2025 10:09:54 -0800 (PST) X-Relaying-Domain: iol.unh.edu Date: Wed, 05 Feb 2025 10:09:54 -0800 (PST) Message-ID: <67a3a972.d40a0220.11bac6.183bSMTPIN_ADDED_MISSING@mx.google.com> Received: from [172.17.0.4] (unknown [172.18.0.57]) by postal.iol.unh.edu (Postfix) with ESMTP id 41066605247D; Wed, 5 Feb 2025 13:09:54 -0500 (EST) Subject: |SUCCESS| pw148940 [PATCH] power/amd_uncore: add e-smi installation From: dpdklab@iol.unh.edu To: Test Report Cc: dpdk-test-reports@iol.unh.edu In-Reply-To: <20241129043207.999912-1-sivaprasad.tummala@amd.com> References: <20241129043207.999912-1-sivaprasad.tummala@amd.com> Content-Type: text/plain X-BeenThere: test-report@dpdk.org X-Mailman-Version: 2.1.29 Precedence: list List-Id: automatic DPDK test reports List-Unsubscribe: , List-Archive: List-Post: List-Help: List-Subscribe: , Errors-To: test-report-bounces@dpdk.org Test-Label: iol-compile-amd64-testing Test-Status: SUCCESS http://dpdk.org/patch/148940 _Testing PASS_ Submitter: Tummala, Sivaprasad Date: Friday, November 29 2024 04:32:07 DPDK git baseline: Repo:dpdk Branch: master CommitID:c0f5a9dd74f41688660e4ef84487a175ee44a54a 148940 --> testing pass Test environment and result as below: +---------------------+--------------------+------------------+-------------------+-------------------+-------------------------+----------------------+ | Environment | dpdk_meson_compile | dpdk_compile_ovs | dpdk_compile_spdk | dpdk_msvc_compile | dpdk_llvm_clang_compile | dpdk_mingw64_compile | +=====================+====================+==================+===================+===================+=========================+======================+ | CentOS Stream 9 | PASS | PASS | PASS | SKIPPED | SKIPPED | SKIPPED | +---------------------+--------------------+------------------+-------------------+-------------------+-------------------------+----------------------+ | Debian 12 | PASS | PASS | PASS | SKIPPED | SKIPPED | SKIPPED | +---------------------+--------------------+------------------+-------------------+-------------------+-------------------------+----------------------+ | Fedora 39 (Clang) | PASS | PASS | PASS | SKIPPED | SKIPPED | SKIPPED | +---------------------+--------------------+------------------+-------------------+-------------------+-------------------------+----------------------+ | Fedora 39 | PASS | PASS | PASS | SKIPPED | SKIPPED | SKIPPED | +---------------------+--------------------+------------------+-------------------+-------------------+-------------------------+----------------------+ | Fedora 40 (Clang) | PASS | PASS | PASS | SKIPPED | SKIPPED | SKIPPED | +---------------------+--------------------+------------------+-------------------+-------------------+-------------------------+----------------------+ | Fedora 40 | PASS | PASS | PASS | SKIPPED | SKIPPED | SKIPPED | +---------------------+--------------------+------------------+-------------------+-------------------+-------------------------+----------------------+ | openSUSE Leap 15 | PASS | PASS | SKIPPED | SKIPPED | SKIPPED | SKIPPED | +---------------------+--------------------+------------------+-------------------+-------------------+-------------------------+----------------------+ | RHEL8 | PASS | PASS | SKIPPED | SKIPPED | SKIPPED | SKIPPED | +---------------------+--------------------+------------------+-------------------+-------------------+-------------------------+----------------------+ | RHEL9 | PASS | PASS | SKIPPED | SKIPPED | SKIPPED | SKIPPED | +---------------------+--------------------+------------------+-------------------+-------------------+-------------------------+----------------------+ | Ubuntu 20.04 | PASS | SKIPPED | SKIPPED | SKIPPED | SKIPPED | SKIPPED | +---------------------+--------------------+------------------+-------------------+-------------------+-------------------------+----------------------+ | Ubuntu 22.04 | PASS | PASS | PASS | SKIPPED | SKIPPED | SKIPPED | +---------------------+--------------------+------------------+-------------------+-------------------+-------------------------+----------------------+ | Ubuntu 24.04 | PASS | PASS | PASS | SKIPPED | SKIPPED | SKIPPED | +---------------------+--------------------+------------------+-------------------+-------------------+-------------------------+----------------------+ | Alpine | PASS | PASS | SKIPPED | SKIPPED | SKIPPED | SKIPPED | +---------------------+--------------------+------------------+-------------------+-------------------+-------------------------+----------------------+ | FreeBSD 14.2 | PASS | SKIPPED | SKIPPED | SKIPPED | SKIPPED | SKIPPED | +---------------------+--------------------+------------------+-------------------+-------------------+-------------------------+----------------------+ | FreeBSD 13.4 | PASS | SKIPPED | SKIPPED | SKIPPED | SKIPPED | SKIPPED | +---------------------+--------------------+------------------+-------------------+-------------------+-------------------------+----------------------+ | Windows Server 2022 | SKIPPED | SKIPPED | SKIPPED | PASS | PASS | PASS | +---------------------+--------------------+------------------+-------------------+-------------------+-------------------------+----------------------+ CentOS Stream 9 Kernel: Depends on container host Compiler: gcc 11.5.0 20240719 (Red Hat 11.5.0-2) Debian 12 Kernel: Depends on container host Compiler: gcc (Debian 12.2.0-14) 12.2.0 Fedora 39 (Clang) Kernel: Depends on container host Compiler: clang 17.0.6 (Fedora 17.0.6-2.fc39) Fedora 39 Kernel: Depends on container host Compiler: gcc 13.3.1 20240522 (Red Hat 13.3.1-1) Fedora 40 (Clang) Kernel: Depends on container host Compiler: clang 18.1.8 (Fedora 18.1.8-1.fc40) Fedora 40 Kernel: Depends on container host Compiler: gcc 14.2.1 20240912 (Red Hat 14.2.1-3) openSUSE Leap 15 Kernel: Depends on container host Compiler: gcc (SUSE Linux) 7.5.0 RHEL8 Kernel: Depends on container host Compiler: gcc 8.5.0 20210514 (Red Hat 8.5.0-22) RHEL9 Kernel: Depends on container host Compiler: gcc 11.5.0 20240719 (Red Hat 11.5.0-2) Ubuntu 20.04 Kernel: Depends on container host Compiler: gcc (Ubuntu 9.4.0-1ubuntu1~20.04.2) 9.4.0 Ubuntu 22.04 Kernel: Depends on container host Compiler: gcc (Ubuntu 11.4.0-1ubuntu1~22.04) 11.4.0 Ubuntu 24.04 Kernel: Depends on container host Compiler: gcc (Ubuntu 13.3.0-6ubuntu2~24.04) 13.3.0 Alpine Kernel: Depends on container host Compiler: gcc (Alpine 14.2.0) 14.2.0 FreeBSD 14.2 Kernel: 14.2-RELEASE Compiler: clang 18.1.6 FreeBSD 13.4 Kernel: 13.4-RELEASE-p1 Compiler: clang 18.1.6 Windows Server 2022 Kernel: 10.0.20348.2031 Compiler: clang 15.0.7, gcc 14.1.0 (MinGW), and MSVC VS 19.39.33521 To view detailed results, visit: https://lab.dpdk.org/results/dashboard/patchsets/32055/ UNH-IOL DPDK Community Lab To manage your email subscriptions, visit: https://lab.dpdk.org/results/dashboard/preferences/subscriptions/