From mboxrd@z Thu Jan 1 00:00:00 1970 Return-Path: Received: from mails.dpdk.org (mails.dpdk.org [217.70.189.124]) by inbox.dpdk.org (Postfix) with ESMTP id 7103A461A0 for ; Wed, 5 Feb 2025 19:09:58 +0100 (CET) Received: from mails.dpdk.org (localhost [127.0.0.1]) by mails.dpdk.org (Postfix) with ESMTP id 122A640667; Wed, 5 Feb 2025 19:09:58 +0100 (CET) Received: from mail-oo1-f98.google.com (mail-oo1-f98.google.com [209.85.161.98]) by mails.dpdk.org (Postfix) with ESMTP id 4E1F040261 for ; Wed, 5 Feb 2025 19:09:56 +0100 (CET) Received: by mail-oo1-f98.google.com with SMTP id 006d021491bc7-5f2efd94787so17503eaf.2 for ; Wed, 05 Feb 2025 10:09:56 -0800 (PST) DKIM-Signature: v=1; a=rsa-sha256; c=relaxed/relaxed; d=iol.unh.edu; s=unh-iol; t=1738778995; x=1739383795; darn=dpdk.org; h=references:in-reply-to:cc:to:from:subject:message-id:date:from:to :cc:subject:date:message-id:reply-to; bh=7oSB/T4ade5oeCB+EJFKYyGlHEXIHPyfTstPswqREGA=; b=WQlyJ9mxd7WqjBY3ohdYvO9pLLS8MymL+3/Cupb2OIMKQ8P3h/RDlSb7zDrpw9yGLE Z/XPVSpDZPskKCGx58ARS1cITRNKEO6nJg3aTSScwEDh+RNd2Qsbw+i4GsGDuEaD9QFv sqhqAMM+xLpG1f1EKONos91kQ2o4co1+S1qIg= X-Google-DKIM-Signature: v=1; a=rsa-sha256; c=relaxed/relaxed; d=1e100.net; s=20230601; t=1738778995; x=1739383795; h=references:in-reply-to:cc:to:from:subject:message-id:date :x-gm-message-state:from:to:cc:subject:date:message-id:reply-to; bh=7oSB/T4ade5oeCB+EJFKYyGlHEXIHPyfTstPswqREGA=; b=Lbe0CygWhOLFI7KwNh+RlcjzcDvQAtrdYQzVmHtqogQtz0ohZ7aHuf0OXRED7RwFcE z+KJnSPsAY8muCw99jKN9AgynkU8R0nfW5uvUYVF7mubq1UohVCg1hotvLCyGon4UCU6 nQ/cUHB/ob0QY8BjdZmADawm0JZXrPNQwUcPvkrLR9UWSAjbLqj98x1ZZC1mZyUSZffd bmwOfK4RThPQoxpUDAHR4ecElzKAMY95tpXfX+8A9ffQxroQtdluPU5GGOk3XnuStEcs AyEOAqn6woZMdk4zSsZY3u1ePlp7ofvYj0rZy16/+4t425Q07aiRPi9tzpcAk49YLTxd LSQw== X-Gm-Message-State: AOJu0YwLdQm8hzhMYXFwxk1RI2qVUg0mmxykl68t6RD3EeprYy12waac Jb2AWhR/NRqV2suUcmlfC15/h7URFQizkoZO9bYbDzJppeUmIytGjsjfn+ogAvC0oEvJuoZem9m BGuCmVAoihglt1vyul/1xOKeGppXwOpmIvAbmqp0vB2cHo7DfPCJiygvR X-Gm-Gg: ASbGnct9sXbjIxXKExjbykKlYIx7DqmGfclDQBeKyHIt2OC/Qky/82sM93Dc1my8UlL 5FOysR5q44vxpnRuZvqSc3F5SURE/TSCQwMy6wWKmb01TYr364qIxw27DhVsFPRiCmZEFXKtIqF uXBMfd114Ew2q1RHvh2gKXeX8d6Luj1vSkyk9vTkLxYjPV/32r1lXG+FPV2ni9/S5+RiutAStcp d8bzuqqFRi29aDpTNW3QUo9hDuZtWZ4iT2qwBEgAC+y5QXa9I0NeGbPcsmlDp7+BCg9IOmocccQ 7hG1WlPFv716p8Xxa3g4/abd6JRf5gT/y5aQYpVmPw== X-Google-Smtp-Source: AGHT+IEJmOzMgD0lswGWzKZlf8a/eINAya7Vmr9IrH+wJZAsJWIdg2xfjAt787mzx6DN1YlEO2M/jnozAez6 X-Received: by 2002:a05:6820:1ca5:b0:5f6:2e9b:bb0a with SMTP id 006d021491bc7-5fc4791f7abmr2721304eaf.2.1738778995517; Wed, 05 Feb 2025 10:09:55 -0800 (PST) Received: from postal.iol.unh.edu (postal.iol.unh.edu. [2606:4100:3880:1234::84]) by smtp-relay.gmail.com with ESMTPS id 006d021491bc7-5fc104b4966sm279902eaf.4.2025.02.05.10.09.55 (version=TLS1_2 cipher=ECDHE-ECDSA-AES128-GCM-SHA256 bits=128/128); Wed, 05 Feb 2025 10:09:55 -0800 (PST) X-Relaying-Domain: iol.unh.edu Date: Wed, 05 Feb 2025 10:09:55 -0800 (PST) Message-ID: <67a3a973.050a0220.42f13.d6ddSMTPIN_ADDED_MISSING@mx.google.com> Received: from [172.21.0.16] (unknown [172.18.0.240]) by postal.iol.unh.edu (Postfix) with ESMTP id 042A86052471; Wed, 5 Feb 2025 13:09:55 -0500 (EST) Subject: |SUCCESS| pw148932-148933 [PATCH] [2/2] lib/hash: avoid implicit con From: dpdklab@iol.unh.edu To: Test Report Cc: dpdk-test-reports@iol.unh.edu In-Reply-To: <1732758837-6350-2-git-send-email-andremue@linux.microsoft.com> References: <1732758837-6350-2-git-send-email-andremue@linux.microsoft.com> Content-Type: text/plain X-BeenThere: test-report@dpdk.org X-Mailman-Version: 2.1.29 Precedence: list List-Id: automatic DPDK test reports List-Unsubscribe: , List-Archive: List-Post: List-Help: List-Subscribe: , Errors-To: test-report-bounces@dpdk.org Test-Label: iol-compile-amd64-testing Test-Status: SUCCESS http://dpdk.org/patch/148933 _Testing PASS_ Submitter: Andre Muezerie Date: Thursday, November 28 2024 01:53:57 DPDK git baseline: Repo:dpdk Branch: master CommitID:f4ccce58c1a33cb41e1e820da504698437987efc 148932-148933 --> testing pass Test environment and result as below: +---------------------+--------------------+------------------+-------------------+-------------------------+-------------------+----------------------+ | Environment | dpdk_meson_compile | dpdk_compile_ovs | dpdk_compile_spdk | dpdk_llvm_clang_compile | dpdk_msvc_compile | dpdk_mingw64_compile | +=====================+====================+==================+===================+=========================+===================+======================+ | CentOS Stream 9 | PASS | PASS | PASS | SKIPPED | SKIPPED | SKIPPED | +---------------------+--------------------+------------------+-------------------+-------------------------+-------------------+----------------------+ | Debian 12 | PASS | PASS | PASS | SKIPPED | SKIPPED | SKIPPED | +---------------------+--------------------+------------------+-------------------+-------------------------+-------------------+----------------------+ | Fedora 39 (Clang) | PASS | PASS | PASS | SKIPPED | SKIPPED | SKIPPED | +---------------------+--------------------+------------------+-------------------+-------------------------+-------------------+----------------------+ | Fedora 40 (Clang) | PASS | PASS | PASS | SKIPPED | SKIPPED | SKIPPED | +---------------------+--------------------+------------------+-------------------+-------------------------+-------------------+----------------------+ | Fedora 39 | PASS | PASS | PASS | SKIPPED | SKIPPED | SKIPPED | +---------------------+--------------------+------------------+-------------------+-------------------------+-------------------+----------------------+ | Fedora 40 | PASS | PASS | PASS | SKIPPED | SKIPPED | SKIPPED | +---------------------+--------------------+------------------+-------------------+-------------------------+-------------------+----------------------+ | openSUSE Leap 15 | PASS | PASS | SKIPPED | SKIPPED | SKIPPED | SKIPPED | +---------------------+--------------------+------------------+-------------------+-------------------------+-------------------+----------------------+ | RHEL8 | PASS | PASS | SKIPPED | SKIPPED | SKIPPED | SKIPPED | +---------------------+--------------------+------------------+-------------------+-------------------------+-------------------+----------------------+ | FreeBSD 13.4 | PASS | SKIPPED | SKIPPED | SKIPPED | SKIPPED | SKIPPED | +---------------------+--------------------+------------------+-------------------+-------------------------+-------------------+----------------------+ | RHEL9 | PASS | PASS | SKIPPED | SKIPPED | SKIPPED | SKIPPED | +---------------------+--------------------+------------------+-------------------+-------------------------+-------------------+----------------------+ | Ubuntu 20.04 | PASS | SKIPPED | SKIPPED | SKIPPED | SKIPPED | SKIPPED | +---------------------+--------------------+------------------+-------------------+-------------------------+-------------------+----------------------+ | Ubuntu 22.04 | PASS | PASS | PASS | SKIPPED | SKIPPED | SKIPPED | +---------------------+--------------------+------------------+-------------------+-------------------------+-------------------+----------------------+ | Ubuntu 24.04 | PASS | PASS | PASS | SKIPPED | SKIPPED | SKIPPED | +---------------------+--------------------+------------------+-------------------+-------------------------+-------------------+----------------------+ | Alpine | PASS | PASS | SKIPPED | SKIPPED | SKIPPED | SKIPPED | +---------------------+--------------------+------------------+-------------------+-------------------------+-------------------+----------------------+ | FreeBSD 14.2 | PASS | SKIPPED | SKIPPED | SKIPPED | SKIPPED | SKIPPED | +---------------------+--------------------+------------------+-------------------+-------------------------+-------------------+----------------------+ | Windows Server 2022 | SKIPPED | SKIPPED | SKIPPED | PASS | PASS | PASS | +---------------------+--------------------+------------------+-------------------+-------------------------+-------------------+----------------------+ CentOS Stream 9 Kernel: Depends on container host Compiler: gcc 11.5.0 20240719 (Red Hat 11.5.0-2) Debian 12 Kernel: Depends on container host Compiler: gcc (Debian 12.2.0-14) 12.2.0 Fedora 39 (Clang) Kernel: Depends on container host Compiler: clang 17.0.6 (Fedora 17.0.6-2.fc39) Fedora 40 (Clang) Kernel: Depends on container host Compiler: clang 18.1.8 (Fedora 18.1.8-1.fc40) Fedora 39 Kernel: Depends on container host Compiler: gcc 13.3.1 20240522 (Red Hat 13.3.1-1) Fedora 40 Kernel: Depends on container host Compiler: gcc 14.2.1 20240912 (Red Hat 14.2.1-3) openSUSE Leap 15 Kernel: Depends on container host Compiler: gcc (SUSE Linux) 7.5.0 RHEL8 Kernel: Depends on container host Compiler: gcc 8.5.0 20210514 (Red Hat 8.5.0-22) FreeBSD 13.4 Kernel: 13.4-RELEASE-p1 Compiler: clang 18.1.6 RHEL9 Kernel: Depends on container host Compiler: gcc 11.5.0 20240719 (Red Hat 11.5.0-2) Ubuntu 20.04 Kernel: Depends on container host Compiler: gcc (Ubuntu 9.4.0-1ubuntu1~20.04.2) 9.4.0 Ubuntu 22.04 Kernel: Depends on container host Compiler: gcc (Ubuntu 11.4.0-1ubuntu1~22.04) 11.4.0 Ubuntu 24.04 Kernel: Depends on container host Compiler: gcc (Ubuntu 13.3.0-6ubuntu2~24.04) 13.3.0 Alpine Kernel: Depends on container host Compiler: gcc (Alpine 14.2.0) 14.2.0 FreeBSD 14.2 Kernel: 14.2-RELEASE Compiler: clang 18.1.6 Windows Server 2022 Kernel: 10.0.20348.2031 Compiler: clang 15.0.7, gcc 14.1.0 (MinGW), and MSVC VS 19.39.33521 To view detailed results, visit: https://lab.dpdk.org/results/dashboard/patchsets/32049/ UNH-IOL DPDK Community Lab To manage your email subscriptions, visit: https://lab.dpdk.org/results/dashboard/preferences/subscriptions/