From mboxrd@z Thu Jan 1 00:00:00 1970 Return-Path: Received: from mails.dpdk.org (mails.dpdk.org [217.70.189.124]) by inbox.dpdk.org (Postfix) with ESMTP id 7F07B461A0 for ; Wed, 5 Feb 2025 19:09:58 +0100 (CET) Received: from mails.dpdk.org (localhost [127.0.0.1]) by mails.dpdk.org (Postfix) with ESMTP id 28B8440671; Wed, 5 Feb 2025 19:09:58 +0100 (CET) Received: from mail-pj1-f98.google.com (mail-pj1-f98.google.com [209.85.216.98]) by mails.dpdk.org (Postfix) with ESMTP id 53A0240270 for ; Wed, 5 Feb 2025 19:09:56 +0100 (CET) Received: by mail-pj1-f98.google.com with SMTP id 98e67ed59e1d1-2f9dbd7d80dso2520890a91.1 for ; Wed, 05 Feb 2025 10:09:56 -0800 (PST) DKIM-Signature: v=1; a=rsa-sha256; c=relaxed/relaxed; d=iol.unh.edu; s=unh-iol; t=1738778995; x=1739383795; darn=dpdk.org; h=references:in-reply-to:cc:to:from:subject:message-id:date:from:to :cc:subject:date:message-id:reply-to; bh=fNTc3SbFSYOW82X5QtVknxTZIiY91bONmXOPlNFo8QA=; b=Vpf0wJmP2N0V1f8RRTnbUNnmAtX8l+56VNcrOvDuK1DF0Hs6n9T6vKhnD284HMj6MJ mn2p55pH9WdCGRwuL/WS3sfWBGDUAgblkJakWOuJCvzz4wxlWcnVGZRQpU1nj/bQ3Hax QQI53LeExArlUR7IdnfU/83Dc/Wa+iSjskSlo= X-Google-DKIM-Signature: v=1; a=rsa-sha256; c=relaxed/relaxed; d=1e100.net; s=20230601; t=1738778995; x=1739383795; h=references:in-reply-to:cc:to:from:subject:message-id:date :x-gm-message-state:from:to:cc:subject:date:message-id:reply-to; bh=fNTc3SbFSYOW82X5QtVknxTZIiY91bONmXOPlNFo8QA=; b=wvIo6yM3rPWCqlkTckf2Qt7WnOlbTSeXw7Z4LMkXgBvuJ4WXD5802N+ABkcEllDlxQ Zm4D5HwMGZ5cJhggGIfIJz08RlaDXyGthfVawN02/tXV0KWd3ftfOulpfZWi4kV3ZGe/ v6i8CYXv6qozta6xiZpYbhgTgrX+5WG/KhkHBeF2z1h9HihMHdOaXBUZ08DbhZkc2MZ6 w3Asf04DjYsZpDdJk1xUTtS++aMsBPyCYksGYh+UVwzhMDMRvZY4MfPFM62w8TUBNj22 oBJavvOu53Z2dn+cwmnn8W5QqwyHWp7PwviBFaAs6xg6wzP/3ZzDCfUOuwkOXcOZx4/u lAmA== X-Gm-Message-State: AOJu0YyqG+vtMk/GJWkVo+4c5QUciuMWN7g4k/GwGCGMQgpNP6wstzc7 zLkgWovEcFz6HWlm19m3Iq8/BK08Jqnu13/tSSB0oeKWTQxmUaD1FchfGm/ptt6XSgM0E+X2/NG omSuPSKoloNQwv7Aq1RtoQbCXsWsm7qgt4dKIZND1IZO3Fyxsmwt3Znlj X-Gm-Gg: ASbGncteNEIZl5FHJ2hLKyoz1/DqahuHsb0Rx7Qh0+yyyZWnp5jdMAYfVLZf8Ha+BdE ZlrZezfHyRlmWiAVAzBsjVWyjhQGHBX4ra1Rgd+1+XZdHwCI6TG02SCh/k+2SnpCBoYPqk4UPWo m+dbBOz31pOaJGoemIgdCi/iDvWwwRJI3MWHb3fNpaiHKMrJXW2Zo5ruUtMtusmUUg+ATmatmbk 7hb/348afHvCRmv/j7vyfnTO550YrzCVqb+6sPkih11X9Ri/UfuPISqCYjds4EIz1+uFhjbadVG 3R23wNYUENUdJZTLolUMC33agXuXoZUxtaVeTjatOQ== X-Google-Smtp-Source: AGHT+IGddTmM8beUuFBXr/8cCuekCO1mLa3Km1ZLR9fN5w7FS7yhGk6WbTX9VzZoQ3MHO13qCXEK1kIzuxmE X-Received: by 2002:a17:90b:3594:b0:2ee:fa0c:cebc with SMTP id 98e67ed59e1d1-2f9e0780376mr5791982a91.20.1738778995610; Wed, 05 Feb 2025 10:09:55 -0800 (PST) Received: from postal.iol.unh.edu (postal.iol.unh.edu. [2606:4100:3880:1234::84]) by smtp-relay.gmail.com with ESMTPS id 98e67ed59e1d1-2f9e1d7ba30sm162808a91.6.2025.02.05.10.09.55 (version=TLS1_2 cipher=ECDHE-ECDSA-AES128-GCM-SHA256 bits=128/128); Wed, 05 Feb 2025 10:09:55 -0800 (PST) X-Relaying-Domain: iol.unh.edu Date: Wed, 05 Feb 2025 10:09:55 -0800 (PST) Message-ID: <67a3a973.170a0220.2262cc.6ccaSMTPIN_ADDED_MISSING@mx.google.com> Received: from [172.17.0.6] (unknown [172.18.0.217]) by postal.iol.unh.edu (Postfix) with ESMTP id BC8036052477; Wed, 5 Feb 2025 13:09:54 -0500 (EST) Subject: |SUCCESS| pw148943 [PATCH] log: fix double free on cleanup From: dpdklab@iol.unh.edu To: Test Report Cc: dpdk-test-reports@iol.unh.edu In-Reply-To: <20241129161013.704859-2-rjarry@redhat.com> References: <20241129161013.704859-2-rjarry@redhat.com> Content-Type: text/plain X-BeenThere: test-report@dpdk.org X-Mailman-Version: 2.1.29 Precedence: list List-Id: automatic DPDK test reports List-Unsubscribe: , List-Archive: List-Post: List-Help: List-Subscribe: , Errors-To: test-report-bounces@dpdk.org Test-Label: iol-compile-amd64-testing Test-Status: SUCCESS http://dpdk.org/patch/148943 _Testing PASS_ Submitter: Robin Jarry Date: Friday, November 29 2024 16:10:14 DPDK git baseline: Repo:dpdk Branch: master CommitID:c0f5a9dd74f41688660e4ef84487a175ee44a54a 148943 --> testing pass Test environment and result as below: +---------------------+--------------------+------------------+-------------------+-------------------------+-------------------+----------------------+ | Environment | dpdk_meson_compile | dpdk_compile_ovs | dpdk_compile_spdk | dpdk_llvm_clang_compile | dpdk_msvc_compile | dpdk_mingw64_compile | +=====================+====================+==================+===================+=========================+===================+======================+ | CentOS Stream 9 | PASS | PASS | PASS | SKIPPED | SKIPPED | SKIPPED | +---------------------+--------------------+------------------+-------------------+-------------------------+-------------------+----------------------+ | Debian 12 | PASS | PASS | PASS | SKIPPED | SKIPPED | SKIPPED | +---------------------+--------------------+------------------+-------------------+-------------------------+-------------------+----------------------+ | Fedora 39 (Clang) | PASS | PASS | PASS | SKIPPED | SKIPPED | SKIPPED | +---------------------+--------------------+------------------+-------------------+-------------------------+-------------------+----------------------+ | Fedora 39 | PASS | PASS | PASS | SKIPPED | SKIPPED | SKIPPED | +---------------------+--------------------+------------------+-------------------+-------------------------+-------------------+----------------------+ | Fedora 40 | PASS | PASS | PASS | SKIPPED | SKIPPED | SKIPPED | +---------------------+--------------------+------------------+-------------------+-------------------------+-------------------+----------------------+ | Fedora 40 (Clang) | PASS | PASS | PASS | SKIPPED | SKIPPED | SKIPPED | +---------------------+--------------------+------------------+-------------------+-------------------------+-------------------+----------------------+ | openSUSE Leap 15 | PASS | PASS | SKIPPED | SKIPPED | SKIPPED | SKIPPED | +---------------------+--------------------+------------------+-------------------+-------------------------+-------------------+----------------------+ | RHEL8 | PASS | PASS | SKIPPED | SKIPPED | SKIPPED | SKIPPED | +---------------------+--------------------+------------------+-------------------+-------------------------+-------------------+----------------------+ | Ubuntu 20.04 | PASS | SKIPPED | SKIPPED | SKIPPED | SKIPPED | SKIPPED | +---------------------+--------------------+------------------+-------------------+-------------------------+-------------------+----------------------+ | RHEL9 | PASS | PASS | SKIPPED | SKIPPED | SKIPPED | SKIPPED | +---------------------+--------------------+------------------+-------------------+-------------------------+-------------------+----------------------+ | Alpine | PASS | PASS | SKIPPED | SKIPPED | SKIPPED | SKIPPED | +---------------------+--------------------+------------------+-------------------+-------------------------+-------------------+----------------------+ | Ubuntu 22.04 | PASS | PASS | PASS | SKIPPED | SKIPPED | SKIPPED | +---------------------+--------------------+------------------+-------------------+-------------------------+-------------------+----------------------+ | Ubuntu 24.04 | PASS | PASS | PASS | SKIPPED | SKIPPED | SKIPPED | +---------------------+--------------------+------------------+-------------------+-------------------------+-------------------+----------------------+ | FreeBSD 13.4 | PASS | SKIPPED | SKIPPED | SKIPPED | SKIPPED | SKIPPED | +---------------------+--------------------+------------------+-------------------+-------------------------+-------------------+----------------------+ | FreeBSD 14.2 | PASS | SKIPPED | SKIPPED | SKIPPED | SKIPPED | SKIPPED | +---------------------+--------------------+------------------+-------------------+-------------------------+-------------------+----------------------+ | Windows Server 2022 | SKIPPED | SKIPPED | SKIPPED | PASS | PASS | PASS | +---------------------+--------------------+------------------+-------------------+-------------------------+-------------------+----------------------+ CentOS Stream 9 Kernel: Depends on container host Compiler: gcc 11.5.0 20240719 (Red Hat 11.5.0-2) Debian 12 Kernel: Depends on container host Compiler: gcc (Debian 12.2.0-14) 12.2.0 Fedora 39 (Clang) Kernel: Depends on container host Compiler: clang 17.0.6 (Fedora 17.0.6-2.fc39) Fedora 39 Kernel: Depends on container host Compiler: gcc 13.3.1 20240522 (Red Hat 13.3.1-1) Fedora 40 Kernel: Depends on container host Compiler: gcc 14.2.1 20240912 (Red Hat 14.2.1-3) Fedora 40 (Clang) Kernel: Depends on container host Compiler: clang 18.1.8 (Fedora 18.1.8-1.fc40) openSUSE Leap 15 Kernel: Depends on container host Compiler: gcc (SUSE Linux) 7.5.0 RHEL8 Kernel: Depends on container host Compiler: gcc 8.5.0 20210514 (Red Hat 8.5.0-22) Ubuntu 20.04 Kernel: Depends on container host Compiler: gcc (Ubuntu 9.4.0-1ubuntu1~20.04.2) 9.4.0 RHEL9 Kernel: Depends on container host Compiler: gcc 11.5.0 20240719 (Red Hat 11.5.0-2) Alpine Kernel: Depends on container host Compiler: gcc (Alpine 14.2.0) 14.2.0 Ubuntu 22.04 Kernel: Depends on container host Compiler: gcc (Ubuntu 11.4.0-1ubuntu1~22.04) 11.4.0 Ubuntu 24.04 Kernel: Depends on container host Compiler: gcc (Ubuntu 13.3.0-6ubuntu2~24.04) 13.3.0 FreeBSD 13.4 Kernel: 13.4-RELEASE-p1 Compiler: clang 18.1.6 FreeBSD 14.2 Kernel: 14.2-RELEASE Compiler: clang 18.1.6 Windows Server 2022 Kernel: 10.0.20348.2031 Compiler: clang 15.0.7, gcc 14.1.0 (MinGW), and MSVC VS 19.39.33521 To view detailed results, visit: https://lab.dpdk.org/results/dashboard/patchsets/32058/ UNH-IOL DPDK Community Lab To manage your email subscriptions, visit: https://lab.dpdk.org/results/dashboard/preferences/subscriptions/