From mboxrd@z Thu Jan 1 00:00:00 1970 Return-Path: Received: from mails.dpdk.org (mails.dpdk.org [217.70.189.124]) by inbox.dpdk.org (Postfix) with ESMTP id 472CC461A0 for ; Wed, 5 Feb 2025 19:10:05 +0100 (CET) Received: from mails.dpdk.org (localhost [127.0.0.1]) by mails.dpdk.org (Postfix) with ESMTP id 451B4402E6; Wed, 5 Feb 2025 19:10:05 +0100 (CET) Received: from mail-oa1-f99.google.com (mail-oa1-f99.google.com [209.85.160.99]) by mails.dpdk.org (Postfix) with ESMTP id B936B402F1 for ; Wed, 5 Feb 2025 19:09:57 +0100 (CET) Received: by mail-oa1-f99.google.com with SMTP id 586e51a60fabf-2aa17010cbcso971fac.3 for ; Wed, 05 Feb 2025 10:09:57 -0800 (PST) DKIM-Signature: v=1; a=rsa-sha256; c=relaxed/relaxed; d=iol.unh.edu; s=unh-iol; t=1738778997; x=1739383797; darn=dpdk.org; h=references:in-reply-to:cc:to:from:subject:message-id:date:from:to :cc:subject:date:message-id:reply-to; bh=LVKMRVrC/ZcJargusbtOZt/wFOFxBMnMmiJufQ9WKTU=; b=aIHBNysjMTvdIx22Ldu7h9E4qjxqh7EcrY0XgYA0ccsfZDkuHjDHyWdv1DWx1bW2Y6 t246JpOuzlJlJFdOVOX2dnX2uiVnQ2+2Bw4Ll9feMqT6JcjTrmK4WLIx/kshkD0FwNwE lkEB0MILXVoESLlyIB2JanvrAXRZw/7J3X6Q0= X-Google-DKIM-Signature: v=1; a=rsa-sha256; c=relaxed/relaxed; d=1e100.net; s=20230601; t=1738778997; x=1739383797; h=references:in-reply-to:cc:to:from:subject:message-id:date :x-gm-message-state:from:to:cc:subject:date:message-id:reply-to; bh=LVKMRVrC/ZcJargusbtOZt/wFOFxBMnMmiJufQ9WKTU=; b=qce1h4iHJ98wxydd7vIchXC5ggMwAmn++OY1rLojsX23H8YiR4Plpi4BokvlVLxuQs Urjx2eAGyG3fmeixRGNGC7YfqdlLLqkgF7eflwy/69YBy+9pvyRnO6pTEz7A/rIzXCvr kMsedI7Y0AK4SgWKVcRQF0FpELpqUTct7dWw4TH8Lx5/kRDiNZ0W9Ilg3d9eKOQPBVXe E/9PsWJrs9JZoHEEW4JJsoJ+tMf7heg2fkE1+zc211erNKOj0oqXtJCv551jW+VijonC OVGqv7A6hyUqHLL5hxvrg9y819anvukHZn/hr3oLeDsAcbcnYO8Vi+vgxGVoj6JYKSZN HIyg== X-Gm-Message-State: AOJu0YwjaZQXk3soIDXvLBpz3oPdSQ3hYw1cCa0QvdxayITt5iF2RbLz 1bdFUyggnKdPCq9m1y26W3jk3tYobTpTgxNxAD+trY+PKDwBhqiWqD8ZAWOqVt+emDCx/UdBQoP VTDv8p3l3t3BIunsaXk+3kr6RxYtuY+KqczVAzPLF X-Gm-Gg: ASbGnct+YRkI2EFZ+ZVIPqes3jyTBTogJPT2FWnqiyda+DeXo6genXEf907PD76VDDW XqBHy3m93hLJieZ8ZdW7n0JEMPb1vovGRG9bEZj6XQ0DVjoEz7tWIctIiIGJImNgiJqbUGOv3fX +k1LVKS4RShSCcEhGY0oIW1xx/r10MkTXNDxI1/68IggbUvO/6h3+gunN5ly6NE5hTcAFgcQpmL 6YskzNKMtfM8yFcVV4wkf69a2S011Ka4oY+R2m/UPakd3X0GNqytkuaC6aXmgAEnQRqsZ9XFiyS GAgGg6wtl7eP49amVlc6qoO1xiQVhg== X-Google-Smtp-Source: AGHT+IGobiVbevDZu4ETD9e+6jSjcjDx9jL9IWxk3JtbIC28rfP65Gk2qamcsJ1FPUAmz3tHJ0D0coKlFGzx X-Received: by 2002:a05:6870:d1c5:b0:29e:66a1:2236 with SMTP id 586e51a60fabf-2b804bddb29mr2425441fac.0.1738778996851; Wed, 05 Feb 2025 10:09:56 -0800 (PST) Received: from postal.iol.unh.edu (postal.iol.unh.edu. [132.177.123.84]) by smtp-relay.gmail.com with ESMTPS id 586e51a60fabf-2b3565aff38sm962584fac.31.2025.02.05.10.09.56 (version=TLS1_2 cipher=ECDHE-ECDSA-AES128-GCM-SHA256 bits=128/128); Wed, 05 Feb 2025 10:09:56 -0800 (PST) X-Relaying-Domain: iol.unh.edu Date: Wed, 05 Feb 2025 10:09:56 -0800 (PST) Message-ID: <67a3a974.050a0220.3bb529.cc5eSMTPIN_ADDED_MISSING@mx.google.com> Received: from [172.21.0.15] (unknown [172.18.0.240]) by postal.iol.unh.edu (Postfix) with ESMTP id 578146052472; Wed, 5 Feb 2025 13:09:56 -0500 (EST) Subject: |SUCCESS| pw148930-148931 [PATCH] [2/2] app/test: add test_init_m128 From: dpdklab@iol.unh.edu To: Test Report Cc: dpdk-test-reports@iol.unh.edu In-Reply-To: <1732748278-14796-2-git-send-email-andremue@linux.microsoft.com> References: <1732748278-14796-2-git-send-email-andremue@linux.microsoft.com> Content-Type: text/plain X-BeenThere: test-report@dpdk.org X-Mailman-Version: 2.1.29 Precedence: list List-Id: automatic DPDK test reports List-Unsubscribe: , List-Archive: List-Post: List-Help: List-Subscribe: , Errors-To: test-report-bounces@dpdk.org Test-Label: iol-compile-amd64-testing Test-Status: SUCCESS http://dpdk.org/patch/148931 _Testing PASS_ Submitter: Andre Muezerie Date: Wednesday, November 27 2024 22:57:58 DPDK git baseline: Repo:dpdk Branch: master CommitID:4843aacb0d1201fef37e8a579fcd8baec4acdf98 148930-148931 --> testing pass Test environment and result as below: +---------------------+--------------------+------------------+-------------------+-------------------------+-------------------+----------------------+ | Environment | dpdk_meson_compile | dpdk_compile_ovs | dpdk_compile_spdk | dpdk_llvm_clang_compile | dpdk_msvc_compile | dpdk_mingw64_compile | +=====================+====================+==================+===================+=========================+===================+======================+ | RHEL8 | PASS | PASS | SKIPPED | SKIPPED | SKIPPED | SKIPPED | +---------------------+--------------------+------------------+-------------------+-------------------------+-------------------+----------------------+ | Ubuntu 22.04 | PASS | PASS | PASS | SKIPPED | SKIPPED | SKIPPED | +---------------------+--------------------+------------------+-------------------+-------------------------+-------------------+----------------------+ | Debian 12 | PASS | PASS | PASS | SKIPPED | SKIPPED | SKIPPED | +---------------------+--------------------+------------------+-------------------+-------------------------+-------------------+----------------------+ | Ubuntu 24.04 | PASS | PASS | PASS | SKIPPED | SKIPPED | SKIPPED | +---------------------+--------------------+------------------+-------------------+-------------------------+-------------------+----------------------+ | CentOS Stream 9 | PASS | PASS | PASS | SKIPPED | SKIPPED | SKIPPED | +---------------------+--------------------+------------------+-------------------+-------------------------+-------------------+----------------------+ | Fedora 39 (Clang) | PASS | PASS | PASS | SKIPPED | SKIPPED | SKIPPED | +---------------------+--------------------+------------------+-------------------+-------------------------+-------------------+----------------------+ | Fedora 40 (Clang) | PASS | PASS | PASS | SKIPPED | SKIPPED | SKIPPED | +---------------------+--------------------+------------------+-------------------+-------------------------+-------------------+----------------------+ | Fedora 40 | PASS | PASS | PASS | SKIPPED | SKIPPED | SKIPPED | +---------------------+--------------------+------------------+-------------------+-------------------------+-------------------+----------------------+ | RHEL9 | PASS | PASS | SKIPPED | SKIPPED | SKIPPED | SKIPPED | +---------------------+--------------------+------------------+-------------------+-------------------------+-------------------+----------------------+ | openSUSE Leap 15 | PASS | PASS | SKIPPED | SKIPPED | SKIPPED | SKIPPED | +---------------------+--------------------+------------------+-------------------+-------------------------+-------------------+----------------------+ | Ubuntu 20.04 | PASS | SKIPPED | SKIPPED | SKIPPED | SKIPPED | SKIPPED | +---------------------+--------------------+------------------+-------------------+-------------------------+-------------------+----------------------+ | Alpine | PASS | PASS | SKIPPED | SKIPPED | SKIPPED | SKIPPED | +---------------------+--------------------+------------------+-------------------+-------------------------+-------------------+----------------------+ | FreeBSD 13.4 | PASS | SKIPPED | SKIPPED | SKIPPED | SKIPPED | SKIPPED | +---------------------+--------------------+------------------+-------------------+-------------------------+-------------------+----------------------+ | FreeBSD 14.2 | PASS | SKIPPED | SKIPPED | SKIPPED | SKIPPED | SKIPPED | +---------------------+--------------------+------------------+-------------------+-------------------------+-------------------+----------------------+ | Fedora 39 | PASS | PASS | PASS | SKIPPED | SKIPPED | SKIPPED | +---------------------+--------------------+------------------+-------------------+-------------------------+-------------------+----------------------+ | Windows Server 2022 | SKIPPED | SKIPPED | SKIPPED | PASS | PASS | PASS | +---------------------+--------------------+------------------+-------------------+-------------------------+-------------------+----------------------+ RHEL8 Kernel: Depends on container host Compiler: gcc 8.5.0 20210514 (Red Hat 8.5.0-22) Ubuntu 22.04 Kernel: Depends on container host Compiler: gcc (Ubuntu 11.4.0-1ubuntu1~22.04) 11.4.0 Debian 12 Kernel: Depends on container host Compiler: gcc (Debian 12.2.0-14) 12.2.0 Ubuntu 24.04 Kernel: Depends on container host Compiler: gcc (Ubuntu 13.3.0-6ubuntu2~24.04) 13.3.0 CentOS Stream 9 Kernel: Depends on container host Compiler: gcc 11.5.0 20240719 (Red Hat 11.5.0-2) Fedora 39 (Clang) Kernel: Depends on container host Compiler: clang 17.0.6 (Fedora 17.0.6-2.fc39) Fedora 40 (Clang) Kernel: Depends on container host Compiler: clang 18.1.8 (Fedora 18.1.8-1.fc40) Fedora 40 Kernel: Depends on container host Compiler: gcc 14.2.1 20240912 (Red Hat 14.2.1-3) RHEL9 Kernel: Depends on container host Compiler: gcc 11.5.0 20240719 (Red Hat 11.5.0-2) openSUSE Leap 15 Kernel: Depends on container host Compiler: gcc (SUSE Linux) 7.5.0 Ubuntu 20.04 Kernel: Depends on container host Compiler: gcc (Ubuntu 9.4.0-1ubuntu1~20.04.2) 9.4.0 Alpine Kernel: Depends on container host Compiler: gcc (Alpine 14.2.0) 14.2.0 FreeBSD 13.4 Kernel: 13.4-RELEASE-p1 Compiler: clang 18.1.6 FreeBSD 14.2 Kernel: 14.2-RELEASE Compiler: clang 18.1.6 Fedora 39 Kernel: Depends on container host Compiler: gcc 13.3.1 20240522 (Red Hat 13.3.1-1) Windows Server 2022 Kernel: 10.0.20348.2031 Compiler: clang 15.0.7, gcc 14.1.0 (MinGW), and MSVC VS 19.39.33521 To view detailed results, visit: https://lab.dpdk.org/results/dashboard/patchsets/32048/ UNH-IOL DPDK Community Lab To manage your email subscriptions, visit: https://lab.dpdk.org/results/dashboard/preferences/subscriptions/