From: dpdklab@iol.unh.edu
To: Test Report <test-report@dpdk.org>
Cc: dpdk-test-reports@iol.unh.edu, Akhil Goyal <gakhil@marvell.com>
Subject: |SUCCESS| [GIT MASTER] 4843aacb0d1201fef37e8a579fcd8baec4acdf98
Date: Wed, 05 Feb 2025 10:09:56 -0800 (PST) [thread overview]
Message-ID: <67a3a974.920a0220.16f3f5.9ed5SMTPIN_ADDED_MISSING@mx.google.com> (raw)
_Testing PASS_
Branch: dpdk-next-crypto
4843aacb0d1201fef37e8a579fcd8baec4acdf98 --> testing pass
Test environment and result as below:
+---------------------+--------------------+------------------+-------------------+-------------------+-------------------------+----------------------+
| Environment | dpdk_meson_compile | dpdk_compile_ovs | dpdk_compile_spdk | dpdk_msvc_compile | dpdk_llvm_clang_compile | dpdk_mingw64_compile |
+=====================+====================+==================+===================+===================+=========================+======================+
| Debian 12 | PASS | PASS | PASS | SKIPPED | SKIPPED | SKIPPED |
+---------------------+--------------------+------------------+-------------------+-------------------+-------------------------+----------------------+
| CentOS Stream 9 | PASS | PASS | PASS | SKIPPED | SKIPPED | SKIPPED |
+---------------------+--------------------+------------------+-------------------+-------------------+-------------------------+----------------------+
| Fedora 39 | PASS | PASS | PASS | SKIPPED | SKIPPED | SKIPPED |
+---------------------+--------------------+------------------+-------------------+-------------------+-------------------------+----------------------+
| Fedora 39 (Clang) | PASS | PASS | PASS | SKIPPED | SKIPPED | SKIPPED |
+---------------------+--------------------+------------------+-------------------+-------------------+-------------------------+----------------------+
| Fedora 40 (Clang) | PASS | PASS | PASS | SKIPPED | SKIPPED | SKIPPED |
+---------------------+--------------------+------------------+-------------------+-------------------+-------------------------+----------------------+
| Fedora 40 | PASS | PASS | PASS | SKIPPED | SKIPPED | SKIPPED |
+---------------------+--------------------+------------------+-------------------+-------------------+-------------------------+----------------------+
| openSUSE Leap 15 | PASS | PASS | SKIPPED | SKIPPED | SKIPPED | SKIPPED |
+---------------------+--------------------+------------------+-------------------+-------------------+-------------------------+----------------------+
| RHEL8 | PASS | PASS | SKIPPED | SKIPPED | SKIPPED | SKIPPED |
+---------------------+--------------------+------------------+-------------------+-------------------+-------------------------+----------------------+
| RHEL9 | PASS | PASS | SKIPPED | SKIPPED | SKIPPED | SKIPPED |
+---------------------+--------------------+------------------+-------------------+-------------------+-------------------------+----------------------+
| Ubuntu 20.04 | PASS | SKIPPED | SKIPPED | SKIPPED | SKIPPED | SKIPPED |
+---------------------+--------------------+------------------+-------------------+-------------------+-------------------------+----------------------+
| Ubuntu 22.04 | PASS | PASS | PASS | SKIPPED | SKIPPED | SKIPPED |
+---------------------+--------------------+------------------+-------------------+-------------------+-------------------------+----------------------+
| Ubuntu 24.04 | PASS | PASS | PASS | SKIPPED | SKIPPED | SKIPPED |
+---------------------+--------------------+------------------+-------------------+-------------------+-------------------------+----------------------+
| Alpine | PASS | PASS | SKIPPED | SKIPPED | SKIPPED | SKIPPED |
+---------------------+--------------------+------------------+-------------------+-------------------+-------------------------+----------------------+
| FreeBSD 13.4 | PASS | SKIPPED | SKIPPED | SKIPPED | SKIPPED | SKIPPED |
+---------------------+--------------------+------------------+-------------------+-------------------+-------------------------+----------------------+
| FreeBSD 14.2 | PASS | SKIPPED | SKIPPED | SKIPPED | SKIPPED | SKIPPED |
+---------------------+--------------------+------------------+-------------------+-------------------+-------------------------+----------------------+
| Windows Server 2022 | SKIPPED | SKIPPED | SKIPPED | PASS | PASS | PASS |
+---------------------+--------------------+------------------+-------------------+-------------------+-------------------------+----------------------+
Debian 12
Kernel: Depends on container host
Compiler: gcc (Debian 12.2.0-14) 12.2.0
CentOS Stream 9
Kernel: Depends on container host
Compiler: gcc 11.5.0 20240719 (Red Hat 11.5.0-2)
Fedora 39
Kernel: Depends on container host
Compiler: gcc 13.3.1 20240522 (Red Hat 13.3.1-1)
Fedora 39 (Clang)
Kernel: Depends on container host
Compiler: clang 17.0.6 (Fedora 17.0.6-2.fc39)
Fedora 40 (Clang)
Kernel: Depends on container host
Compiler: clang 18.1.8 (Fedora 18.1.8-1.fc40)
Fedora 40
Kernel: Depends on container host
Compiler: gcc 14.2.1 20240912 (Red Hat 14.2.1-3)
openSUSE Leap 15
Kernel: Depends on container host
Compiler: gcc (SUSE Linux) 7.5.0
RHEL8
Kernel: Depends on container host
Compiler: gcc 8.5.0 20210514 (Red Hat 8.5.0-22)
RHEL9
Kernel: Depends on container host
Compiler: gcc 11.5.0 20240719 (Red Hat 11.5.0-2)
Ubuntu 20.04
Kernel: Depends on container host
Compiler: gcc (Ubuntu 9.4.0-1ubuntu1~20.04.2) 9.4.0
Ubuntu 22.04
Kernel: Depends on container host
Compiler: gcc (Ubuntu 11.4.0-1ubuntu1~22.04) 11.4.0
Ubuntu 24.04
Kernel: Depends on container host
Compiler: gcc (Ubuntu 13.3.0-6ubuntu2~24.04) 13.3.0
Alpine
Kernel: Depends on container host
Compiler: gcc (Alpine 14.2.0) 14.2.0
FreeBSD 13.4
Kernel: 13.4-RELEASE-p1
Compiler: clang 18.1.6
FreeBSD 14.2
Kernel: 14.2-RELEASE
Compiler: clang 18.1.6
Windows Server 2022
Kernel: 10.0.20348.2031
Compiler: clang 15.0.7, gcc 14.1.0 (MinGW), and MSVC VS 19.39.33521
To view detailed results, visit:
https://lab.dpdk.org/results/dashboard/tarballs/31784/
UNH-IOL DPDK Community Lab
To manage your email subscriptions, visit:
https://lab.dpdk.org/results/dashboard/preferences/subscriptions/
next reply other threads:[~2025-02-05 18:10 UTC|newest]
Thread overview: 101+ messages / expand[flat|nested] mbox.gz Atom feed top
2025-02-05 18:09 dpdklab [this message]
-- strict thread matches above, loose matches on Subject: below --
2025-02-05 18:09 dpdklab
2024-12-04 11:17 dpdklab
2024-12-04 10:47 dpdklab
2024-12-04 9:37 dpdklab
2024-12-04 9:14 dpdklab
2024-12-04 8:50 dpdklab
2024-12-04 8:17 dpdklab
2024-12-04 6:15 dpdklab
2024-12-04 5:45 dpdklab
2024-12-04 4:40 dpdklab
2024-12-04 4:03 dpdklab
2024-12-04 3:58 dpdklab
2024-12-04 3:55 dpdklab
2024-12-04 3:45 dpdklab
2024-12-04 3:39 dpdklab
2024-12-04 3:36 dpdklab
2024-12-04 3:06 dpdklab
2024-12-04 2:57 dpdklab
2024-12-04 2:47 dpdklab
2024-12-04 2:27 dpdklab
2024-12-04 2:24 dpdklab
2024-12-04 1:44 dpdklab
2024-12-04 1:42 dpdklab
2024-12-04 1:34 dpdklab
2024-12-04 1:13 dpdklab
2024-12-04 1:11 dpdklab
2024-12-04 1:09 dpdklab
2024-12-04 1:05 dpdklab
2024-12-04 0:07 dpdklab
2024-12-04 0:04 dpdklab
2024-12-03 23:57 dpdklab
2024-12-03 23:31 dpdklab
2024-12-03 23:22 dpdklab
2024-12-03 22:57 dpdklab
2024-12-03 22:29 dpdklab
2024-12-03 22:29 dpdklab
2024-12-03 22:19 dpdklab
2024-12-03 22:16 dpdklab
2024-12-03 21:32 dpdklab
2024-12-03 21:15 dpdklab
2024-12-03 21:07 dpdklab
2024-12-03 20:50 dpdklab
2024-12-03 20:43 dpdklab
2024-12-03 20:38 dpdklab
2024-12-03 20:33 dpdklab
2024-12-03 20:19 dpdklab
2024-12-03 20:18 dpdklab
2024-12-03 20:10 dpdklab
2024-12-03 20:03 dpdklab
2024-12-03 19:42 dpdklab
2024-12-03 19:36 dpdklab
2024-12-03 19:29 dpdklab
2024-12-03 19:27 dpdklab
2024-12-03 19:18 dpdklab
2024-12-03 19:14 dpdklab
2024-12-03 19:13 dpdklab
2024-12-03 19:05 dpdklab
2024-12-03 18:53 dpdklab
2024-12-03 18:52 dpdklab
2024-12-03 18:52 dpdklab
2024-12-03 18:35 dpdklab
2024-12-03 18:31 dpdklab
2024-12-03 18:26 dpdklab
2024-12-03 18:24 dpdklab
2024-12-03 18:13 dpdklab
2024-12-03 18:07 dpdklab
2024-12-03 18:00 dpdklab
2024-12-03 17:59 dpdklab
2024-12-03 17:43 dpdklab
2024-12-03 17:31 dpdklab
2024-12-03 17:22 dpdklab
2024-12-03 17:20 dpdklab
2024-12-03 17:17 dpdklab
2024-12-03 17:13 dpdklab
2024-12-03 17:05 dpdklab
2024-11-30 4:16 dpdklab
2024-11-30 3:57 dpdklab
2024-11-30 3:50 dpdklab
2024-11-30 1:59 dpdklab
2024-11-30 1:38 dpdklab
2024-11-30 1:20 dpdklab
2024-11-30 0:23 dpdklab
2024-11-30 0:09 dpdklab
2024-11-29 23:47 dpdklab
2024-11-29 23:24 dpdklab
2024-11-29 23:18 dpdklab
2024-11-29 22:53 dpdklab
2024-11-29 22:42 dpdklab
2024-11-29 22:36 dpdklab
2024-11-29 22:17 dpdklab
2024-11-28 3:26 dpdklab
2024-11-28 3:08 dpdklab
2024-11-28 2:41 dpdklab
2024-11-28 2:28 dpdklab
2024-11-28 1:59 dpdklab
2024-11-28 1:57 dpdklab
2024-11-28 1:54 dpdklab
2024-11-28 1:51 dpdklab
2024-11-28 1:41 dpdklab
2024-11-28 1:40 dpdklab
Reply instructions:
You may reply publicly to this message via plain-text email
using any one of the following methods:
* Save the following mbox file, import it into your mail client,
and reply-to-all from there: mbox
Avoid top-posting and favor interleaved quoting:
https://en.wikipedia.org/wiki/Posting_style#Interleaved_style
* Reply using the --to, --cc, and --in-reply-to
switches of git-send-email(1):
git send-email \
--in-reply-to=67a3a974.920a0220.16f3f5.9ed5SMTPIN_ADDED_MISSING@mx.google.com \
--to=dpdklab@iol.unh.edu \
--cc=dpdk-test-reports@iol.unh.edu \
--cc=gakhil@marvell.com \
--cc=test-report@dpdk.org \
/path/to/YOUR_REPLY
https://kernel.org/pub/software/scm/git/docs/git-send-email.html
* If your mail client supports setting the In-Reply-To header
via mailto: links, try the mailto: link
Be sure your reply has a Subject: header at the top and a blank line
before the message body.
This is a public inbox, see mirroring instructions
for how to clone and mirror all data and code used for this inbox;
as well as URLs for NNTP newsgroup(s).