From mboxrd@z Thu Jan 1 00:00:00 1970 Return-Path: Received: from mails.dpdk.org (mails.dpdk.org [217.70.189.124]) by inbox.dpdk.org (Postfix) with ESMTP id 3BD9B461A0 for ; Wed, 5 Feb 2025 19:10:05 +0100 (CET) Received: from mails.dpdk.org (localhost [127.0.0.1]) by mails.dpdk.org (Postfix) with ESMTP id 39D5940270; Wed, 5 Feb 2025 19:10:05 +0100 (CET) Received: from mail-il1-f226.google.com (mail-il1-f226.google.com [209.85.166.226]) by mails.dpdk.org (Postfix) with ESMTP id E295A40261 for ; Wed, 5 Feb 2025 19:09:56 +0100 (CET) Received: by mail-il1-f226.google.com with SMTP id e9e14a558f8ab-3d053d2e39dso49645ab.1 for ; Wed, 05 Feb 2025 10:09:56 -0800 (PST) DKIM-Signature: v=1; a=rsa-sha256; c=relaxed/relaxed; d=iol.unh.edu; s=unh-iol; t=1738778996; x=1739383796; darn=dpdk.org; h=cc:to:from:subject:message-id:date:from:to:cc:subject:date :message-id:reply-to; bh=QuJvF5DWWTnoU4XZotxtTP9ti5n6og3oMnUg5Xefkfk=; b=LM3b1rxTM7NlGXQSheqb5RCbBZCCTtBDOumaxonnxuWx0d3C3DNN+QC4rPKjeY2NKg 9kRjoU7vKiJVtnlXwT9ZCspsvFLx23k56aKMe1hAvslA/LWBgxkurBgLCnhFB5YtN0Wx E+7rJbKjSpxdFAAUgapEuWgHU7F+oHbJHheFU= X-Google-DKIM-Signature: v=1; a=rsa-sha256; c=relaxed/relaxed; d=1e100.net; s=20230601; t=1738778996; x=1739383796; h=cc:to:from:subject:message-id:date:x-gm-message-state:from:to:cc :subject:date:message-id:reply-to; bh=QuJvF5DWWTnoU4XZotxtTP9ti5n6og3oMnUg5Xefkfk=; b=iF2lm1PrWSAI/s2bsVxeoMl7fI0sTWGyijLf8m4HwRh3bJ0qatxsIHXLhKxToV6sQ3 jGwFzEVc4Ksq2rrG9xd63ohQqn0dzpV0YNM6UoRzxbuE0nVQ5PE6Sd2hgdOlvwgrRwEd d+09Lb41bvvAiEfgvt1AaT8wOrfH1Gjz4IGqAy3BJdIDiWIP954J9m9AMUp6SLuVj/dE dNyLD2JJrl+8VVkwL4y/uRExJRycJhTM61E/BzULAOHIQe3Xt3m25LG6rlGU5QnxHxkH jNcYHx+SWL1uK5T4Rf1U6qXO0CnH0TOH2xFOO8MXFEph4SFzqn6DsyLLWWyoUiDM+REW U1/Q== X-Gm-Message-State: AOJu0Yzb52jtpMuaEbRAiRmhU629nzT2GgS3wSojlAZWve5Xgo10CArS UKYa9DZ4adpLr4obCq8cQnFqkkVRTgemFh6JUtlHddMBCdDBFfHzp/xndx5Bnvm/9AXGQ6Si24A Xa6NvCMvRLOfRw26qH2DtTAvDjA+an4KERIiL42NpZHF1QeuwWbVOIEKV X-Gm-Gg: ASbGncvUdQQ/kK8Em9OUu7cVHh7M7+yDlo/DGJ/LWJpws7szPACc0T6XJsfpy8loLic 2dYInnthD6n6X0JC+EkQN3JMcVJcLhjbG07FOesxk46UOxzpjTLDUnIiigOz4+TXzaYIZOBHl+H 2lR7Z8SxafKYeyFT+yA7PzuEB3RZDwToQM5FGafPTaXfqw64x/x4MKRpzN8IwGG5AotUVj7ECDH lh1Xc5tLWEqGGa1tNad/5VKWHl4vc21jpltpbwhUZebllQGpkLpv6fK2GAwwq8CMNM/jxbJoM7o TnESO0bUve9QYonQtXrnKUQkpdqTQ9vVRC8AHeq4lw== X-Google-Smtp-Source: AGHT+IGfSY1XObAmglUlMxcmqYYM1gOaFjvCUXGY9SCyIKLPt+JmYmTrBGsRPi2vCGe4+nhQx5cn+Z4yCCiL X-Received: by 2002:a05:6e02:1707:b0:3ce:6628:3c4 with SMTP id e9e14a558f8ab-3d04f427ab7mr36027595ab.6.1738778996219; Wed, 05 Feb 2025 10:09:56 -0800 (PST) Received: from postal.iol.unh.edu (postal.iol.unh.edu. [2606:4100:3880:1234::84]) by smtp-relay.gmail.com with ESMTPS id e9e14a558f8ab-3d0117eaf0csm9262965ab.19.2025.02.05.10.09.56 (version=TLS1_2 cipher=ECDHE-ECDSA-AES128-GCM-SHA256 bits=128/128); Wed, 05 Feb 2025 10:09:56 -0800 (PST) X-Relaying-Domain: iol.unh.edu Date: Wed, 05 Feb 2025 10:09:56 -0800 (PST) Message-ID: <67a3a974.920a0220.16f3f5.9ed5SMTPIN_ADDED_MISSING@mx.google.com> Received: from [172.21.0.10] (unknown [172.18.0.240]) by postal.iol.unh.edu (Postfix) with ESMTP id B466E6052471; Wed, 5 Feb 2025 13:09:55 -0500 (EST) Subject: |SUCCESS| [GIT MASTER] 4843aacb0d1201fef37e8a579fcd8baec4acdf98 From: dpdklab@iol.unh.edu To: Test Report Cc: dpdk-test-reports@iol.unh.edu, Akhil Goyal Content-Type: text/plain X-BeenThere: test-report@dpdk.org X-Mailman-Version: 2.1.29 Precedence: list List-Id: automatic DPDK test reports List-Unsubscribe: , List-Archive: List-Post: List-Help: List-Subscribe: , Errors-To: test-report-bounces@dpdk.org _Testing PASS_ Branch: dpdk-next-crypto 4843aacb0d1201fef37e8a579fcd8baec4acdf98 --> testing pass Test environment and result as below: +---------------------+--------------------+------------------+-------------------+-------------------+-------------------------+----------------------+ | Environment | dpdk_meson_compile | dpdk_compile_ovs | dpdk_compile_spdk | dpdk_msvc_compile | dpdk_llvm_clang_compile | dpdk_mingw64_compile | +=====================+====================+==================+===================+===================+=========================+======================+ | Debian 12 | PASS | PASS | PASS | SKIPPED | SKIPPED | SKIPPED | +---------------------+--------------------+------------------+-------------------+-------------------+-------------------------+----------------------+ | CentOS Stream 9 | PASS | PASS | PASS | SKIPPED | SKIPPED | SKIPPED | +---------------------+--------------------+------------------+-------------------+-------------------+-------------------------+----------------------+ | Fedora 39 | PASS | PASS | PASS | SKIPPED | SKIPPED | SKIPPED | +---------------------+--------------------+------------------+-------------------+-------------------+-------------------------+----------------------+ | Fedora 39 (Clang) | PASS | PASS | PASS | SKIPPED | SKIPPED | SKIPPED | +---------------------+--------------------+------------------+-------------------+-------------------+-------------------------+----------------------+ | Fedora 40 (Clang) | PASS | PASS | PASS | SKIPPED | SKIPPED | SKIPPED | +---------------------+--------------------+------------------+-------------------+-------------------+-------------------------+----------------------+ | Fedora 40 | PASS | PASS | PASS | SKIPPED | SKIPPED | SKIPPED | +---------------------+--------------------+------------------+-------------------+-------------------+-------------------------+----------------------+ | openSUSE Leap 15 | PASS | PASS | SKIPPED | SKIPPED | SKIPPED | SKIPPED | +---------------------+--------------------+------------------+-------------------+-------------------+-------------------------+----------------------+ | RHEL8 | PASS | PASS | SKIPPED | SKIPPED | SKIPPED | SKIPPED | +---------------------+--------------------+------------------+-------------------+-------------------+-------------------------+----------------------+ | RHEL9 | PASS | PASS | SKIPPED | SKIPPED | SKIPPED | SKIPPED | +---------------------+--------------------+------------------+-------------------+-------------------+-------------------------+----------------------+ | Ubuntu 20.04 | PASS | SKIPPED | SKIPPED | SKIPPED | SKIPPED | SKIPPED | +---------------------+--------------------+------------------+-------------------+-------------------+-------------------------+----------------------+ | Ubuntu 22.04 | PASS | PASS | PASS | SKIPPED | SKIPPED | SKIPPED | +---------------------+--------------------+------------------+-------------------+-------------------+-------------------------+----------------------+ | Ubuntu 24.04 | PASS | PASS | PASS | SKIPPED | SKIPPED | SKIPPED | +---------------------+--------------------+------------------+-------------------+-------------------+-------------------------+----------------------+ | Alpine | PASS | PASS | SKIPPED | SKIPPED | SKIPPED | SKIPPED | +---------------------+--------------------+------------------+-------------------+-------------------+-------------------------+----------------------+ | FreeBSD 13.4 | PASS | SKIPPED | SKIPPED | SKIPPED | SKIPPED | SKIPPED | +---------------------+--------------------+------------------+-------------------+-------------------+-------------------------+----------------------+ | FreeBSD 14.2 | PASS | SKIPPED | SKIPPED | SKIPPED | SKIPPED | SKIPPED | +---------------------+--------------------+------------------+-------------------+-------------------+-------------------------+----------------------+ | Windows Server 2022 | SKIPPED | SKIPPED | SKIPPED | PASS | PASS | PASS | +---------------------+--------------------+------------------+-------------------+-------------------+-------------------------+----------------------+ Debian 12 Kernel: Depends on container host Compiler: gcc (Debian 12.2.0-14) 12.2.0 CentOS Stream 9 Kernel: Depends on container host Compiler: gcc 11.5.0 20240719 (Red Hat 11.5.0-2) Fedora 39 Kernel: Depends on container host Compiler: gcc 13.3.1 20240522 (Red Hat 13.3.1-1) Fedora 39 (Clang) Kernel: Depends on container host Compiler: clang 17.0.6 (Fedora 17.0.6-2.fc39) Fedora 40 (Clang) Kernel: Depends on container host Compiler: clang 18.1.8 (Fedora 18.1.8-1.fc40) Fedora 40 Kernel: Depends on container host Compiler: gcc 14.2.1 20240912 (Red Hat 14.2.1-3) openSUSE Leap 15 Kernel: Depends on container host Compiler: gcc (SUSE Linux) 7.5.0 RHEL8 Kernel: Depends on container host Compiler: gcc 8.5.0 20210514 (Red Hat 8.5.0-22) RHEL9 Kernel: Depends on container host Compiler: gcc 11.5.0 20240719 (Red Hat 11.5.0-2) Ubuntu 20.04 Kernel: Depends on container host Compiler: gcc (Ubuntu 9.4.0-1ubuntu1~20.04.2) 9.4.0 Ubuntu 22.04 Kernel: Depends on container host Compiler: gcc (Ubuntu 11.4.0-1ubuntu1~22.04) 11.4.0 Ubuntu 24.04 Kernel: Depends on container host Compiler: gcc (Ubuntu 13.3.0-6ubuntu2~24.04) 13.3.0 Alpine Kernel: Depends on container host Compiler: gcc (Alpine 14.2.0) 14.2.0 FreeBSD 13.4 Kernel: 13.4-RELEASE-p1 Compiler: clang 18.1.6 FreeBSD 14.2 Kernel: 14.2-RELEASE Compiler: clang 18.1.6 Windows Server 2022 Kernel: 10.0.20348.2031 Compiler: clang 15.0.7, gcc 14.1.0 (MinGW), and MSVC VS 19.39.33521 To view detailed results, visit: https://lab.dpdk.org/results/dashboard/tarballs/31784/ UNH-IOL DPDK Community Lab To manage your email subscriptions, visit: https://lab.dpdk.org/results/dashboard/preferences/subscriptions/