From mboxrd@z Thu Jan 1 00:00:00 1970 Return-Path: Received: from mails.dpdk.org (mails.dpdk.org [217.70.189.124]) by inbox.dpdk.org (Postfix) with ESMTP id 5267E461A0 for ; Wed, 5 Feb 2025 19:10:05 +0100 (CET) Received: from mails.dpdk.org (localhost [127.0.0.1]) by mails.dpdk.org (Postfix) with ESMTP id 50319402F1; Wed, 5 Feb 2025 19:10:05 +0100 (CET) Received: from mail-pl1-f228.google.com (mail-pl1-f228.google.com [209.85.214.228]) by mails.dpdk.org (Postfix) with ESMTP id E763B40270 for ; Wed, 5 Feb 2025 19:09:58 +0100 (CET) Received: by mail-pl1-f228.google.com with SMTP id d9443c01a7336-21f20666e72so2411605ad.1 for ; Wed, 05 Feb 2025 10:09:58 -0800 (PST) DKIM-Signature: v=1; a=rsa-sha256; c=relaxed/relaxed; d=iol.unh.edu; s=unh-iol; t=1738778998; x=1739383798; darn=dpdk.org; h=cc:to:from:subject:message-id:date:from:to:cc:subject:date :message-id:reply-to; bh=XKjuuIz7jS4f5ncNyM0eXVAIOO1uTfQwo0YP4lqQYxc=; b=jv/rzHvozMCfAfrTS/i5/HLcWbEQFadjeKwhgAP3rogJiB7AdszMRePFkZMh4iVzLf BNjMgHc5ihCqYDkVPWTPXgGM29Wpuy2bIwOLRLuMjjnUQJBOi5diFa2xEud2jd+7KFOR BsmWftq7a6pphrS8nRysfJD7sInK/Me6ssUX8= X-Google-DKIM-Signature: v=1; a=rsa-sha256; c=relaxed/relaxed; d=1e100.net; s=20230601; t=1738778998; x=1739383798; h=cc:to:from:subject:message-id:date:x-gm-message-state:from:to:cc :subject:date:message-id:reply-to; bh=XKjuuIz7jS4f5ncNyM0eXVAIOO1uTfQwo0YP4lqQYxc=; b=irX3dSyguZQL9CbLwfMwCdO8oKYrZUZzZ4N3FvH59pRkQx2jAdLboxX+utu7cu+ibH DPVYVkhl7xRqp4l37KeqfsUWybCdLadzyi0S73idBinQerNUTYMYhbFH4FSlN6KKQ09B Hj1fXIopKm4QtuMGnKEeYBNRK9Nuk9n+cU911RMgSTlwIPRoQC+bVitLzdA52BLPQMWC LPnRS2hC7qYXqIjRm7Gh+/7sZOCTSj04u7gDiSiVi7xBrsmXRH4XAkB8/knNn3qFsTac 9HWI0l8lWI31mK5N6H9w/LevxKiVFeB2YwKC96miGNzOALY004wOZTkdGN6t489kV2vL uQYw== X-Gm-Message-State: AOJu0YwVvfqjXkc2GItlNf2y1hGOb+Yr55smb6AOfSKAGdSFA38JQu8V NhtBJrU7WZ8TfuJtcaGBntirFDusksrclyi5BK8kref1bzbIZdFQcNheOb8V04RhHmUHth2+ip3 reMmFm2A8rIDJSp45fuXtWM/Bl/gT8nDRBnsMotma X-Gm-Gg: ASbGnctlP1D7XIIihCQ8qIS3iap7Dhcifi5XD8AQJobbAvhw1u80Ypv9XXUjLJuLDGp vgNLluhDRWt8XT90KWzFpUXU/B8Jg2RRLjH+P7ik9X2cvBUYscYZ78uweT0aYhvpHbYsjLbOqae MDoR6WW0oUTane6xjlShILAgNamXlhfeY0UwGWBP9135VSLYg2nk3u/XG3M+a4f1wCqsF/YtAiC KeM0/gLsir0VmKetpGaDA8zgPqRZ6ciLhZCke4eCZWmvnqZ0eUoIIdggmJJCUa2jBvIh9n4KBTQ TJBRSc4UmUHarXGJxN02XAOt+6ePNg== X-Google-Smtp-Source: AGHT+IE3HWcOnTZ7d6umHER5d1rNf24K7JpQ/H1G9KCWTk8Va4zPGmFExTx1ndyoDHT3s85nb6TtyLYyIKrc X-Received: by 2002:a17:902:f687:b0:216:6fb5:fd83 with SMTP id d9443c01a7336-21f17e6f99cmr66045495ad.29.1738778998197; Wed, 05 Feb 2025 10:09:58 -0800 (PST) Received: from postal.iol.unh.edu (postal.iol.unh.edu. [132.177.123.84]) by smtp-relay.gmail.com with ESMTPS id d9443c01a7336-21f132c9bcasm1568045ad.97.2025.02.05.10.09.58 (version=TLS1_2 cipher=ECDHE-ECDSA-AES128-GCM-SHA256 bits=128/128); Wed, 05 Feb 2025 10:09:58 -0800 (PST) X-Relaying-Domain: iol.unh.edu Date: Wed, 05 Feb 2025 10:09:58 -0800 (PST) Message-ID: <67a3a976.170a0220.1cf5bc.73c3SMTPIN_ADDED_MISSING@mx.google.com> Received: from [172.21.0.13] (unknown [172.18.0.240]) by postal.iol.unh.edu (Postfix) with ESMTP id A7A106052471; Wed, 5 Feb 2025 13:09:57 -0500 (EST) Subject: |SUCCESS| [GIT MASTER] 4843aacb0d1201fef37e8a579fcd8baec4acdf98 From: dpdklab@iol.unh.edu To: Test Report Cc: dpdk-test-reports@iol.unh.edu Content-Type: text/plain X-BeenThere: test-report@dpdk.org X-Mailman-Version: 2.1.29 Precedence: list List-Id: automatic DPDK test reports List-Unsubscribe: , List-Archive: List-Post: List-Help: List-Subscribe: , Errors-To: test-report-bounces@dpdk.org _Testing PASS_ Branch: dpdk 4843aacb0d1201fef37e8a579fcd8baec4acdf98 --> testing pass Test environment and result as below: +---------------------+--------------------+------------------+-------------------+-------------------------+-------------------+----------------------+ | Environment | dpdk_meson_compile | dpdk_compile_ovs | dpdk_compile_spdk | dpdk_llvm_clang_compile | dpdk_msvc_compile | dpdk_mingw64_compile | +=====================+====================+==================+===================+=========================+===================+======================+ | CentOS Stream 9 | PASS | PASS | PASS | SKIPPED | SKIPPED | SKIPPED | +---------------------+--------------------+------------------+-------------------+-------------------------+-------------------+----------------------+ | Debian 12 | PASS | PASS | PASS | SKIPPED | SKIPPED | SKIPPED | +---------------------+--------------------+------------------+-------------------+-------------------------+-------------------+----------------------+ | Fedora 39 | PASS | PASS | PASS | SKIPPED | SKIPPED | SKIPPED | +---------------------+--------------------+------------------+-------------------+-------------------------+-------------------+----------------------+ | Fedora 39 (Clang) | PASS | PASS | PASS | SKIPPED | SKIPPED | SKIPPED | +---------------------+--------------------+------------------+-------------------+-------------------------+-------------------+----------------------+ | Fedora 40 (Clang) | PASS | PASS | PASS | SKIPPED | SKIPPED | SKIPPED | +---------------------+--------------------+------------------+-------------------+-------------------------+-------------------+----------------------+ | Fedora 40 | PASS | PASS | PASS | SKIPPED | SKIPPED | SKIPPED | +---------------------+--------------------+------------------+-------------------+-------------------------+-------------------+----------------------+ | openSUSE Leap 15 | PASS | PASS | SKIPPED | SKIPPED | SKIPPED | SKIPPED | +---------------------+--------------------+------------------+-------------------+-------------------------+-------------------+----------------------+ | RHEL8 | PASS | PASS | SKIPPED | SKIPPED | SKIPPED | SKIPPED | +---------------------+--------------------+------------------+-------------------+-------------------------+-------------------+----------------------+ | RHEL9 | PASS | PASS | SKIPPED | SKIPPED | SKIPPED | SKIPPED | +---------------------+--------------------+------------------+-------------------+-------------------------+-------------------+----------------------+ | Ubuntu 20.04 | PASS | SKIPPED | SKIPPED | SKIPPED | SKIPPED | SKIPPED | +---------------------+--------------------+------------------+-------------------+-------------------------+-------------------+----------------------+ | Ubuntu 22.04 | PASS | PASS | PASS | SKIPPED | SKIPPED | SKIPPED | +---------------------+--------------------+------------------+-------------------+-------------------------+-------------------+----------------------+ | Ubuntu 24.04 | PASS | PASS | PASS | SKIPPED | SKIPPED | SKIPPED | +---------------------+--------------------+------------------+-------------------+-------------------------+-------------------+----------------------+ | Alpine | PASS | PASS | SKIPPED | SKIPPED | SKIPPED | SKIPPED | +---------------------+--------------------+------------------+-------------------+-------------------------+-------------------+----------------------+ | Arch Linux | PASS | PASS | SKIPPED | SKIPPED | SKIPPED | SKIPPED | +---------------------+--------------------+------------------+-------------------+-------------------------+-------------------+----------------------+ | FreeBSD 13.4 | PASS | SKIPPED | SKIPPED | SKIPPED | SKIPPED | SKIPPED | +---------------------+--------------------+------------------+-------------------+-------------------------+-------------------+----------------------+ | FreeBSD 14.2 | PASS | SKIPPED | SKIPPED | SKIPPED | SKIPPED | SKIPPED | +---------------------+--------------------+------------------+-------------------+-------------------------+-------------------+----------------------+ | Windows Server 2022 | SKIPPED | SKIPPED | SKIPPED | PASS | PASS | PASS | +---------------------+--------------------+------------------+-------------------+-------------------------+-------------------+----------------------+ CentOS Stream 9 Kernel: Depends on container host Compiler: gcc 11.5.0 20240719 (Red Hat 11.5.0-2) Debian 12 Kernel: Depends on container host Compiler: gcc (Debian 12.2.0-14) 12.2.0 Fedora 39 Kernel: Depends on container host Compiler: gcc 13.3.1 20240522 (Red Hat 13.3.1-1) Fedora 39 (Clang) Kernel: Depends on container host Compiler: clang 17.0.6 (Fedora 17.0.6-2.fc39) Fedora 40 (Clang) Kernel: Depends on container host Compiler: clang 18.1.8 (Fedora 18.1.8-1.fc40) Fedora 40 Kernel: Depends on container host Compiler: gcc 14.2.1 20240912 (Red Hat 14.2.1-3) openSUSE Leap 15 Kernel: Depends on container host Compiler: gcc (SUSE Linux) 7.5.0 RHEL8 Kernel: Depends on container host Compiler: gcc 8.5.0 20210514 (Red Hat 8.5.0-22) RHEL9 Kernel: Depends on container host Compiler: gcc 11.5.0 20240719 (Red Hat 11.5.0-2) Ubuntu 20.04 Kernel: Depends on container host Compiler: gcc (Ubuntu 9.4.0-1ubuntu1~20.04.2) 9.4.0 Ubuntu 22.04 Kernel: Depends on container host Compiler: gcc (Ubuntu 11.4.0-1ubuntu1~22.04) 11.4.0 Ubuntu 24.04 Kernel: Depends on container host Compiler: gcc (Ubuntu 13.3.0-6ubuntu2~24.04) 13.3.0 Alpine Kernel: Depends on container host Compiler: gcc (Alpine 14.2.0) 14.2.0 Arch Linux Kernel: Depends on container host Compiler: gcc 14.2.1 20240910 FreeBSD 13.4 Kernel: 13.4-RELEASE-p1 Compiler: clang 18.1.6 FreeBSD 14.2 Kernel: 14.2-RELEASE Compiler: clang 18.1.6 Windows Server 2022 Kernel: 10.0.20348.2031 Compiler: clang 15.0.7, gcc 14.1.0 (MinGW), and MSVC VS 19.39.33521 To view detailed results, visit: https://lab.dpdk.org/results/dashboard/tarballs/31764/ UNH-IOL DPDK Community Lab To manage your email subscriptions, visit: https://lab.dpdk.org/results/dashboard/preferences/subscriptions/