From mboxrd@z Thu Jan 1 00:00:00 1970 Return-Path: Received: from mails.dpdk.org (mails.dpdk.org [217.70.189.124]) by inbox.dpdk.org (Postfix) with ESMTP id 60750461A0 for ; Wed, 5 Feb 2025 19:10:05 +0100 (CET) Received: from mails.dpdk.org (localhost [127.0.0.1]) by mails.dpdk.org (Postfix) with ESMTP id 5AE5C40647; Wed, 5 Feb 2025 19:10:05 +0100 (CET) Received: from mail-yw1-f228.google.com (mail-yw1-f228.google.com [209.85.128.228]) by mails.dpdk.org (Postfix) with ESMTP id 70E5540261 for ; Wed, 5 Feb 2025 19:10:01 +0100 (CET) Received: by mail-yw1-f228.google.com with SMTP id 00721157ae682-6ef9b8b4f13so703387b3.2 for ; Wed, 05 Feb 2025 10:10:01 -0800 (PST) DKIM-Signature: v=1; a=rsa-sha256; c=relaxed/relaxed; d=iol.unh.edu; s=unh-iol; t=1738779001; x=1739383801; darn=dpdk.org; h=cc:to:from:subject:message-id:date:from:to:cc:subject:date :message-id:reply-to; bh=9aO1lwgicLbN2C4Sc9AcrhgHDnF5hkB68NQhzkoXSns=; b=Omoi6ycCn9ZcHSxz44iPDoSt45gCoEw9ngprX0S4RPOSmfVZudVdJSg8bDti913xZl zmNZ4xdyGyVGi+4xOSY9O+aEDb1XWP1bG++5hBhh/pNGCIznWiQ/3vDIpfcg+1DNitU/ zHv0fMQnjvT8CJjIYhHmt0lNZHrLX1uxu71zs= X-Google-DKIM-Signature: v=1; a=rsa-sha256; c=relaxed/relaxed; d=1e100.net; s=20230601; t=1738779001; x=1739383801; h=cc:to:from:subject:message-id:date:x-gm-message-state:from:to:cc :subject:date:message-id:reply-to; bh=9aO1lwgicLbN2C4Sc9AcrhgHDnF5hkB68NQhzkoXSns=; b=tcIYh3bKoFRfZKwDfnu6wn636opQnQIpuRXUSu4k2+382Q9ihkMPU4QT4Dbq2ama+5 db3NOXVngAaSo+fJLwyfiNiDOXls11qUylTJlC7sIe4c6/wlghLJH+oVFmn1GC3asBR7 z7HqSE2MgWWoLQFSeEaL5iHLYk+KQVfm3k9K2AB2oEilX5R+rFK4HQCM12s4O6Ew5xY9 o7mANAnChAmn5UxlVWDIeG/qsWEKC3cnOPD3+JQkQkP54rC8pOopwN+GM4zTGaBJ5G/K Enw8PSYzfUKKd0DIVXNc0o0JGILHOPkYXu8cB28jUG4PM+TpsolzZP1gQWVRCFbZzBdd lbqQ== X-Gm-Message-State: AOJu0YxrPF8B0dcufWLjy32DFEULhwFtExx3kNSzsLQT/yLmOAQuxFbY nF7vl8Si3KAq4Y+kq1/dXL9LSlxB8ooQD5zItQgQ7Tx9cDfh6BDIYgsVBsBKDI4DR8BXxWApECB S/24815a/nTLvc/MkdugCbVlyvjy6w2pL+rXevKwLhc3LVU2woXKBkA15 X-Gm-Gg: ASbGncs/hMTAvLd6qII0IMVVOp/dTktGAEV6McZjYJNPQNw9i0fmo0ykL/kFxLdhmVe k0Bs/OgntpetSp0RwzkEhfccnpNcIWtmtTdxDBeaNkgcNlq1ChlMWoGtgc1Gek44Z9IP4twFpRK SevpCdUHSdu91nYJ8TYv5LJfNHXKsiDL4SGUZYJMNokvJDoRA58W62BYohVxlsun2moNZKG2OVE 5AS0mM+GFUrjefhU3iGmRqp4hU4xJPsWPt+BbsCkO0W/rna2X5ksBfwI5uVwcMlttoCpiNibGl3 sJERMtwkPJthn1ztmW4RtajT88TleroarSFgQL2iDQ== X-Google-Smtp-Source: AGHT+IFAC8E7FDtnOz/f6mWrOHdJ1pHswSnDIIFiwA0YbtyHNFctvNhz/HqQRSKKnwoHtZBbnshbpq/FXIvE X-Received: by 2002:a05:690c:2c8a:b0:6f9:8b50:bac7 with SMTP id 00721157ae682-6f98b50c005mr23022667b3.29.1738779000861; Wed, 05 Feb 2025 10:10:00 -0800 (PST) Received: from postal.iol.unh.edu (postal.iol.unh.edu. [2606:4100:3880:1234::84]) by smtp-relay.gmail.com with ESMTPS id 00721157ae682-6f8c4659b80sm6833357b3.29.2025.02.05.10.10.00 (version=TLS1_2 cipher=ECDHE-ECDSA-AES128-GCM-SHA256 bits=128/128); Wed, 05 Feb 2025 10:10:00 -0800 (PST) X-Relaying-Domain: iol.unh.edu Date: Wed, 05 Feb 2025 10:10:00 -0800 (PST) Message-ID: <67a3a978.050a0220.20ab2a.e1a5SMTPIN_ADDED_MISSING@mx.google.com> Received: from [172.21.0.8] (unknown [172.18.0.240]) by postal.iol.unh.edu (Postfix) with ESMTP id 826DA6052471; Wed, 5 Feb 2025 13:10:00 -0500 (EST) Subject: |SUCCESS| [GIT MASTER] 1b3bf1128d9bda5595861814792f74b8f57160c8 From: dpdklab@iol.unh.edu To: Test Report Cc: dpdk-test-reports@iol.unh.edu Content-Type: text/plain X-BeenThere: test-report@dpdk.org X-Mailman-Version: 2.1.29 Precedence: list List-Id: automatic DPDK test reports List-Unsubscribe: , List-Archive: List-Post: List-Help: List-Subscribe: , Errors-To: test-report-bounces@dpdk.org _Testing PASS_ Branch: dpdk 1b3bf1128d9bda5595861814792f74b8f57160c8 --> testing pass Test environment and result as below: +---------------------+--------------------+------------------+-------------------+-------------------------+-------------------+----------------------+ | Environment | dpdk_meson_compile | dpdk_compile_ovs | dpdk_compile_spdk | dpdk_llvm_clang_compile | dpdk_msvc_compile | dpdk_mingw64_compile | +=====================+====================+==================+===================+=========================+===================+======================+ | CentOS Stream 9 | PASS | PASS | PASS | SKIPPED | SKIPPED | SKIPPED | +---------------------+--------------------+------------------+-------------------+-------------------------+-------------------+----------------------+ | Debian 12 | PASS | PASS | PASS | SKIPPED | SKIPPED | SKIPPED | +---------------------+--------------------+------------------+-------------------+-------------------------+-------------------+----------------------+ | Fedora 39 (Clang) | PASS | PASS | PASS | SKIPPED | SKIPPED | SKIPPED | +---------------------+--------------------+------------------+-------------------+-------------------------+-------------------+----------------------+ | Fedora 39 | PASS | PASS | PASS | SKIPPED | SKIPPED | SKIPPED | +---------------------+--------------------+------------------+-------------------+-------------------------+-------------------+----------------------+ | Fedora 40 (Clang) | PASS | PASS | PASS | SKIPPED | SKIPPED | SKIPPED | +---------------------+--------------------+------------------+-------------------+-------------------------+-------------------+----------------------+ | RHEL8 | PASS | PASS | SKIPPED | SKIPPED | SKIPPED | SKIPPED | +---------------------+--------------------+------------------+-------------------+-------------------------+-------------------+----------------------+ | openSUSE Leap 15 | PASS | PASS | SKIPPED | SKIPPED | SKIPPED | SKIPPED | +---------------------+--------------------+------------------+-------------------+-------------------------+-------------------+----------------------+ | RHEL9 | PASS | PASS | SKIPPED | SKIPPED | SKIPPED | SKIPPED | +---------------------+--------------------+------------------+-------------------+-------------------------+-------------------+----------------------+ | Fedora 40 | PASS | PASS | PASS | SKIPPED | SKIPPED | SKIPPED | +---------------------+--------------------+------------------+-------------------+-------------------------+-------------------+----------------------+ | Ubuntu 22.04 | PASS | PASS | PASS | SKIPPED | SKIPPED | SKIPPED | +---------------------+--------------------+------------------+-------------------+-------------------------+-------------------+----------------------+ | Ubuntu 24.04 | PASS | PASS | PASS | SKIPPED | SKIPPED | SKIPPED | +---------------------+--------------------+------------------+-------------------+-------------------------+-------------------+----------------------+ | Ubuntu 20.04 | PASS | SKIPPED | SKIPPED | SKIPPED | SKIPPED | SKIPPED | +---------------------+--------------------+------------------+-------------------+-------------------------+-------------------+----------------------+ | Alpine | PASS | PASS | SKIPPED | SKIPPED | SKIPPED | SKIPPED | +---------------------+--------------------+------------------+-------------------+-------------------------+-------------------+----------------------+ | Arch Linux | PASS | PASS | SKIPPED | SKIPPED | SKIPPED | SKIPPED | +---------------------+--------------------+------------------+-------------------+-------------------------+-------------------+----------------------+ | FreeBSD 13.4 | PASS | SKIPPED | SKIPPED | SKIPPED | SKIPPED | SKIPPED | +---------------------+--------------------+------------------+-------------------+-------------------------+-------------------+----------------------+ | FreeBSD 14.2 | PASS | SKIPPED | SKIPPED | SKIPPED | SKIPPED | SKIPPED | +---------------------+--------------------+------------------+-------------------+-------------------------+-------------------+----------------------+ | Windows Server 2022 | SKIPPED | SKIPPED | SKIPPED | PASS | PASS | PASS | +---------------------+--------------------+------------------+-------------------+-------------------------+-------------------+----------------------+ CentOS Stream 9 Kernel: Depends on container host Compiler: gcc 11.5.0 20240719 (Red Hat 11.5.0-2) Debian 12 Kernel: Depends on container host Compiler: gcc (Debian 12.2.0-14) 12.2.0 Fedora 39 (Clang) Kernel: Depends on container host Compiler: clang 17.0.6 (Fedora 17.0.6-2.fc39) Fedora 39 Kernel: Depends on container host Compiler: gcc 13.3.1 20240522 (Red Hat 13.3.1-1) Fedora 40 (Clang) Kernel: Depends on container host Compiler: clang 18.1.8 (Fedora 18.1.8-1.fc40) RHEL8 Kernel: Depends on container host Compiler: gcc 8.5.0 20210514 (Red Hat 8.5.0-22) openSUSE Leap 15 Kernel: Depends on container host Compiler: gcc (SUSE Linux) 7.5.0 RHEL9 Kernel: Depends on container host Compiler: gcc 11.5.0 20240719 (Red Hat 11.5.0-2) Fedora 40 Kernel: Depends on container host Compiler: gcc 14.2.1 20240912 (Red Hat 14.2.1-3) Ubuntu 22.04 Kernel: Depends on container host Compiler: gcc (Ubuntu 11.4.0-1ubuntu1~22.04) 11.4.0 Ubuntu 24.04 Kernel: Depends on container host Compiler: gcc (Ubuntu 13.3.0-6ubuntu2~24.04) 13.3.0 Ubuntu 20.04 Kernel: Depends on container host Compiler: gcc (Ubuntu 9.4.0-1ubuntu1~20.04.2) 9.4.0 Alpine Kernel: Depends on container host Compiler: gcc (Alpine 14.2.0) 14.2.0 Arch Linux Kernel: Depends on container host Compiler: gcc 14.2.1 20240910 FreeBSD 13.4 Kernel: 13.4-RELEASE-p1 Compiler: clang 18.1.6 FreeBSD 14.2 Kernel: 14.2-RELEASE Compiler: clang 18.1.6 Windows Server 2022 Kernel: 10.0.20348.2031 Compiler: clang 15.0.7, gcc 14.1.0 (MinGW), and MSVC VS 19.39.33521 To view detailed results, visit: https://lab.dpdk.org/results/dashboard/tarballs/31795/ UNH-IOL DPDK Community Lab To manage your email subscriptions, visit: https://lab.dpdk.org/results/dashboard/preferences/subscriptions/