From mboxrd@z Thu Jan 1 00:00:00 1970 Return-Path: Received: from mails.dpdk.org (mails.dpdk.org [217.70.189.124]) by inbox.dpdk.org (Postfix) with ESMTP id 6C9FB461A0 for ; Wed, 5 Feb 2025 19:10:05 +0100 (CET) Received: from mails.dpdk.org (localhost [127.0.0.1]) by mails.dpdk.org (Postfix) with ESMTP id 6887A40650; Wed, 5 Feb 2025 19:10:05 +0100 (CET) Received: from mail-pl1-f227.google.com (mail-pl1-f227.google.com [209.85.214.227]) by mails.dpdk.org (Postfix) with ESMTP id 3B5E440261 for ; Wed, 5 Feb 2025 19:10:02 +0100 (CET) Received: by mail-pl1-f227.google.com with SMTP id d9443c01a7336-2161eb95317so2756005ad.1 for ; Wed, 05 Feb 2025 10:10:02 -0800 (PST) DKIM-Signature: v=1; a=rsa-sha256; c=relaxed/relaxed; d=iol.unh.edu; s=unh-iol; t=1738779001; x=1739383801; darn=dpdk.org; h=references:in-reply-to:cc:to:from:subject:message-id:date:from:to :cc:subject:date:message-id:reply-to; bh=S4toQ+yBdjDsLrwkZ3STK5SOUGov5Epmj2L4TjdYFWI=; b=MqKjvV+knx/DGxj/lk32TLpD3J5pl4SQjYYegxK/0AsWO9axUGry17yEEP7Xb/Reix YG30epVxycCFtWcDWEQzDcaMtJDWHjQCulzaAxFtvDWUoFfCBoODOBYKD+z4PBz0vJo7 yJK6L74LyxuEFo8knivEElp52Fk1h21NxAFUA= X-Google-DKIM-Signature: v=1; a=rsa-sha256; c=relaxed/relaxed; d=1e100.net; s=20230601; t=1738779001; x=1739383801; h=references:in-reply-to:cc:to:from:subject:message-id:date :x-gm-message-state:from:to:cc:subject:date:message-id:reply-to; bh=S4toQ+yBdjDsLrwkZ3STK5SOUGov5Epmj2L4TjdYFWI=; b=DQ/TPgnGr+6aGl561Tdc379EYq95mQULqPz8rROBGR06vfu2yHJOZI7RYCsJfPNm12 XXvrHJ524oUJ2p8tmJIn1V5KAdUvU3k4Dqe99YITy+MeZ+fKNdGPKghydEXU6RimBq95 A1pPFsdGzKrh8NXN+xO4swQdgwcVh3Zz0iMSB3GwgoTkivBmmXFzXNWG8MvhLeMEsQRc yPAvwgKpr29H6SYP5h/BZSBZ7AhMxIrZFiKwyvseRP0QWB4QHvEGU65+49piQk3EXiGs XPHHx7QdSg9nKj+xwwnhO5uI8lOoztNXJUEOVqdJ8YjfsDBy24Ka3RvLHinF8Xcd3Nzg YcoA== X-Gm-Message-State: AOJu0YzMAm3+qQFOd8yq/mZL73PoPhEWFGCHIt9AVSyl85XLh6ftrxts 5Y05S6Jk+ebkpWTR8dj/9z+h+lViaauzLbdvCXItUxXZfSdrSIaCWktlFcJwkpdQl2qB7QJ+BE7 oTwJNKnBh3hW2DVwiAWERcCPKdA3Dn5bLM46OU6PHvth9EnZla2RDiS7S X-Gm-Gg: ASbGncstozZiU3C7g6QT9IFgxnAM4PoCMGd0o4YmCqfpN8hf9eoBs/DIpPkeCVzIpWf pDPzuXCzqWnqCXMeOqlGiTeX5fK+p7Szv7yNYluKnDW/KbA+f7DsDI/QLLT29cC9q6LmMeL+btY yX4LmfJ6XnMDmEVktxD8vjrWD9ioj52sYPo8yZlNoxsnN5gk4Da0GWwnRCEySY672I0ZK+ki65j F1oUWSANAtEYmrig0JGu0+GsNTq7Qiv6D0kgZelp5g7DoITbwBXXI2qlub0g0pt0cAoEI7QCNY8 oBE2oQ+9pCkcQmRSmW/cIBRe7Q6j6LdF8gzEVZe1ag== X-Google-Smtp-Source: AGHT+IEF6p5e5+wp07IWMWLZiI+T9/rfkQU1XWjAIhTE6fi7U98Yy2up+8CRGA1NR5WANOhJ7Qu5IopcFbyd X-Received: by 2002:a05:6a20:e68f:b0:1ea:ddd1:2fcf with SMTP id adf61e73a8af0-1ede881fc6dmr5903548637.4.1738779001436; Wed, 05 Feb 2025 10:10:01 -0800 (PST) Received: from postal.iol.unh.edu (postal.iol.unh.edu. [2606:4100:3880:1234::84]) by smtp-relay.gmail.com with ESMTPS id d2e1a72fcca58-72fe64268c9sm1089986b3a.9.2025.02.05.10.10.01 (version=TLS1_2 cipher=ECDHE-ECDSA-AES128-GCM-SHA256 bits=128/128); Wed, 05 Feb 2025 10:10:01 -0800 (PST) X-Relaying-Domain: iol.unh.edu Date: Wed, 05 Feb 2025 10:10:01 -0800 (PST) Message-ID: <67a3a979.050a0220.35237d.447eSMTPIN_ADDED_MISSING@mx.google.com> Received: from [172.17.0.3] (unknown [172.18.0.213]) by postal.iol.unh.edu (Postfix) with ESMTP id 87BDF6052472; Wed, 5 Feb 2025 13:10:00 -0500 (EST) Subject: |SUCCESS| pw148913 [PATCH] [v2] crypto/virtio: remove redundant cryp From: dpdklab@iol.unh.edu To: Test Report Cc: dpdk-test-reports@iol.unh.edu In-Reply-To: <20241127141248.1078678-1-rmudimadugul@marvell.com> References: <20241127141248.1078678-1-rmudimadugul@marvell.com> Content-Type: text/plain X-BeenThere: test-report@dpdk.org X-Mailman-Version: 2.1.29 Precedence: list List-Id: automatic DPDK test reports List-Unsubscribe: , List-Archive: List-Post: List-Help: List-Subscribe: , Errors-To: test-report-bounces@dpdk.org Test-Label: iol-compile-amd64-testing Test-Status: SUCCESS http://dpdk.org/patch/148913 _Testing PASS_ Submitter: Rajesh Mudimadugula Date: Wednesday, November 27 2024 14:12:48 DPDK git baseline: Repo:dpdk Branch: master CommitID:f4ccce58c1a33cb41e1e820da504698437987efc 148913 --> testing pass Test environment and result as below: +---------------------+--------------------+------------------+-------------------+-------------------+-------------------------+----------------------+ | Environment | dpdk_meson_compile | dpdk_compile_ovs | dpdk_compile_spdk | dpdk_msvc_compile | dpdk_llvm_clang_compile | dpdk_mingw64_compile | +=====================+====================+==================+===================+===================+=========================+======================+ | CentOS Stream 9 | PASS | PASS | PASS | SKIPPED | SKIPPED | SKIPPED | +---------------------+--------------------+------------------+-------------------+-------------------+-------------------------+----------------------+ | Debian 12 | PASS | PASS | PASS | SKIPPED | SKIPPED | SKIPPED | +---------------------+--------------------+------------------+-------------------+-------------------+-------------------------+----------------------+ | Fedora 39 | PASS | PASS | PASS | SKIPPED | SKIPPED | SKIPPED | +---------------------+--------------------+------------------+-------------------+-------------------+-------------------------+----------------------+ | Fedora 39 (Clang) | PASS | PASS | PASS | SKIPPED | SKIPPED | SKIPPED | +---------------------+--------------------+------------------+-------------------+-------------------+-------------------------+----------------------+ | Fedora 40 (Clang) | PASS | PASS | PASS | SKIPPED | SKIPPED | SKIPPED | +---------------------+--------------------+------------------+-------------------+-------------------+-------------------------+----------------------+ | Ubuntu 20.04 | PASS | SKIPPED | SKIPPED | SKIPPED | SKIPPED | SKIPPED | +---------------------+--------------------+------------------+-------------------+-------------------+-------------------------+----------------------+ | openSUSE Leap 15 | PASS | PASS | SKIPPED | SKIPPED | SKIPPED | SKIPPED | +---------------------+--------------------+------------------+-------------------+-------------------+-------------------------+----------------------+ | RHEL8 | PASS | PASS | SKIPPED | SKIPPED | SKIPPED | SKIPPED | +---------------------+--------------------+------------------+-------------------+-------------------+-------------------------+----------------------+ | Fedora 40 | PASS | PASS | PASS | SKIPPED | SKIPPED | SKIPPED | +---------------------+--------------------+------------------+-------------------+-------------------+-------------------------+----------------------+ | RHEL9 | PASS | PASS | SKIPPED | SKIPPED | SKIPPED | SKIPPED | +---------------------+--------------------+------------------+-------------------+-------------------+-------------------------+----------------------+ | Ubuntu 24.04 | PASS | PASS | PASS | SKIPPED | SKIPPED | SKIPPED | +---------------------+--------------------+------------------+-------------------+-------------------+-------------------------+----------------------+ | Ubuntu 22.04 | PASS | PASS | PASS | SKIPPED | SKIPPED | SKIPPED | +---------------------+--------------------+------------------+-------------------+-------------------+-------------------------+----------------------+ | Alpine | PASS | PASS | SKIPPED | SKIPPED | SKIPPED | SKIPPED | +---------------------+--------------------+------------------+-------------------+-------------------+-------------------------+----------------------+ | FreeBSD 13.4 | PASS | SKIPPED | SKIPPED | SKIPPED | SKIPPED | SKIPPED | +---------------------+--------------------+------------------+-------------------+-------------------+-------------------------+----------------------+ | FreeBSD 14.2 | PASS | SKIPPED | SKIPPED | SKIPPED | SKIPPED | SKIPPED | +---------------------+--------------------+------------------+-------------------+-------------------+-------------------------+----------------------+ | Windows Server 2022 | SKIPPED | SKIPPED | SKIPPED | PASS | PASS | PASS | +---------------------+--------------------+------------------+-------------------+-------------------+-------------------------+----------------------+ CentOS Stream 9 Kernel: Depends on container host Compiler: gcc 11.5.0 20240719 (Red Hat 11.5.0-2) Debian 12 Kernel: Depends on container host Compiler: gcc (Debian 12.2.0-14) 12.2.0 Fedora 39 Kernel: Depends on container host Compiler: gcc 13.3.1 20240522 (Red Hat 13.3.1-1) Fedora 39 (Clang) Kernel: Depends on container host Compiler: clang 17.0.6 (Fedora 17.0.6-2.fc39) Fedora 40 (Clang) Kernel: Depends on container host Compiler: clang 18.1.8 (Fedora 18.1.8-1.fc40) Ubuntu 20.04 Kernel: Depends on container host Compiler: gcc (Ubuntu 9.4.0-1ubuntu1~20.04.2) 9.4.0 openSUSE Leap 15 Kernel: Depends on container host Compiler: gcc (SUSE Linux) 7.5.0 RHEL8 Kernel: Depends on container host Compiler: gcc 8.5.0 20210514 (Red Hat 8.5.0-22) Fedora 40 Kernel: Depends on container host Compiler: gcc 14.2.1 20240912 (Red Hat 14.2.1-3) RHEL9 Kernel: Depends on container host Compiler: gcc 11.5.0 20240719 (Red Hat 11.5.0-2) Ubuntu 24.04 Kernel: Depends on container host Compiler: gcc (Ubuntu 13.3.0-6ubuntu2~24.04) 13.3.0 Ubuntu 22.04 Kernel: Depends on container host Compiler: gcc (Ubuntu 11.4.0-1ubuntu1~22.04) 11.4.0 Alpine Kernel: Depends on container host Compiler: gcc (Alpine 14.2.0) 14.2.0 FreeBSD 13.4 Kernel: 13.4-RELEASE-p1 Compiler: clang 18.1.6 FreeBSD 14.2 Kernel: 14.2-RELEASE Compiler: clang 18.1.6 Windows Server 2022 Kernel: 10.0.20348.2031 Compiler: clang 15.0.7, gcc 14.1.0 (MinGW), and MSVC VS 19.39.33521 To view detailed results, visit: https://lab.dpdk.org/results/dashboard/patchsets/32039/ UNH-IOL DPDK Community Lab To manage your email subscriptions, visit: https://lab.dpdk.org/results/dashboard/preferences/subscriptions/