From mboxrd@z Thu Jan 1 00:00:00 1970 Return-Path: Received: from mails.dpdk.org (mails.dpdk.org [217.70.189.124]) by inbox.dpdk.org (Postfix) with ESMTP id DED76461A0 for ; Wed, 5 Feb 2025 19:13:16 +0100 (CET) Received: from mails.dpdk.org (localhost [127.0.0.1]) by mails.dpdk.org (Postfix) with ESMTP id BF89F40270; Wed, 5 Feb 2025 19:13:16 +0100 (CET) Received: from mail-pl1-f225.google.com (mail-pl1-f225.google.com [209.85.214.225]) by mails.dpdk.org (Postfix) with ESMTP id C26FC40261 for ; Wed, 5 Feb 2025 19:13:15 +0100 (CET) Received: by mail-pl1-f225.google.com with SMTP id d9443c01a7336-2163dc5155fso2390735ad.0 for ; Wed, 05 Feb 2025 10:13:15 -0800 (PST) DKIM-Signature: v=1; a=rsa-sha256; c=relaxed/relaxed; d=iol.unh.edu; s=unh-iol; t=1738779195; x=1739383995; darn=dpdk.org; h=references:in-reply-to:cc:to:from:subject:message-id:date:from:to :cc:subject:date:message-id:reply-to; bh=HeGnFxDwgH2sOTaor1kN+fGZIvgrIZWNXZO97FWzMzQ=; b=XKijwt3KWMGFlw0/Jjn/OAZYtISAT5TA/YpNvp953Dl89ilznzLZ5BRDHLNrrdBII8 IOMW1fl8Ik6vyp3wAd/lENb3f7HOjBuIihrs+f4jDb7ZQApltIZGJVYSARn1jnYjktMO aJWXJJ22SnrrT/naO5veVBnWivTPVUzP2qH1I= X-Google-DKIM-Signature: v=1; a=rsa-sha256; c=relaxed/relaxed; d=1e100.net; s=20230601; t=1738779195; x=1739383995; h=references:in-reply-to:cc:to:from:subject:message-id:date :x-gm-message-state:from:to:cc:subject:date:message-id:reply-to; bh=HeGnFxDwgH2sOTaor1kN+fGZIvgrIZWNXZO97FWzMzQ=; b=jCFv+meSgNl8JAZeZGqXd2puPw0/dF+fVKlnkH1Agugh2tdH+30uXeV4UMc4jqMgRE gpvf1DmSX9PZ7upK2SgPUwl0jPKGzqNg4CtnLmm+DD5NdIGqWKv/0Oiy5mGAYMjaKdt4 pRFPeFkkkydQVVFqgyqACM9NBN2gjDtpCIC0nawW8AQfkgt0u4V0kkNT38iFbL688Qou EMd8BJc3QqJSHWKSukIriLXx9yCw25PGebvsC4xYk5nfFeIg8UFCRR9F9RMf/D0LCWDu gY/NnkC52yXCsgs1hPTlXis0J2ZG9LPlOyB/In2QY4Nv9SrgniFhbBac3/OT3T8jE8sc M7fg== X-Gm-Message-State: AOJu0YyPpGhWCWxPcWYb5Y8MaUJqCWOGnNEkh3nxYLe1KMmpZxA8C3CZ wlNxXSu6poU+tZRqD5mKg3VFeyCo8MVxyqJTIcStLzEMk2/5TVBslYUyTL6EGvdLxWJS24Xe50Z /K2jfZ45jRTDHoW80YJjs84654djnKebutGn1Ro0F X-Gm-Gg: ASbGncvFkCLSBfAR72FKpucT+V17hU11lCXz37nm6alsYLqurA30MFExP+6pYP5Sjoe Ox9ozvvolGIp6BAzCi+Q0i9KNZPq2al3dCP7BO4bpXoZncciwE/ig4svn+WEICT/VgPxJVTNqkv HD721S8zLOnxJoewQ5ghuv1BtRmK0IAMvXHx9Jgi3DGwc5P7mn0YR+8a5zjGPzUevxK5n2yl7y1 ZIzk0QrJZypRt4QhGZ0ny22ClzIqxIHfpVFCBOr/6FoJEF0mK0cPepcTHPqqFd31dhztrow2jXM AwgejlM7qhJHagHDc4MlMloN7yjTvQ== X-Google-Smtp-Source: AGHT+IFfl8kNYqvewc9hoN9KOn3H2KzJVnFqlmwHGeKb5X8WKyerIz8iTX6MDDJmBBJbxuvebgtUlDof4zKX X-Received: by 2002:a05:6a21:100c:b0:1e0:d1c3:97d1 with SMTP id adf61e73a8af0-1ede88b3b5fmr7138135637.29.1738779194581; Wed, 05 Feb 2025 10:13:14 -0800 (PST) Received: from postal.iol.unh.edu (postal.iol.unh.edu. [132.177.123.84]) by smtp-relay.gmail.com with ESMTPS id d2e1a72fcca58-72fe6424d8dsm1116225b3a.6.2025.02.05.10.13.14 (version=TLS1_2 cipher=ECDHE-ECDSA-AES128-GCM-SHA256 bits=128/128); Wed, 05 Feb 2025 10:13:14 -0800 (PST) X-Relaying-Domain: iol.unh.edu Date: Wed, 05 Feb 2025 10:13:14 -0800 (PST) Message-ID: <67a3aa3a.050a0220.1046b2.4b43SMTPIN_ADDED_MISSING@mx.google.com> Received: from [172.17.0.3] (unknown [172.18.0.213]) by postal.iol.unh.edu (Postfix) with ESMTP id 069A36052471; Wed, 5 Feb 2025 13:13:14 -0500 (EST) Subject: |SUCCESS| pw150902 [PATCH] [v2] eal: force compilation of RTE_ASSERT From: dpdklab@iol.unh.edu To: Test Report Cc: dpdk-test-reports@iol.unh.edu In-Reply-To: <20250204194759.723484-1-stephen@networkplumber.org> References: <20250204194759.723484-1-stephen@networkplumber.org> Content-Type: text/plain X-BeenThere: test-report@dpdk.org X-Mailman-Version: 2.1.29 Precedence: list List-Id: automatic DPDK test reports List-Unsubscribe: , List-Archive: List-Post: List-Help: List-Subscribe: , Errors-To: test-report-bounces@dpdk.org Test-Label: iol-unit-arm64-testing Test-Status: SUCCESS http://dpdk.org/patch/150902 _Testing PASS_ Submitter: Stephen Hemminger Date: Tuesday, February 04 2025 19:46:09 DPDK git baseline: Repo:dpdk Branch: master CommitID:dc4ce7c2538b713e16887eb598da309bc7b4d528 150902 --> testing pass Upstream job id: Aarch32-Unit-Test#5195 Test environment and result as below: +-----------------------------+----------------+---------------------------+--------------+------------------------------+ | Environment | dpdk_unit_test | cryptodev_sw_zuc_autotest | lpm_autotest | cryptodev_sw_snow3g_autotest | +=============================+================+===========================+==============+==============================+ | CentOS Stream 9 (ARM) | PASS | SKIPPED | SKIPPED | SKIPPED | +-----------------------------+----------------+---------------------------+--------------+------------------------------+ | Debian 11 (Buster) (ARM) | PASS | SKIPPED | SKIPPED | SKIPPED | +-----------------------------+----------------+---------------------------+--------------+------------------------------+ | Fedora 40 (ARM Clang) | PASS | SKIPPED | SKIPPED | SKIPPED | +-----------------------------+----------------+---------------------------+--------------+------------------------------+ | Debian 12 (arm) | PASS | PASS | SKIPPED | PASS | +-----------------------------+----------------+---------------------------+--------------+------------------------------+ | Fedora 40 (ARM) | PASS | SKIPPED | SKIPPED | SKIPPED | +-----------------------------+----------------+---------------------------+--------------+------------------------------+ | Fedora 41 (ARM Clang) | PASS | SKIPPED | SKIPPED | SKIPPED | +-----------------------------+----------------+---------------------------+--------------+------------------------------+ | RHEL9 (ARM) | PASS | SKIPPED | SKIPPED | SKIPPED | +-----------------------------+----------------+---------------------------+--------------+------------------------------+ | Fedora 41 (ARM) | PASS | SKIPPED | SKIPPED | SKIPPED | +-----------------------------+----------------+---------------------------+--------------+------------------------------+ | Ubuntu 20.04 (ARM) | PASS | SKIPPED | SKIPPED | SKIPPED | +-----------------------------+----------------+---------------------------+--------------+------------------------------+ | Ubuntu 22.04 (ARM) | PASS | SKIPPED | SKIPPED | SKIPPED | +-----------------------------+----------------+---------------------------+--------------+------------------------------+ | Ubuntu 24.04 (ARM) | PASS | SKIPPED | SKIPPED | SKIPPED | +-----------------------------+----------------+---------------------------+--------------+------------------------------+ | 32-bit Ubuntu 22.04.4 (ARM) | PASS | SKIPPED | SKIPPED | SKIPPED | +-----------------------------+----------------+---------------------------+--------------+------------------------------+ | Ubuntu 20.04 ARM SVE | SKIPPED | SKIPPED | PASS | SKIPPED | +-----------------------------+----------------+---------------------------+--------------+------------------------------+ CentOS Stream 9 (ARM) Kernel: Depends on container host Compiler: gcc 11.5.0 20240719 (Red Hat 11.5.0-2) Debian 11 (Buster) (ARM) Kernel: Depends on container host Compiler: gcc (Debian 10.2.1-6) 10.2.1 20210110 Fedora 40 (ARM Clang) Kernel: Depends on container host Compiler: clang 18.1.8 (Fedora 18.1.8-1.fc40) Debian 12 (arm) Kernel: Depends on container host Compiler: gcc (Debian 12.2.0-14) 12.2.0 Fedora 40 (ARM) Kernel: Depends on container host Compiler: gcc 14.2.1 20240912 (Red Hat 14.2.1-3) Fedora 41 (ARM Clang) Kernel: Depends on container host Compiler: clang 19.1.5 (Fedora 19.1.5-1.fc41) RHEL9 (ARM) Kernel: Depends on container host Compiler: gcc 11.5.0 20240719 (Red Hat 11.5.0-2) Fedora 41 (ARM) Kernel: Depends on container host Compiler: gcc 14.2.1 20240912 (Red Hat 14.2.1-3) Ubuntu 20.04 (ARM) Kernel: Depends on container host Compiler: gcc (Ubuntu 9.4.0-1ubuntu1~20.04.2) 9.4.0 Ubuntu 22.04 (ARM) Kernel: Depends on container host Compiler: gcc (Ubuntu 11.4.0-1ubuntu1~22.04) 11.4.0 Ubuntu 24.04 (ARM) Kernel: Depends on container host Compiler: gcc (Ubuntu 13.3.0-6ubuntu2~24.04) 13.3.0 32-bit Ubuntu 22.04.4 (ARM) Kernel: 5.15.83+ aarch64 Compiler: gcc (Ubuntu 11.4.0-1ubuntu1~22.04) 11.4.0 Ubuntu 20.04 ARM SVE Kernel: Depends on container host Compiler: gcc (Ubuntu 10.5.0-1ubuntu1~20.04) 10.5.0 To view detailed results, visit: https://lab.dpdk.org/results/dashboard/patchsets/32493/ UNH-IOL DPDK Community Lab To manage your email subscriptions, visit: https://lab.dpdk.org/results/dashboard/preferences/subscriptions/