From mboxrd@z Thu Jan 1 00:00:00 1970 Return-Path: Received: from mails.dpdk.org (mails.dpdk.org [217.70.189.124]) by inbox.dpdk.org (Postfix) with ESMTP id DB0E6461A0 for ; Wed, 5 Feb 2025 19:19:33 +0100 (CET) Received: from mails.dpdk.org (localhost [127.0.0.1]) by mails.dpdk.org (Postfix) with ESMTP id D667840270; Wed, 5 Feb 2025 19:19:33 +0100 (CET) Received: from mail-io1-f97.google.com (mail-io1-f97.google.com [209.85.166.97]) by mails.dpdk.org (Postfix) with ESMTP id 33CC140261 for ; Wed, 5 Feb 2025 19:19:32 +0100 (CET) Received: by mail-io1-f97.google.com with SMTP id ca18e2360f4ac-84a012f7232so33051739f.0 for ; Wed, 05 Feb 2025 10:19:32 -0800 (PST) DKIM-Signature: v=1; a=rsa-sha256; c=relaxed/relaxed; d=iol.unh.edu; s=unh-iol; t=1738779571; x=1739384371; darn=dpdk.org; h=cc:to:from:subject:message-id:date:from:to:cc:subject:date :message-id:reply-to; bh=Q/rfbvW13EhSOEtuR5x/MK5m6mMqUQqwjsgWP7LQzcI=; b=YAw1826ZwgmUzQ1HEP7IzjjBL4n30xLG1sDMzGMB7771UcNSB62UowClI4MNaCVbfa PcMqBLSAW/mAIQtPHHDSwYt85Q2mExmLZIVqBOExeJChIEb95GVY05+U501ijJDsQmVs 5j4SkFF7ujOQ09Ky93W0lZolNv8QdpBH9gjgE= X-Google-DKIM-Signature: v=1; a=rsa-sha256; c=relaxed/relaxed; d=1e100.net; s=20230601; t=1738779571; x=1739384371; h=cc:to:from:subject:message-id:date:x-gm-message-state:from:to:cc :subject:date:message-id:reply-to; bh=Q/rfbvW13EhSOEtuR5x/MK5m6mMqUQqwjsgWP7LQzcI=; b=vLGV82lZGh9pDMBDzifkv+sJAtbNiQNsbenKgkXwW5YI3a2aRLXsYZc1jiU0Fabi7Z 7AHFN2Yr+X3qCrsPA2664syXnZTbi3hx+f6Diyz1Pdosbf/JTaqOpGDhyraDgfCOegbq xuQwTtVbRXaEdh1Q0FQmzuBa5XVgDfhht+ZmJAQN4k8bhO7PPA5FaNrBETTeihliyRvH LOcytirptxPrtSSdMipq4rTkeRi5kU3C8qR5Ya7niB6V/Kahb6FnYHGzoqvlS57LhucX 9QMS8TYeM1wVvGw09kbU8NILSPWYvvhutu1NRjy1iHXXupbO6HxcCfEm7MvIhCh4Eg4K HaaQ== X-Gm-Message-State: AOJu0Ywvxm2SJ5fhKraPX8ljMTveZJJo+9I+kYcy1OT0/ONzP6ODYuY2 pJLh2mZQes7KloBoDJy7FFdUtrkanxNlJMqD7f0YjoFfVTfgY2Il0w+ZxW20fj9HC731VwN1Gxl TLlGYD7So42PJKeDuKGjBwPUEtduIVJ68YfEAVRdv8NWAgSzE X-Gm-Gg: ASbGncsCxHr/l/fIEZKoiaI/N26Th6gJ4VNH0YYSeW2gdogHdQxKKnr6pwKyfaL3h56 X+YlGehKdtnQXom0Vt0Wdb5JjzQOhMeoNMHBHdjFHtcGUXnhcnDBN7wbeBW8oYs2K3WDvOe1/Fa 14yuvXb9kdG1oUhN+gkTUQcvMWma1D+Qx2bKBZyympaiioxIGXudHIn6eulQGcj1GDXc2tROFTD C6v9pl1YhU9EPsGwR4N++ysIZXD4/nNmFPEjNJ+2Bddy2SPY5e+pQbFwBP+e+Jp1EjgSeYS2aRq 6/oN9R5rdNC5ETkMwzOZketxuN9tT+d5NQw8r8vUtw== X-Google-Smtp-Source: AGHT+IGgwS17RH9Ga9u/YjPeI2NVA7D8A0H310hFCMGdl86ZNak0xEJN/v7YhUPPIwqExlxGwra5u9rLwxUd X-Received: by 2002:a05:6e02:170e:b0:3cf:c8f0:70f8 with SMTP id e9e14a558f8ab-3d05a585b36mr2567895ab.4.1738779571483; Wed, 05 Feb 2025 10:19:31 -0800 (PST) Received: from postal.iol.unh.edu (postal.iol.unh.edu. [2606:4100:3880:1234::84]) by smtp-relay.gmail.com with ESMTPS id e9e14a558f8ab-3d047cf6767sm2159855ab.66.2025.02.05.10.19.31 (version=TLS1_2 cipher=ECDHE-ECDSA-AES128-GCM-SHA256 bits=128/128); Wed, 05 Feb 2025 10:19:31 -0800 (PST) X-Relaying-Domain: iol.unh.edu Date: Wed, 05 Feb 2025 10:19:31 -0800 (PST) Message-ID: <67a3abb3.050a0220.19a7ce.9fc2SMTPIN_ADDED_MISSING@mx.google.com> Received: from [172.21.0.6] (unknown [172.18.0.240]) by postal.iol.unh.edu (Postfix) with ESMTP id 0307A6052471; Wed, 5 Feb 2025 13:19:31 -0500 (EST) Subject: |SUCCESS| [GIT MASTER] f2eea2f37a82bb73fb01d56350708f7d70e21379 From: dpdklab@iol.unh.edu To: Test Report Cc: dpdk-test-reports@iol.unh.edu, Xueming Li , Christian Ehrhardt , Kevin Traynor , Luca Boccassi Content-Type: text/plain X-BeenThere: test-report@dpdk.org X-Mailman-Version: 2.1.29 Precedence: list List-Id: automatic DPDK test reports List-Unsubscribe: , List-Archive: List-Post: List-Help: List-Subscribe: , Errors-To: test-report-bounces@dpdk.org _Testing PASS_ Branch: tags/v24.11 f2eea2f37a82bb73fb01d56350708f7d70e21379 --> testing pass Upstream job id: Generic-DPDK-Compile-Meson#357910 Test environment and result as below: +------------------------------------+--------------------+ | Environment | dpdk_meson_compile | +====================================+====================+ | RHEL9 (ARM) | PASS | +------------------------------------+--------------------+ | Ubuntu 20.04 ARM GCC Cross Compile | PASS | +------------------------------------+--------------------+ | Ubuntu 20.04 ARM SVE | PASS | +------------------------------------+--------------------+ | Debian 12 with MUSDK | PASS | +------------------------------------+--------------------+ | Fedora 40 (ARM) | PASS | +------------------------------------+--------------------+ | Fedora 40 (ARM Clang) | PASS | +------------------------------------+--------------------+ | Fedora 41 (ARM) | PASS | +------------------------------------+--------------------+ | Fedora 41 (ARM Clang) | PASS | +------------------------------------+--------------------+ | Ubuntu 20.04 (ARM) | PASS | +------------------------------------+--------------------+ | Ubuntu 22.04 (ARM) | PASS | +------------------------------------+--------------------+ | Ubuntu 24.04 (ARM) | PASS | +------------------------------------+--------------------+ | CentOS Stream 9 (ARM) | PASS | +------------------------------------+--------------------+ | Debian 11 (Buster) (ARM) | PASS | +------------------------------------+--------------------+ | Debian 12 (arm) | PASS | +------------------------------------+--------------------+ RHEL9 (ARM) Kernel: Depends on container host Compiler: gcc 11.5.0 20240719 (Red Hat 11.5.0-2) Ubuntu 20.04 ARM GCC Cross Compile Kernel: Depends on container host Compiler: aarch64-linux-gnu-gcc (Ubuntu 9.4.0-1ubuntu1~20.04.2) 9.4.0 Ubuntu 20.04 ARM SVE Kernel: Depends on container host Compiler: gcc (Ubuntu 10.5.0-1ubuntu1~20.04) 10.5.0 Debian 12 with MUSDK Kernel: Depends on container host Compiler: gcc (Debian 12.2.0-14) 12.2.0 Fedora 40 (ARM) Kernel: Depends on container host Compiler: gcc 14.2.1 20240912 (Red Hat 14.2.1-3) Fedora 40 (ARM Clang) Kernel: Depends on container host Compiler: clang 18.1.8 (Fedora 18.1.8-1.fc40) Fedora 41 (ARM) Kernel: Depends on container host Compiler: gcc 14.2.1 20240912 (Red Hat 14.2.1-3) Fedora 41 (ARM Clang) Kernel: Depends on container host Compiler: clang 19.1.5 (Fedora 19.1.5-1.fc41) Ubuntu 20.04 (ARM) Kernel: Depends on container host Compiler: gcc (Ubuntu 9.4.0-1ubuntu1~20.04.2) 9.4.0 Ubuntu 22.04 (ARM) Kernel: Depends on container host Compiler: gcc (Ubuntu 11.4.0-1ubuntu1~22.04) 11.4.0 Ubuntu 24.04 (ARM) Kernel: Depends on container host Compiler: gcc (Ubuntu 13.3.0-6ubuntu2~24.04) 13.3.0 CentOS Stream 9 (ARM) Kernel: Depends on container host Compiler: gcc 11.5.0 20240719 (Red Hat 11.5.0-2) Debian 11 (Buster) (ARM) Kernel: Depends on container host Compiler: gcc (Debian 10.2.1-6) 10.2.1 20210110 Debian 12 (arm) Kernel: Depends on container host Compiler: gcc (Debian 12.2.0-14) 12.2.0 To view detailed results, visit: https://lab.dpdk.org/results/dashboard/tarballs/32446/ UNH-IOL DPDK Community Lab To manage your email subscriptions, visit: https://lab.dpdk.org/results/dashboard/preferences/subscriptions/