From mboxrd@z Thu Jan 1 00:00:00 1970 Return-Path: Received: from mails.dpdk.org (mails.dpdk.org [217.70.189.124]) by inbox.dpdk.org (Postfix) with ESMTP id 1032E461A0 for ; Wed, 5 Feb 2025 19:20:26 +0100 (CET) Received: from mails.dpdk.org (localhost [127.0.0.1]) by mails.dpdk.org (Postfix) with ESMTP id 0A07440270; Wed, 5 Feb 2025 19:20:26 +0100 (CET) Received: from mail-vs1-f100.google.com (mail-vs1-f100.google.com [209.85.217.100]) by mails.dpdk.org (Postfix) with ESMTP id 4721140261 for ; Wed, 5 Feb 2025 19:20:24 +0100 (CET) Received: by mail-vs1-f100.google.com with SMTP id ada2fe7eead31-4afde39e360so15462137.0 for ; Wed, 05 Feb 2025 10:20:24 -0800 (PST) DKIM-Signature: v=1; a=rsa-sha256; c=relaxed/relaxed; d=iol.unh.edu; s=unh-iol; t=1738779623; x=1739384423; darn=dpdk.org; h=cc:to:from:subject:message-id:date:from:to:cc:subject:date :message-id:reply-to; bh=7dQhg1X4sj6WgCQSHq+4lFpbgmIRVsMb6TzcAVCx1R8=; b=fQ2rzKDcZP/2VwkUmwmNh64CWoilpPhQszCZHZu3X+FeIH0dgkXwhzgtA5UZfBlIE6 dQJx4VrdSVuSrzwJ5GqB7MnKm3hLnJZkk1yBdqhKU7IBtzs1DlKX1/TpMqhl2X8MGacp Y20LKLdOXohwY6bA42bCLN5lzghiDRibSv42o= X-Google-DKIM-Signature: v=1; a=rsa-sha256; c=relaxed/relaxed; d=1e100.net; s=20230601; t=1738779623; x=1739384423; h=cc:to:from:subject:message-id:date:x-gm-message-state:from:to:cc :subject:date:message-id:reply-to; bh=7dQhg1X4sj6WgCQSHq+4lFpbgmIRVsMb6TzcAVCx1R8=; b=e2X4nlbBC1sHhELmcc7wBu6LVgkoV6Ek0PkbbeacpY5JyTWFU60ygfZVDN64ELCpEf RuiXcGDeBAv1+Dz3RxCns3JvGfuI9pnATMPdvOtrhwHlbB4CiAOA+vLLjUry5YJFTtgu B0evCHsoWBWmDMkZHMTjLPyPqv0tp1FNOmGtlK0lbmdh7t033oQI1dfGZmoMprVumAjo 7cBJlYl4lJzkeezPKUcbOSK7uett2Mbx11PNyg3z21gUwEivyGq0kcny5+fzHMHAyLsy hqXfPJDvzBlr9wY1xy8enSvQ26DRSqcoLP3GQtvbY6MCT3FiRV3NXnyy7zZD25+2hJ2T X3qw== X-Gm-Message-State: AOJu0YwgC1D3r9vdDThjh6QJhlHp52oUlpY7RuqTjYf/K1zTEwtmy4E0 LyPCXPTPYcDXWDDTBJRGnCvO5DVbewB4b6i4rZ09QWUIvvnrvf0cn9/Gl20ZDswgmbVcNqQGG5d mb7tvZIIFgI2TFWlpAywrIamPHO/1vIcb X-Gm-Gg: ASbGnct2HmzMe+d7cvvInq9NOXyNSMkKTi3NoGYxPcaRAOsyxLZ6w3BEwBx4yhxGsYu Dx7U+RypaWzVa3awa/V6pKshKU5bhCjrlnKdRS7R7w/NrkTD2Z8Y/FI2laPmwmNVWSF7aEMAeah ajX17yVkKtDoWnCVpff3jBYsOlXeTVEquLhjxY3u1H/JsRTrK8Byyky9sEeamIjUCPNXKTLvJi1 dcgOMg839Fvfl6Hk9CiRS0ttxm3BCBZVMLlwi0h6WyUNQh4k9XCKNvbnMCKk7dqGE8UqneUVtuo u/MAa+5NW4wmInbhH7tCeNI7WIo62Q== X-Google-Smtp-Source: AGHT+IFu3C+2mtv3J1ghzjokQWplwlCd3lC72v4bwoQZAATEriVMSlrIq0sJNwT11m6dCTWTlwk4ZNV4omxx X-Received: by 2002:a05:6102:304a:b0:4af:deaf:f891 with SMTP id ada2fe7eead31-4ba47872ac8mr2590293137.4.1738779623641; Wed, 05 Feb 2025 10:20:23 -0800 (PST) Received: from postal.iol.unh.edu (postal.iol.unh.edu. [132.177.123.84]) by smtp-relay.gmail.com with ESMTPS id a1e0cc1a2514c-866f1693f4asm13564241.4.2025.02.05.10.20.23 (version=TLS1_2 cipher=ECDHE-ECDSA-AES128-GCM-SHA256 bits=128/128); Wed, 05 Feb 2025 10:20:23 -0800 (PST) X-Relaying-Domain: iol.unh.edu Date: Wed, 05 Feb 2025 10:20:23 -0800 (PST) Message-ID: <67a3abe7.050a0220.19520.0917SMTPIN_ADDED_MISSING@mx.google.com> Received: from [172.21.0.6] (unknown [172.18.0.240]) by postal.iol.unh.edu (Postfix) with ESMTP id 40E4D6052471; Wed, 5 Feb 2025 13:20:23 -0500 (EST) Subject: |SUCCESS| [GIT MASTER] 7ce7d3341d7e21c2a81f2fea8e451681d7306d77 From: dpdklab@iol.unh.edu To: Test Report Cc: dpdk-test-reports@iol.unh.edu, Xueming Li , Christian Ehrhardt , Kevin Traynor , Luca Boccassi Content-Type: text/plain X-BeenThere: test-report@dpdk.org X-Mailman-Version: 2.1.29 Precedence: list List-Id: automatic DPDK test reports List-Unsubscribe: , List-Archive: List-Post: List-Help: List-Subscribe: , Errors-To: test-report-bounces@dpdk.org _Testing PASS_ Branch: tags/v22.11 7ce7d3341d7e21c2a81f2fea8e451681d7306d77 --> testing pass Upstream job id: Generic-DPDK-Compile-Meson#357879 Test environment and result as below: +------------------------------------+--------------------+ | Environment | dpdk_meson_compile | +====================================+====================+ | RHEL9 (ARM) | PASS | +------------------------------------+--------------------+ | Ubuntu 20.04 ARM GCC Cross Compile | PASS | +------------------------------------+--------------------+ | Debian 12 with MUSDK | PASS | +------------------------------------+--------------------+ | Fedora 40 (ARM) | PASS | +------------------------------------+--------------------+ | Fedora 40 (ARM Clang) | PASS | +------------------------------------+--------------------+ | Fedora 41 (ARM) | PASS | +------------------------------------+--------------------+ | Fedora 41 (ARM Clang) | PASS | +------------------------------------+--------------------+ | Ubuntu 20.04 (ARM) | PASS | +------------------------------------+--------------------+ | Ubuntu 22.04 (ARM) | PASS | +------------------------------------+--------------------+ | Ubuntu 24.04 (ARM) | PASS | +------------------------------------+--------------------+ | CentOS Stream 9 (ARM) | PASS | +------------------------------------+--------------------+ | Debian 11 (Buster) (ARM) | PASS | +------------------------------------+--------------------+ | Debian 12 (arm) | PASS | +------------------------------------+--------------------+ | Ubuntu 20.04 ARM SVE | PASS | +------------------------------------+--------------------+ RHEL9 (ARM) Kernel: Depends on container host Compiler: gcc 11.5.0 20240719 (Red Hat 11.5.0-2) Ubuntu 20.04 ARM GCC Cross Compile Kernel: Depends on container host Compiler: aarch64-linux-gnu-gcc (Ubuntu 9.4.0-1ubuntu1~20.04.2) 9.4.0 Debian 12 with MUSDK Kernel: Depends on container host Compiler: gcc (Debian 12.2.0-14) 12.2.0 Fedora 40 (ARM) Kernel: Depends on container host Compiler: gcc 14.2.1 20240912 (Red Hat 14.2.1-3) Fedora 40 (ARM Clang) Kernel: Depends on container host Compiler: clang 18.1.8 (Fedora 18.1.8-1.fc40) Fedora 41 (ARM) Kernel: Depends on container host Compiler: gcc 14.2.1 20240912 (Red Hat 14.2.1-3) Fedora 41 (ARM Clang) Kernel: Depends on container host Compiler: clang 19.1.5 (Fedora 19.1.5-1.fc41) Ubuntu 20.04 (ARM) Kernel: Depends on container host Compiler: gcc (Ubuntu 9.4.0-1ubuntu1~20.04.2) 9.4.0 Ubuntu 22.04 (ARM) Kernel: Depends on container host Compiler: gcc (Ubuntu 11.4.0-1ubuntu1~22.04) 11.4.0 Ubuntu 24.04 (ARM) Kernel: Depends on container host Compiler: gcc (Ubuntu 13.3.0-6ubuntu2~24.04) 13.3.0 CentOS Stream 9 (ARM) Kernel: Depends on container host Compiler: gcc 11.5.0 20240719 (Red Hat 11.5.0-2) Debian 11 (Buster) (ARM) Kernel: Depends on container host Compiler: gcc (Debian 10.2.1-6) 10.2.1 20210110 Debian 12 (arm) Kernel: Depends on container host Compiler: gcc (Debian 12.2.0-14) 12.2.0 Ubuntu 20.04 ARM SVE Kernel: Depends on container host Compiler: gcc (Ubuntu 10.5.0-1ubuntu1~20.04) 10.5.0 To view detailed results, visit: https://lab.dpdk.org/results/dashboard/tarballs/32445/ UNH-IOL DPDK Community Lab To manage your email subscriptions, visit: https://lab.dpdk.org/results/dashboard/preferences/subscriptions/