From mboxrd@z Thu Jan  1 00:00:00 1970
Return-Path: <test-report-bounces@dpdk.org>
Received: from mails.dpdk.org (mails.dpdk.org [217.70.189.124])
	by inbox.dpdk.org (Postfix) with ESMTP id 9A5B1461A0
	for <public@inbox.dpdk.org>; Wed,  5 Feb 2025 19:24:18 +0100 (CET)
Received: from mails.dpdk.org (localhost [127.0.0.1])
	by mails.dpdk.org (Postfix) with ESMTP id 82D4D40270;
	Wed,  5 Feb 2025 19:24:18 +0100 (CET)
Received: from mail-oa1-f100.google.com (mail-oa1-f100.google.com
 [209.85.160.100])
 by mails.dpdk.org (Postfix) with ESMTP id 7828540261
 for <test-report@dpdk.org>; Wed,  5 Feb 2025 19:24:16 +0100 (CET)
Received: by mail-oa1-f100.google.com with SMTP id
 586e51a60fabf-2b2b6019a74so22082fac.0
 for <test-report@dpdk.org>; Wed, 05 Feb 2025 10:24:16 -0800 (PST)
DKIM-Signature: v=1; a=rsa-sha256; c=relaxed/relaxed;
 d=iol.unh.edu; s=unh-iol; t=1738779855; x=1739384655; darn=dpdk.org;
 h=references:in-reply-to:cc:to:from:subject:message-id:date:from:to
 :cc:subject:date:message-id:reply-to;
 bh=yFE/mqD1j87ezD9M4/4//9fAhQEZWao5EJOt9H2mHkI=;
 b=RkXQaAy3BG3y/Pc1Exb3bcYL1DeSgQehpz/ZKi9kfMUHp9MsaWH3KkMJMRyOAUDjEd
 s5rwLCptxcsVnUrYvG5qbqj9nEIxcGM4wAvI6Wh4Y3SSZGpO1bKTQ+Bj79xI9zNQgx0r
 6aYOyJD1RN0YdGT68acNWqGeQAOLAZT+dl/oY=
X-Google-DKIM-Signature: v=1; a=rsa-sha256; c=relaxed/relaxed;
 d=1e100.net; s=20230601; t=1738779855; x=1739384655;
 h=references:in-reply-to:cc:to:from:subject:message-id:date
 :x-gm-message-state:from:to:cc:subject:date:message-id:reply-to;
 bh=yFE/mqD1j87ezD9M4/4//9fAhQEZWao5EJOt9H2mHkI=;
 b=Xdj3XjlUb+S0UHbT1fkWFSwI2amhYF/4dasmzbWM9+8VfHz7bzL4B6/9le+3PlBLPB
 gJGhwpyJKMkrV1b7eEFa7QsP5ltO7rysIEiCYYhp9kaVIlLWVd/h2QjznQKKaGvVK4xH
 WMz7A91aQeGgC8NJz8qBq/WQNM58u1lrmRJtkE0DqI+HVQ02PPkF3E+GDeu2/psL+3uL
 CfZqzpN80CLOTIPaKkZt8sEhT98mvIByBwemn2RKcjUf1aLLIYTRrf8pYaCC15w2x491
 cVixjKzTsQaP3Ji+FKGrv5/j/TQ+QSsmhPWJ6m9QbrYSPGtjeTet4duiOFiX9PZIJUXL
 huHA==
X-Gm-Message-State: AOJu0YyPgXJ566vEHvv2Pcp5bXWrR8aNJ90WiaJxb42nEos+/Q8+jz3R
 8KwNpJSrOcdDFU93acWdAz68X91mv6YY6bXdYYFi8Rwlqu26N+m88r2aFiRR23PDc1WPNhVOJBh
 3HLPYNJwmqTyhXAP9l4HlDcROTMY4tczoAJGBVx7mlGUBJhbK81dvcVzH
X-Gm-Gg: ASbGncuMT5tXm63h4yCTJg4surikeF1OMK6kzGsg2wXEL90VDHXwmzex2TEoIkXqN2i
 JLLQ8C10UQXTMqDOTgpJ42eD5bolzfqZx2rroRCg8WZDDteNpT51Dq59kgcOcyokFtys2NfG7Ue
 0DFsyM8QxFaaCaYnS/pFCy6xT4JgnlOBv5i4JhSZiiOrKtAFNr3PgvWUqM9O/9oqFERoTQDz6Al
 EFlO2p9nNoYvBXjZxOTrJ7nNxaS5F9nJw6BcYdqvTNF+LS3s36hpBrWuq+PHgi0Qu/iitiI2d+T
 wR49p3B8LjzBK03iPtuwjlFWYvjoGkQzL0FHmVx/oQ==
X-Google-Smtp-Source: AGHT+IGgsT0ZjiyPnxycOOqEETnkiDroMkrj7B2w67z7ZJzEEKHLSSnDKDTmyjKWcmIgz42ewhtQZoTpUbG5
X-Received: by 2002:a05:6870:d250:b0:29e:3e6f:c102 with SMTP id
 586e51a60fabf-2b804f11e32mr2873895fac.6.1738779855702; 
 Wed, 05 Feb 2025 10:24:15 -0800 (PST)
Received: from postal.iol.unh.edu (postal.iol.unh.edu.
 [2606:4100:3880:1234::84]) by smtp-relay.gmail.com with ESMTPS id
 586e51a60fabf-2b35623a02esm921191fac.18.2025.02.05.10.24.15
 (version=TLS1_2 cipher=ECDHE-ECDSA-AES128-GCM-SHA256 bits=128/128);
 Wed, 05 Feb 2025 10:24:15 -0800 (PST)
X-Relaying-Domain: iol.unh.edu
Date: Wed, 05 Feb 2025 10:24:15 -0800 (PST)
Message-ID: <67a3accf.050a0220.3c92a8.b0f1SMTPIN_ADDED_MISSING@mx.google.com>
Received: from [172.21.0.5] (unknown [172.18.0.240])
 by postal.iol.unh.edu (Postfix) with ESMTP id 3380A6052471;
 Wed,  5 Feb 2025 13:24:15 -0500 (EST)
Subject: |SUCCESS| pw150902 [PATCH] [v2] eal: force compilation of RTE_ASSERT
From: dpdklab@iol.unh.edu
To: Test Report <test-report@dpdk.org>
Cc: dpdk-test-reports@iol.unh.edu
In-Reply-To: <20250204194759.723484-1-stephen@networkplumber.org>
References: <20250204194759.723484-1-stephen@networkplumber.org>
Content-Type: text/plain
X-BeenThere: test-report@dpdk.org
X-Mailman-Version: 2.1.29
Precedence: list
List-Id: automatic DPDK test reports <test-report.dpdk.org>
List-Unsubscribe: <https://mails.dpdk.org/options/test-report>,
 <mailto:test-report-request@dpdk.org?subject=unsubscribe>
List-Archive: <http://mails.dpdk.org/archives/test-report/>
List-Post: <mailto:test-report@dpdk.org>
List-Help: <mailto:test-report-request@dpdk.org?subject=help>
List-Subscribe: <https://mails.dpdk.org/listinfo/test-report>,
 <mailto:test-report-request@dpdk.org?subject=subscribe>
Errors-To: test-report-bounces@dpdk.org

Test-Label: iol-compile-arm64-testing
Test-Status: SUCCESS
http://dpdk.org/patch/150902

_Testing PASS_

Submitter: Stephen Hemminger <stephen@networkplumber.org>
Date: Tuesday, February 04 2025 19:46:09 
DPDK git baseline: Repo:dpdk
  Branch: master
  CommitID:dc4ce7c2538b713e16887eb598da309bc7b4d528

150902 --> testing pass

Upstream job id: Generic-DPDK-Compile-Meson#357860

Test environment and result as below:

+----------------------------------------+--------------------+
|              Environment               | dpdk_meson_compile |
+========================================+====================+
| RHEL9 (ARM)                            | PASS               |
+----------------------------------------+--------------------+
| Ubuntu 20.04 ARM GCC Cross Compile     | PASS               |
+----------------------------------------+--------------------+
| Ubuntu 20.04 ARM SVE                   | PASS               |
+----------------------------------------+--------------------+
| Debian 12 with MUSDK                   | PASS               |
+----------------------------------------+--------------------+
| Fedora 40 (ARM)                        | PASS               |
+----------------------------------------+--------------------+
| Fedora 40 (ARM Clang)                  | PASS               |
+----------------------------------------+--------------------+
| Fedora 41 (ARM Clang)                  | PASS               |
+----------------------------------------+--------------------+
| Fedora 41 (ARM)                        | PASS               |
+----------------------------------------+--------------------+
| Ubuntu 20.04 (ARM)                     | PASS               |
+----------------------------------------+--------------------+
| Ubuntu 22.04 (ARM)                     | PASS               |
+----------------------------------------+--------------------+
| Ubuntu 24.04 (ARM)                     | PASS               |
+----------------------------------------+--------------------+
| CentOS Stream 9 (ARM)                  | PASS               |
+----------------------------------------+--------------------+
| Debian 11 (Buster) (ARM)               | PASS               |
+----------------------------------------+--------------------+
| Debian 12 (arm)                        | PASS               |
+----------------------------------------+--------------------+
| Ubuntu 20.04 ARM Clang Cross Compile   | PASS               |
+----------------------------------------+--------------------+
| Ubuntu 20.04 aarch32 GCC Cross Compile | PASS               |
+----------------------------------------+--------------------+


RHEL9 (ARM)
	Kernel: Depends on container host
	Compiler: gcc 11.5.0 20240719 (Red Hat 11.5.0-2)

Ubuntu 20.04 ARM GCC Cross Compile
	Kernel: Depends on container host
	Compiler: aarch64-linux-gnu-gcc (Ubuntu 9.4.0-1ubuntu1~20.04.2) 9.4.0

Ubuntu 20.04 ARM SVE
	Kernel: Depends on container host
	Compiler: gcc (Ubuntu 10.5.0-1ubuntu1~20.04) 10.5.0

Debian 12 with MUSDK
	Kernel: Depends on container host
	Compiler: gcc (Debian 12.2.0-14) 12.2.0

Fedora 40 (ARM)
	Kernel: Depends on container host
	Compiler: gcc 14.2.1 20240912 (Red Hat 14.2.1-3)

Fedora 40 (ARM Clang)
	Kernel: Depends on container host
	Compiler: clang 18.1.8 (Fedora 18.1.8-1.fc40)

Fedora 41 (ARM Clang)
	Kernel: Depends on container host
	Compiler: clang 19.1.5 (Fedora 19.1.5-1.fc41)

Fedora 41 (ARM)
	Kernel: Depends on container host
	Compiler: gcc 14.2.1 20240912 (Red Hat 14.2.1-3)

Ubuntu 20.04 (ARM)
	Kernel: Depends on container host
	Compiler: gcc (Ubuntu 9.4.0-1ubuntu1~20.04.2) 9.4.0

Ubuntu 22.04 (ARM)
	Kernel: Depends on container host
	Compiler: gcc (Ubuntu 11.4.0-1ubuntu1~22.04) 11.4.0

Ubuntu 24.04 (ARM)
	Kernel: Depends on container host
	Compiler: gcc (Ubuntu 13.3.0-6ubuntu2~24.04) 13.3.0

CentOS Stream 9 (ARM)
	Kernel: Depends on container host
	Compiler: gcc 11.5.0 20240719 (Red Hat 11.5.0-2)

Debian 11 (Buster) (ARM)
	Kernel: Depends on container host
	Compiler: gcc (Debian 10.2.1-6) 10.2.1 20210110

Debian 12 (arm)
	Kernel: Depends on container host
	Compiler: gcc (Debian 12.2.0-14) 12.2.0

Ubuntu 20.04 ARM Clang Cross Compile
	Kernel: Depends on container host
	Compiler: clang 10.0.0-4ubuntu1

Ubuntu 20.04 aarch32 GCC Cross Compile
	Kernel: Depends on container host
	Compiler: gcc 9.4.0

To view detailed results, visit:
https://lab.dpdk.org/results/dashboard/patchsets/32493/

UNH-IOL DPDK Community Lab

To manage your email subscriptions, visit: 
https://lab.dpdk.org/results/dashboard/preferences/subscriptions/