From mboxrd@z Thu Jan 1 00:00:00 1970 Return-Path: Received: from mails.dpdk.org (mails.dpdk.org [217.70.189.124]) by inbox.dpdk.org (Postfix) with ESMTP id D8CBB461A0 for ; Wed, 5 Feb 2025 20:07:23 +0100 (CET) Received: from mails.dpdk.org (localhost [127.0.0.1]) by mails.dpdk.org (Postfix) with ESMTP id B85EB402E7; Wed, 5 Feb 2025 20:07:23 +0100 (CET) Received: from mail-pj1-f98.google.com (mail-pj1-f98.google.com [209.85.216.98]) by mails.dpdk.org (Postfix) with ESMTP id 9E139402E1 for ; Wed, 5 Feb 2025 20:07:21 +0100 (CET) Received: by mail-pj1-f98.google.com with SMTP id 98e67ed59e1d1-2ee9a780de4so41262a91.3 for ; Wed, 05 Feb 2025 11:07:21 -0800 (PST) DKIM-Signature: v=1; a=rsa-sha256; c=relaxed/relaxed; d=iol.unh.edu; s=unh-iol; t=1738782440; x=1739387240; darn=dpdk.org; h=references:in-reply-to:cc:to:from:subject:message-id:date:from:to :cc:subject:date:message-id:reply-to; bh=PSjp9OGSV5Sm8PPnD3w8ZmVDJLi1DG7zqsJO6yD3wdY=; b=G1oFA49M/7Y+KuKEeB7IK3fRa6Gehf7WKSIL5a78pqxiT+M7XFhq2Z8r8W6kGntQke Gov6JiLdDHOCv5EZC0tKWPNU9mhg0/j/4WKSOUKAavcpGM9qwqNGJsSlDpAXkaDusmEA bjU0iwtXgoNhkOZQb5fJqKSS8XWqr4xyjcoPs= X-Google-DKIM-Signature: v=1; a=rsa-sha256; c=relaxed/relaxed; d=1e100.net; s=20230601; t=1738782441; x=1739387241; h=references:in-reply-to:cc:to:from:subject:message-id:date :x-gm-message-state:from:to:cc:subject:date:message-id:reply-to; bh=PSjp9OGSV5Sm8PPnD3w8ZmVDJLi1DG7zqsJO6yD3wdY=; b=AhnE7xOHD17W2ykyw6dAGqeCh4szP3qwRjbBlJuS6AWeSs7S/dw37c7HCc2dIrubhi YYNyugPNI8A5+bgAH0SPH26P9OjDDoIf6HaltegL2jUQ3H/Zmj1Zi61KmfDNXFIYKqBg F21WOVtm8Lp0gVK5ikeNP9cCr7Nq98IKG1xWtAuJSQSon3+J0/Mgo507zOsYt68qIYhe ZwydqDmR2JaB8LfzqDt6MOkdIj9pQrcHOGGEchfnpREz59hBzT88/9ik2qtOs5igswe4 uPlWyIW9zAqHNixg9ksvTByaMnMh3Osgqq/UDaNI2aJWjxVnmZhFTAWLi4dlFhhMMCfZ QRog== X-Gm-Message-State: AOJu0YwLJG73jA8OJIYQqS0TJgKOkrladas5Q/GPjQQTpMoK9Vx/WoJc r3uKle2Y12T3TxEKNG8zEB8p7tmiFDh+VGBiEEnVh/yEFL4Pzj13oz6qEAQatQx9GX3AZn3WXBM v/sp/da7Ns6tvNs38f7RV3HwU9Q4oSQT5tGJ+IZtV1t3tiJK5g7+ix5zw X-Gm-Gg: ASbGnctxykVHZbWOsWbLSQdugOFHlPse87qe7SlIjRt8WBCdqCTy4VHqOMlnuvVK7sD hbvGBLHZ14vaLFBJG+v9WCLWlt/VS+8wEvIayDqHNpkHRTRRnTlU7aIlcXgTajR18tcsuGEc/lV 5EUWGDeVf5ofcIMm3Edr9SRDCg/IkUxri0GvWcKsHpetYX220ZxdtbIC32DBsASXmKP020LlWbu FY4MVC//DObKl8OcCRwk4shSxt1LTlEi6oAd41/c515j2bE+CmdXbEMbCtIgDQCB72zbb8nxRS9 D4VZsLQT1dJ+453BBd+U8tZhOoVrIwcoYbUG56FagQ== X-Google-Smtp-Source: AGHT+IHtmJwoEMP06UsrjBVEtB7obwFlCwGCqS0ijCamxGYQzC7V9eY1WmVy8o6KJNzvgaB6dq4dTsRSKLrG X-Received: by 2002:a17:90b:3788:b0:2ee:cb5c:6c with SMTP id 98e67ed59e1d1-2f9e0800495mr5338256a91.22.1738782440636; Wed, 05 Feb 2025 11:07:20 -0800 (PST) Received: from postal.iol.unh.edu (postal.iol.unh.edu. [2606:4100:3880:1234::84]) by smtp-relay.gmail.com with ESMTPS id 98e67ed59e1d1-2f9e1c0cec0sm185809a91.0.2025.02.05.11.07.20 (version=TLS1_2 cipher=ECDHE-ECDSA-AES128-GCM-SHA256 bits=128/128); Wed, 05 Feb 2025 11:07:20 -0800 (PST) X-Relaying-Domain: iol.unh.edu Date: Wed, 05 Feb 2025 11:07:20 -0800 (PST) Message-ID: <67a3b6e8.170a0220.38d5be.86edSMTPIN_ADDED_MISSING@mx.google.com> Received: from [172.21.0.5] (unknown [172.18.0.240]) by postal.iol.unh.edu (Postfix) with ESMTP id BAEAB6052471; Wed, 5 Feb 2025 14:07:19 -0500 (EST) Subject: |SUCCESS| pw150972 [PATCH] build: remove support for icc compiler From: dpdklab@iol.unh.edu To: Test Report Cc: dpdk-test-reports@iol.unh.edu In-Reply-To: <20250205161823.2849595-1-bruce.richardson@intel.com> References: <20250205161823.2849595-1-bruce.richardson@intel.com> Content-Type: text/plain X-BeenThere: test-report@dpdk.org X-Mailman-Version: 2.1.29 Precedence: list List-Id: automatic DPDK test reports List-Unsubscribe: , List-Archive: List-Post: List-Help: List-Subscribe: , Errors-To: test-report-bounces@dpdk.org Test-Label: iol-abi-testing Test-Status: SUCCESS http://dpdk.org/patch/150972 _Testing PASS_ Submitter: Bruce Richardson Date: Wednesday, February 05 2025 16:18:19 DPDK git baseline: Repo:dpdk Branch: master CommitID:32c18e7364e30a8e43cc7cc6709a7ce606fa285e 150972 --> testing pass Upstream job id: Generic-DPDK-Compile-ABI#114877 Test environment and result as below: +-------------------+----------+ | Environment | abi_test | +===================+==========+ | Ubuntu 22.04 | PASS | +-------------------+----------+ | Fedora 40 (Clang) | PASS | +-------------------+----------+ | RHEL9 | PASS | +-------------------+----------+ | CentOS Stream 9 | PASS | +-------------------+----------+ | Fedora 41 | PASS | +-------------------+----------+ | Debian 12 | PASS | +-------------------+----------+ | RHEL8 | PASS | +-------------------+----------+ Ubuntu 22.04 Kernel: Depends on container host Compiler: gcc (Ubuntu 11.4.0-1ubuntu1~22.04) 11.4.0 Fedora 40 (Clang) Kernel: Depends on container host Compiler: clang 18.1.8 (Fedora 18.1.8-1.fc40) RHEL9 Kernel: Depends on container host Compiler: gcc 11.5.0 20240719 (Red Hat 11.5.0-2) CentOS Stream 9 Kernel: Depends on container host Compiler: gcc 11.5.0 20240719 (Red Hat 11.5.0-2) Fedora 41 Kernel: Depends on container host Compiler: gcc 14.2.1 20240912 (Red Hat 14.2.1-3) Debian 12 Kernel: Depends on container host Compiler: gcc (Debian 12.2.0-14) 12.2.0 RHEL8 Kernel: Depends on container host Compiler: gcc 8.5.0 20210514 (Red Hat 8.5.0-22) To view detailed results, visit: https://lab.dpdk.org/results/dashboard/patchsets/32500/ UNH-IOL DPDK Community Lab To manage your email subscriptions, visit: https://lab.dpdk.org/results/dashboard/preferences/subscriptions/