automatic DPDK test reports
 help / color / mirror / Atom feed
From: dpdklab@iol.unh.edu
To: Test Report <test-report@dpdk.org>
Cc: dpdk-test-reports@iol.unh.edu
Subject: |SUCCESS| pw150971 [PATCH] log: avoid call close with negative value
Date: Wed, 05 Feb 2025 11:44:47 -0800 (PST)	[thread overview]
Message-ID: <67a3bfaf.920a0220.2db252.8938SMTPIN_ADDED_MISSING@mx.google.com> (raw)
In-Reply-To: <20250205161518.143865-1-stephen@networkplumber.org>

Test-Label: iol-compile-amd64-testing
Test-Status: SUCCESS
http://dpdk.org/patch/150971

_Testing PASS_

Submitter: Stephen Hemminger <stephen@networkplumber.org>
Date: Wednesday, February 05 2025 16:15:18 
DPDK git baseline: Repo:dpdk
  Branch: master
  CommitID:32c18e7364e30a8e43cc7cc6709a7ce606fa285e

150971 --> testing pass

Upstream job id: Generic-VM-DPDK-Compile-Meson#33058

Test environment and result as below:

+---------------------+-------------------------+--------------------+-------------------+
|     Environment     | dpdk_llvm_clang_compile | dpdk_meson_compile | dpdk_msvc_compile |
+=====================+=========================+====================+===================+
| Windows Server 2022 | PASS                    | SKIPPED            | PASS              |
+---------------------+-------------------------+--------------------+-------------------+
| FreeBSD 13.4        | SKIPPED                 | PASS               | SKIPPED           |
+---------------------+-------------------------+--------------------+-------------------+
| FreeBSD 14.2        | SKIPPED                 | PASS               | SKIPPED           |
+---------------------+-------------------------+--------------------+-------------------+


Windows Server 2022
	Kernel: 10.0.20348.2031
	Compiler: clang 15.0.7, gcc 14.1.0 (MinGW), and MSVC VS 19.39.33521

FreeBSD 13.4
	Kernel: 13.4-RELEASE-p1
	Compiler: clang 18.1.6

FreeBSD 14.2
	Kernel: 14.2-RELEASE
	Compiler: clang 18.1.6

To view detailed results, visit:
https://lab.dpdk.org/results/dashboard/patchsets/32499/

UNH-IOL DPDK Community Lab

To manage your email subscriptions, visit: 
https://lab.dpdk.org/results/dashboard/preferences/subscriptions/

  parent reply	other threads:[~2025-02-05 19:44 UTC|newest]

Thread overview: 15+ messages / expand[flat|nested]  mbox.gz  Atom feed  top
     [not found] <20250205161518.143865-1-stephen@networkplumber.org>
2025-02-05 16:04 ` qemudev
2025-02-05 16:09 ` qemudev
2025-02-05 16:15 ` checkpatch
2025-02-05 17:26 ` 0-day Robot
2025-02-05 19:44 ` dpdklab [this message]
2025-02-05 19:47 ` |PENDING| " dpdklab
2025-02-05 19:50 ` dpdklab
2025-02-05 20:05 ` |SUCCESS| " dpdklab
2025-02-05 20:13 ` |PENDING| " dpdklab
2025-02-05 20:57 ` |SUCCESS| " dpdklab
2025-02-05 20:57 ` dpdklab
2025-02-05 21:02 ` dpdklab
2025-02-05 21:14 ` dpdklab
2025-02-05 22:18 ` |PENDING| " dpdklab
2025-02-05 23:31 ` |SUCCESS| " dpdklab

Reply instructions:

You may reply publicly to this message via plain-text email
using any one of the following methods:

* Save the following mbox file, import it into your mail client,
  and reply-to-all from there: mbox

  Avoid top-posting and favor interleaved quoting:
  https://en.wikipedia.org/wiki/Posting_style#Interleaved_style

* Reply using the --to, --cc, and --in-reply-to
  switches of git-send-email(1):

  git send-email \
    --in-reply-to=67a3bfaf.920a0220.2db252.8938SMTPIN_ADDED_MISSING@mx.google.com \
    --to=dpdklab@iol.unh.edu \
    --cc=dpdk-test-reports@iol.unh.edu \
    --cc=test-report@dpdk.org \
    /path/to/YOUR_REPLY

  https://kernel.org/pub/software/scm/git/docs/git-send-email.html

* If your mail client supports setting the In-Reply-To header
  via mailto: links, try the mailto: link
Be sure your reply has a Subject: header at the top and a blank line before the message body.
This is a public inbox, see mirroring instructions
for how to clone and mirror all data and code used for this inbox;
as well as URLs for NNTP newsgroup(s).