From mboxrd@z Thu Jan 1 00:00:00 1970 Return-Path: Received: from mails.dpdk.org (mails.dpdk.org [217.70.189.124]) by inbox.dpdk.org (Postfix) with ESMTP id B0A38461A0 for ; Wed, 5 Feb 2025 20:44:49 +0100 (CET) Received: from mails.dpdk.org (localhost [127.0.0.1]) by mails.dpdk.org (Postfix) with ESMTP id 97758402E7; Wed, 5 Feb 2025 20:44:49 +0100 (CET) Received: from mail-il1-f227.google.com (mail-il1-f227.google.com [209.85.166.227]) by mails.dpdk.org (Postfix) with ESMTP id AE878402E1 for ; Wed, 5 Feb 2025 20:44:48 +0100 (CET) Received: by mail-il1-f227.google.com with SMTP id e9e14a558f8ab-3d01fe20598so323335ab.3 for ; Wed, 05 Feb 2025 11:44:48 -0800 (PST) DKIM-Signature: v=1; a=rsa-sha256; c=relaxed/relaxed; d=iol.unh.edu; s=unh-iol; t=1738784688; x=1739389488; darn=dpdk.org; h=references:in-reply-to:cc:to:from:subject:message-id:date:from:to :cc:subject:date:message-id:reply-to; bh=qnNTN4fJntCIYLk+XlRDGxhSKADpG07O2+Uf1wrnE2E=; b=EmL8k8u1tuouBG7Ok2XpKO6ddPJtP+5P/jRSD7ecuLFMo+6Chv3krcbP7T1qup3BfS 4PV0wQiSVdwZpg7RjH2OO3IqADJGNCZC4j7S1N43PmaBUY2gfST/fBcunReBf3TiADPG TCvZ3Qp+ZxNz1rkL844foFEyhSqfNcu0SjUdQ= X-Google-DKIM-Signature: v=1; a=rsa-sha256; c=relaxed/relaxed; d=1e100.net; s=20230601; t=1738784688; x=1739389488; h=references:in-reply-to:cc:to:from:subject:message-id:date :x-gm-message-state:from:to:cc:subject:date:message-id:reply-to; bh=qnNTN4fJntCIYLk+XlRDGxhSKADpG07O2+Uf1wrnE2E=; b=F+gVgYQqWYnTjqAEDQp4n6A5uP5jLplmvRE46tqJdpd9MYg1JG9H+rgR2rFdEkBsaJ RO9tYq4fttAfDXj7Ql3Vxrdp2WgK6abHmdLjzOg14S5Wa4D40JwIGwpjCOTu8oyQXHna V8SEwjA2X+pbior/eT6QHbwSnPB7HhrgMizhOwMw+gmyIbUzd+BjrCLJxFhi+kqEm8Hm xV/N0jkXzpzy68FUMJ1DvXvEPMo0usZ4lHcleO+mCiC9y+FU0yjP5xGydMmaF0Lpmy4D ZHEVBawf7U9MK5E9Re5E3tHVYZrlk2XAbS2+wBlvvIp8qKtYOAyaWTkpYL3JEVzTTDX2 oOTQ== X-Gm-Message-State: AOJu0YwAfi0CO30YVJ4iUtgna+B9k4cL4ThWnVf6SvI3biY+NPH18FPO qWgS68J2a2njNlyF/xE41ZpcK746IB5yuAPm4eGOL0IdvgAD4ZmnlQOvytxGE91m/GoASBU35kG fX3HmGZS9petdDSaSc/Yu2M9MJqg6cykrpBtTVjF0 X-Gm-Gg: ASbGncuKcjp62C5u/hAATIpY0R5pxSOwUR5LLC7n1IsC0n/1QnnTri9m7BI9xOPOzTe 10PHWE9yknx4ozZPz1zp0kr9e4qQvQgsiJbRPcMK1ILr7nobng/do1zUs0Jc3YVrLK901hN5pig K421yX49QjhMtgeXmbOC0Tpu3U3E4aT4xmJDeMFfluGA7wouJScRONFEeEKvoj65bp5KVExkx/j plYiDtjnjxCDql93mFSc+kLrQg88NxfZhMVdgfmSNIyvr9AjLMgubNqnIAZQUN00tkGtbgZ7FkM HO71286bWHQXJXqPsisHCH46QZ8tjQ== X-Google-Smtp-Source: AGHT+IEaYKB/WAyIRD0oBILQ8pmJbmYvA9DEUSYzFiVUClnafsT+K0EevhEXjyYkwZs/X5nTTkxuW+raBPax X-Received: by 2002:a05:6e02:17cc:b0:3cf:c7d3:e4b with SMTP id e9e14a558f8ab-3d04f9229e2mr51390595ab.21.1738784687945; Wed, 05 Feb 2025 11:44:47 -0800 (PST) Received: from postal.iol.unh.edu (postal.iol.unh.edu. [132.177.123.84]) by smtp-relay.gmail.com with ESMTPS id e9e14a558f8ab-3d04de41380sm1850745ab.47.2025.02.05.11.44.47 (version=TLS1_2 cipher=ECDHE-ECDSA-AES128-GCM-SHA256 bits=128/128); Wed, 05 Feb 2025 11:44:47 -0800 (PST) X-Relaying-Domain: iol.unh.edu Date: Wed, 05 Feb 2025 11:44:47 -0800 (PST) Message-ID: <67a3bfaf.920a0220.2db252.8938SMTPIN_ADDED_MISSING@mx.google.com> Received: from [172.21.0.5] (unknown [172.18.0.240]) by postal.iol.unh.edu (Postfix) with ESMTP id 86D746052471; Wed, 5 Feb 2025 14:44:47 -0500 (EST) Subject: |SUCCESS| pw150971 [PATCH] log: avoid call close with negative value From: dpdklab@iol.unh.edu To: Test Report Cc: dpdk-test-reports@iol.unh.edu In-Reply-To: <20250205161518.143865-1-stephen@networkplumber.org> References: <20250205161518.143865-1-stephen@networkplumber.org> Content-Type: text/plain X-BeenThere: test-report@dpdk.org X-Mailman-Version: 2.1.29 Precedence: list List-Id: automatic DPDK test reports List-Unsubscribe: , List-Archive: List-Post: List-Help: List-Subscribe: , Errors-To: test-report-bounces@dpdk.org Test-Label: iol-compile-amd64-testing Test-Status: SUCCESS http://dpdk.org/patch/150971 _Testing PASS_ Submitter: Stephen Hemminger Date: Wednesday, February 05 2025 16:15:18 DPDK git baseline: Repo:dpdk Branch: master CommitID:32c18e7364e30a8e43cc7cc6709a7ce606fa285e 150971 --> testing pass Upstream job id: Generic-VM-DPDK-Compile-Meson#33058 Test environment and result as below: +---------------------+-------------------------+--------------------+-------------------+ | Environment | dpdk_llvm_clang_compile | dpdk_meson_compile | dpdk_msvc_compile | +=====================+=========================+====================+===================+ | Windows Server 2022 | PASS | SKIPPED | PASS | +---------------------+-------------------------+--------------------+-------------------+ | FreeBSD 13.4 | SKIPPED | PASS | SKIPPED | +---------------------+-------------------------+--------------------+-------------------+ | FreeBSD 14.2 | SKIPPED | PASS | SKIPPED | +---------------------+-------------------------+--------------------+-------------------+ Windows Server 2022 Kernel: 10.0.20348.2031 Compiler: clang 15.0.7, gcc 14.1.0 (MinGW), and MSVC VS 19.39.33521 FreeBSD 13.4 Kernel: 13.4-RELEASE-p1 Compiler: clang 18.1.6 FreeBSD 14.2 Kernel: 14.2-RELEASE Compiler: clang 18.1.6 To view detailed results, visit: https://lab.dpdk.org/results/dashboard/patchsets/32499/ UNH-IOL DPDK Community Lab To manage your email subscriptions, visit: https://lab.dpdk.org/results/dashboard/preferences/subscriptions/