From mboxrd@z Thu Jan 1 00:00:00 1970 Return-Path: Received: from mails.dpdk.org (mails.dpdk.org [217.70.189.124]) by inbox.dpdk.org (Postfix) with ESMTP id F1664461A0 for ; Wed, 5 Feb 2025 21:05:54 +0100 (CET) Received: from mails.dpdk.org (localhost [127.0.0.1]) by mails.dpdk.org (Postfix) with ESMTP id C84DD402E1; Wed, 5 Feb 2025 21:05:54 +0100 (CET) Received: from mail-pl1-f228.google.com (mail-pl1-f228.google.com [209.85.214.228]) by mails.dpdk.org (Postfix) with ESMTP id 8D6A5402B3 for ; Wed, 5 Feb 2025 21:05:53 +0100 (CET) Received: by mail-pl1-f228.google.com with SMTP id d9443c01a7336-2166651f752so4680555ad.3 for ; Wed, 05 Feb 2025 12:05:53 -0800 (PST) DKIM-Signature: v=1; a=rsa-sha256; c=relaxed/relaxed; d=iol.unh.edu; s=unh-iol; t=1738785952; x=1739390752; darn=dpdk.org; h=references:in-reply-to:cc:to:from:subject:message-id:date:from:to :cc:subject:date:message-id:reply-to; bh=eULKPpX1XUT+7fBFWr80zVINaLbntvy1X5I/IQJacBc=; b=gReDZzEix5aYJ9iCD9FQE7rRxIgLMQSkEi8B0UPSz2MJnFEn+5tVU+Mx0xYPEYL2lc bjfiAC981YunfSH20wURL82/ubW/24P13a2+wao92KSgzbg+TGqARWo/hoaFOU3zZosa T397ZhPhcrqMz7YOx0aK522N2saxqF0xLm/b8= X-Google-DKIM-Signature: v=1; a=rsa-sha256; c=relaxed/relaxed; d=1e100.net; s=20230601; t=1738785952; x=1739390752; h=references:in-reply-to:cc:to:from:subject:message-id:date :x-gm-message-state:from:to:cc:subject:date:message-id:reply-to; bh=eULKPpX1XUT+7fBFWr80zVINaLbntvy1X5I/IQJacBc=; b=aXQpOiooGxqxtBBpSrsA6iJGE1sKFI1XBXYW/tGjpFJAOJpuv8x2HpXSlXpTsHxOG6 0ycNNfTuVtDj+t1xKYIeaVaSlmzD0hnd2BqPRYzbvhRITry4e1DA6Fe7C4FmVHlxnWDT ML8oGz1OKluXmrfBckmQ+Scz4GS4M6hC8zXJdu3AhfRDV+oh+pFZm/YUskHSIphohZYL wt6CRKfDibR5UF6P9vyR1952dQhr+/u3QC4yPnfuOaHF65PVquS654RSqK4sZU4D5qN7 NoS6t9OEFalBchm+Vrmtj6JCPULEbyE2BxoBSXeCAsOn3KWXPbw/vPYam6QwyPVStqDL KSDA== X-Gm-Message-State: AOJu0YygTJL1VtjC926eauUT5E6e0hKBof9Il5kCM7gLPyRutdiEwt2k Dx/nSlqJp+6OzO3ko9GKgRhAMfpvqTSny1GYnTEsON2CjygqXbVEuvvQ54lSmKrw0JAEwzS2Hm8 ueaW3rGTrQEjP5ZZri80K4wORmRdbnTpnzTUTpR8z X-Gm-Gg: ASbGncszPNHYW+WCa75smKevgg3durSjMG7CIMCyw9GkwnccDVxv7PUV/HvR923V5JD Y8ctInyEVID1z56EbaJxVGY0cgCIlMcnr+7MzDe25MCJsBC/TotKrbc5C1v4KWVUKqSRNTkrzHI Ci9znAXIxeU3sl24BSVoS/UoDDtjsC5VTYdqinQtiHrwZgcGgquAEo76JDamc5Kit7a7q/8mUUh wO7YUZkK4VJNZonCNq8o9VBWRfpsQh13vm0ti/vYTN/X8BBBlOY6n7x8CoWz096/XxAeZyPwkQ1 hrRpP95iznbQsS/GqF8W3yMv1Zjhzw== X-Google-Smtp-Source: AGHT+IF88G2OyyCeaTUd+MAMFw3ss7su2g8dE/rzhK87tJdDVkfu0JEOsadT0utBkEA/LUC+IvaWXV4svhWZ X-Received: by 2002:a17:903:40ca:b0:216:4b5a:998b with SMTP id d9443c01a7336-21f17ed4b18mr64397035ad.45.1738785952572; Wed, 05 Feb 2025 12:05:52 -0800 (PST) Received: from postal.iol.unh.edu (postal.iol.unh.edu. [132.177.123.84]) by smtp-relay.gmail.com with ESMTPS id d9443c01a7336-21f0ed35d91sm1837575ad.60.2025.02.05.12.05.52 (version=TLS1_2 cipher=ECDHE-ECDSA-AES128-GCM-SHA256 bits=128/128); Wed, 05 Feb 2025 12:05:52 -0800 (PST) X-Relaying-Domain: iol.unh.edu Date: Wed, 05 Feb 2025 12:05:52 -0800 (PST) Message-ID: <67a3c4a0.170a0220.2048b6.936cSMTPIN_ADDED_MISSING@mx.google.com> Received: from [172.21.0.5] (unknown [172.18.0.240]) by postal.iol.unh.edu (Postfix) with ESMTP id B35156052471; Wed, 5 Feb 2025 15:05:51 -0500 (EST) Subject: |SUCCESS| pw150971 [PATCH] log: avoid call close with negative value From: dpdklab@iol.unh.edu To: Test Report Cc: dpdk-test-reports@iol.unh.edu In-Reply-To: <20250205161518.143865-1-stephen@networkplumber.org> References: <20250205161518.143865-1-stephen@networkplumber.org> Content-Type: text/plain X-BeenThere: test-report@dpdk.org X-Mailman-Version: 2.1.29 Precedence: list List-Id: automatic DPDK test reports List-Unsubscribe: , List-Archive: List-Post: List-Help: List-Subscribe: , Errors-To: test-report-bounces@dpdk.org Test-Label: iol-compile-amd64-testing Test-Status: SUCCESS http://dpdk.org/patch/150971 _Testing PASS_ Submitter: Stephen Hemminger Date: Wednesday, February 05 2025 16:15:18 DPDK git baseline: Repo:dpdk Branch: master CommitID:32c18e7364e30a8e43cc7cc6709a7ce606fa285e 150971 --> testing pass Upstream job id: Windows-Compile-DPDK-Native#26447 Test environment and result as below: +---------------------+-------------------------+--------------------+-------------------+----------------------+ | Environment | dpdk_llvm_clang_compile | dpdk_meson_compile | dpdk_msvc_compile | dpdk_mingw64_compile | +=====================+=========================+====================+===================+======================+ | Windows Server 2022 | PASS | SKIPPED | PASS | PASS | +---------------------+-------------------------+--------------------+-------------------+----------------------+ | FreeBSD 13.4 | SKIPPED | PASS | SKIPPED | SKIPPED | +---------------------+-------------------------+--------------------+-------------------+----------------------+ | FreeBSD 14.2 | SKIPPED | PASS | SKIPPED | SKIPPED | +---------------------+-------------------------+--------------------+-------------------+----------------------+ Windows Server 2022 Kernel: 10.0.20348.2031 Compiler: clang 15.0.7, gcc 14.1.0 (MinGW), and MSVC VS 19.39.33521 FreeBSD 13.4 Kernel: 13.4-RELEASE-p1 Compiler: clang 18.1.6 FreeBSD 14.2 Kernel: 14.2-RELEASE Compiler: clang 18.1.6 To view detailed results, visit: https://lab.dpdk.org/results/dashboard/patchsets/32499/ UNH-IOL DPDK Community Lab To manage your email subscriptions, visit: https://lab.dpdk.org/results/dashboard/preferences/subscriptions/