From mboxrd@z Thu Jan  1 00:00:00 1970
Return-Path: <test-report-bounces@dpdk.org>
Received: from mails.dpdk.org (mails.dpdk.org [217.70.189.124])
	by inbox.dpdk.org (Postfix) with ESMTP id D260A461A0
	for <public@inbox.dpdk.org>; Wed,  5 Feb 2025 21:39:45 +0100 (CET)
Received: from mails.dpdk.org (localhost [127.0.0.1])
	by mails.dpdk.org (Postfix) with ESMTP id BB448402E5;
	Wed,  5 Feb 2025 21:39:45 +0100 (CET)
Received: from mail-il1-f226.google.com (mail-il1-f226.google.com
 [209.85.166.226])
 by mails.dpdk.org (Postfix) with ESMTP id 2B02E40290
 for <test-report@dpdk.org>; Wed,  5 Feb 2025 21:39:45 +0100 (CET)
Received: by mail-il1-f226.google.com with SMTP id
 e9e14a558f8ab-3d04e7f284aso626125ab.0
 for <test-report@dpdk.org>; Wed, 05 Feb 2025 12:39:45 -0800 (PST)
DKIM-Signature: v=1; a=rsa-sha256; c=relaxed/relaxed;
 d=iol.unh.edu; s=unh-iol; t=1738787984; x=1739392784; darn=dpdk.org;
 h=references:in-reply-to:cc:to:from:subject:message-id:date:from:to
 :cc:subject:date:message-id:reply-to;
 bh=rNV1F/A4qK4kvioeb+6rUYBTOcgzy2O4JRr6iKTfP3I=;
 b=QA7cnZGXyDt1LZvpE9i7czQH2KcYTPnkKYK18638OCpeIc95KR1aQzpnazih+DW5Nv
 m/uOY2ROO47LJIDPnFOFekikMyBIATruLanozbrhH4irARVpU2AUXWU2D97YTepgDMS5
 VvesopZv5IFcpthmjQ0LA4mXeLt68eLrehOnQ=
X-Google-DKIM-Signature: v=1; a=rsa-sha256; c=relaxed/relaxed;
 d=1e100.net; s=20230601; t=1738787984; x=1739392784;
 h=references:in-reply-to:cc:to:from:subject:message-id:date
 :x-gm-message-state:from:to:cc:subject:date:message-id:reply-to;
 bh=rNV1F/A4qK4kvioeb+6rUYBTOcgzy2O4JRr6iKTfP3I=;
 b=NXZ/r/HqHT0EsfQWfL61j8OzxE8St4tDAfOmgNfze+bcbQVyGSYKJLfEW0ZOWHRt5T
 kVSF/1+pznbgEPpsNb5USeOGQAr6g5TG2Gh1iChCzoJ/m+YpttyagTTiURqj5oKs2cYH
 XFzr2zRm1ZDW8hEbXOivpO8SQ2qPYjSJYcZhT+z0+tcM8jXKcIEo69rm67L8geBopuyV
 3a6Cs6RmdCrdukUEscc4rRH4r2gLmehmxqbx6krSYLJWs3DjntCj2PHdQRa/EXgB7+AU
 C+6i27dsjir4JzgGFKDJWbsu+OQyllNrEqHW0sAWuSWuhTcFhocJGN+P4E8ps9GuOBLp
 W59w==
X-Gm-Message-State: AOJu0Yyo/e8VjeayT8yGuoJsAnPxoa1yw+sT5MFgpV0fWSvqTjxbwdnh
 wCsOlCA4sZEodIIRWSL6BEYuQPPOT990qpmD4U9N/s1+P0neawyOMNJeiyRH9c7AGmqc7lQUBwX
 Umu0FEh0PGSNcucE8RIBagMlkEf3izIPJuWb1Zl/j
X-Gm-Gg: ASbGncuS9scmzvhjI+37YGyDD5aSR5rAlU9gS7XqUAiE/Ep+yRpxHvN5mU4R1QzxEQp
 I/PFRBPE9D9SBjDveCjr+4ZIwE0ed6keVqzkcbwS8cZHmBkO+i0HNIteqventtXpaQhqs5Sa4e+
 8fqR0eKm93duRBf2awmpz4tfokw+6Ut+bsurH1RdVsdifFgx4XgLqDDGz9Go4Ody67fi4YprV42
 r4yrdGPYW3pJOrtjmU2v2405JAqENhycXOf1lbqjyF4I8ruXUjEjkTguIBeTAwNNPXo/7cyh7qx
 a0znvCM/aAwgwK5e+14j6HY3XbHARw==
X-Google-Smtp-Source: AGHT+IGHjkmZCuMphq8AflrSJ+e+RxJAE40gL8ETu7y9bAjzC/xN6wP/r8S9MQJbh/QssZYwhGAfDQPCocwy
X-Received: by 2002:a05:6e02:1d9e:b0:3cf:bb11:a3a7 with SMTP id
 e9e14a558f8ab-3d04f91c9dfmr33705325ab.17.1738787984423; 
 Wed, 05 Feb 2025 12:39:44 -0800 (PST)
Received: from postal.iol.unh.edu (postal.iol.unh.edu. [132.177.123.84])
 by smtp-relay.gmail.com with ESMTPS id
 8926c6da1cb9f-4ec74591d48sm837607173.5.2025.02.05.12.39.44
 (version=TLS1_2 cipher=ECDHE-ECDSA-AES128-GCM-SHA256 bits=128/128);
 Wed, 05 Feb 2025 12:39:44 -0800 (PST)
X-Relaying-Domain: iol.unh.edu
Date: Wed, 05 Feb 2025 12:39:44 -0800 (PST)
Message-ID: <67a3cc90.050a0220.3076c0.607bSMTPIN_ADDED_MISSING@mx.google.com>
Received: from [172.21.0.5] (unknown [172.18.0.240])
 by postal.iol.unh.edu (Postfix) with ESMTP id E44936052471;
 Wed,  5 Feb 2025 15:39:43 -0500 (EST)
Subject: |SUCCESS| pw150966-150969 [PATCH] [v4,4/4] net/intel: allow building
From: dpdklab@iol.unh.edu
To: Test Report <test-report@dpdk.org>
Cc: dpdk-test-reports@iol.unh.edu
In-Reply-To: <20250205115533.2746196-5-bruce.richardson@intel.com>
References: <20250205115533.2746196-5-bruce.richardson@intel.com>
Content-Type: text/plain
X-BeenThere: test-report@dpdk.org
X-Mailman-Version: 2.1.29
Precedence: list
List-Id: automatic DPDK test reports <test-report.dpdk.org>
List-Unsubscribe: <https://mails.dpdk.org/options/test-report>,
 <mailto:test-report-request@dpdk.org?subject=unsubscribe>
List-Archive: <http://mails.dpdk.org/archives/test-report/>
List-Post: <mailto:test-report@dpdk.org>
List-Help: <mailto:test-report-request@dpdk.org?subject=help>
List-Subscribe: <https://mails.dpdk.org/listinfo/test-report>,
 <mailto:test-report-request@dpdk.org?subject=subscribe>
Errors-To: test-report-bounces@dpdk.org

Test-Label: iol-compile-amd64-testing
Test-Status: SUCCESS
http://dpdk.org/patch/150969

_Testing PASS_

Submitter: Bruce Richardson <bruce.richardson@intel.com>
Date: Wednesday, February 05 2025 11:55:31 
DPDK git baseline: Repo:dpdk
  Branch: master
  CommitID:595535be66b103f7ce3ba61939b8013032987404

150966-150969 --> testing pass

Upstream job id: Generic-DPDK-Compile-Meson#358049

Test environment and result as below:

+---------------------+-------------------+--------------------+-------------------------+----------------------+------------------+-------------------+
|     Environment     | dpdk_msvc_compile | dpdk_meson_compile | dpdk_llvm_clang_compile | dpdk_mingw64_compile | dpdk_compile_ovs | dpdk_compile_spdk |
+=====================+===================+====================+=========================+======================+==================+===================+
| Windows Server 2022 | PASS              | SKIPPED            | PASS                    | PASS                 | SKIPPED          | SKIPPED           |
+---------------------+-------------------+--------------------+-------------------------+----------------------+------------------+-------------------+
| FreeBSD 13.4        | SKIPPED           | PASS               | SKIPPED                 | SKIPPED              | SKIPPED          | SKIPPED           |
+---------------------+-------------------+--------------------+-------------------------+----------------------+------------------+-------------------+
| FreeBSD 14.2        | SKIPPED           | PASS               | SKIPPED                 | SKIPPED              | SKIPPED          | SKIPPED           |
+---------------------+-------------------+--------------------+-------------------------+----------------------+------------------+-------------------+
| CentOS Stream 9     | SKIPPED           | PASS               | SKIPPED                 | SKIPPED              | PASS             | PASS              |
+---------------------+-------------------+--------------------+-------------------------+----------------------+------------------+-------------------+
| Debian Bullseye     | SKIPPED           | PASS               | SKIPPED                 | SKIPPED              | PASS             | PASS              |
+---------------------+-------------------+--------------------+-------------------------+----------------------+------------------+-------------------+
| Debian 12           | SKIPPED           | PASS               | SKIPPED                 | SKIPPED              | PASS             | PASS              |
+---------------------+-------------------+--------------------+-------------------------+----------------------+------------------+-------------------+
| Fedora 40 (Clang)   | SKIPPED           | PASS               | SKIPPED                 | SKIPPED              | PASS             | PASS              |
+---------------------+-------------------+--------------------+-------------------------+----------------------+------------------+-------------------+
| Fedora 40           | SKIPPED           | PASS               | SKIPPED                 | SKIPPED              | PASS             | PASS              |
+---------------------+-------------------+--------------------+-------------------------+----------------------+------------------+-------------------+
| Fedora 41 (Clang)   | SKIPPED           | PASS               | SKIPPED                 | SKIPPED              | PASS             | PASS              |
+---------------------+-------------------+--------------------+-------------------------+----------------------+------------------+-------------------+
| Fedora 41           | SKIPPED           | PASS               | SKIPPED                 | SKIPPED              | PASS             | PASS              |
+---------------------+-------------------+--------------------+-------------------------+----------------------+------------------+-------------------+
| openSUSE Leap 15    | SKIPPED           | PASS               | SKIPPED                 | SKIPPED              | SKIPPED          | SKIPPED           |
+---------------------+-------------------+--------------------+-------------------------+----------------------+------------------+-------------------+
| RHEL8               | SKIPPED           | PASS               | SKIPPED                 | SKIPPED              | PASS             | SKIPPED           |
+---------------------+-------------------+--------------------+-------------------------+----------------------+------------------+-------------------+
| RHEL9               | SKIPPED           | PASS               | SKIPPED                 | SKIPPED              | PASS             | SKIPPED           |
+---------------------+-------------------+--------------------+-------------------------+----------------------+------------------+-------------------+
| Ubuntu 20.04        | SKIPPED           | PASS               | SKIPPED                 | SKIPPED              | SKIPPED          | SKIPPED           |
+---------------------+-------------------+--------------------+-------------------------+----------------------+------------------+-------------------+
| Ubuntu 22.04        | SKIPPED           | PASS               | SKIPPED                 | SKIPPED              | PASS             | PASS              |
+---------------------+-------------------+--------------------+-------------------------+----------------------+------------------+-------------------+
| Ubuntu 24.04        | SKIPPED           | PASS               | SKIPPED                 | SKIPPED              | PASS             | PASS              |
+---------------------+-------------------+--------------------+-------------------------+----------------------+------------------+-------------------+
| Alpine              | SKIPPED           | PASS               | SKIPPED                 | SKIPPED              | PASS             | SKIPPED           |
+---------------------+-------------------+--------------------+-------------------------+----------------------+------------------+-------------------+


Windows Server 2022
	Kernel: 10.0.20348.2031
	Compiler: clang 15.0.7, gcc 14.1.0 (MinGW), and MSVC VS 19.39.33521

FreeBSD 13.4
	Kernel: 13.4-RELEASE-p1
	Compiler: clang 18.1.6

FreeBSD 14.2
	Kernel: 14.2-RELEASE
	Compiler: clang 18.1.6

CentOS Stream 9
	Kernel: Depends on container host
	Compiler: gcc 11.5.0 20240719 (Red Hat 11.5.0-2)

Debian Bullseye
	Kernel: Depends on container host
	Compiler: gcc (Debian 10.2.1-6) 10.2.1 20210110

Debian 12
	Kernel: Depends on container host
	Compiler: gcc (Debian 12.2.0-14) 12.2.0

Fedora 40 (Clang)
	Kernel: Depends on container host
	Compiler: clang 18.1.8 (Fedora 18.1.8-1.fc40)

Fedora 40
	Kernel: Depends on container host
	Compiler: gcc 14.2.1 20240912 (Red Hat 14.2.1-3)

Fedora 41 (Clang)
	Kernel: Depends on container host
	Compiler: clang 19.1.5 (Fedora 19.1.5-1.fc41)

Fedora 41
	Kernel: Depends on container host
	Compiler: gcc 14.2.1 20240912 (Red Hat 14.2.1-3)

openSUSE Leap 15
	Kernel: Depends on container host
	Compiler: gcc (SUSE Linux) 7.5.0

RHEL8
	Kernel: Depends on container host
	Compiler: gcc 8.5.0 20210514 (Red Hat 8.5.0-22)

RHEL9
	Kernel: Depends on container host
	Compiler: gcc 11.5.0 20240719 (Red Hat 11.5.0-2)

Ubuntu 20.04
	Kernel: Depends on container host
	Compiler: gcc (Ubuntu 9.4.0-1ubuntu1~20.04.2) 9.4.0

Ubuntu 22.04
	Kernel: Depends on container host
	Compiler: gcc (Ubuntu 11.4.0-1ubuntu1~22.04) 11.4.0

Ubuntu 24.04
	Kernel: Depends on container host
	Compiler: gcc (Ubuntu 13.3.0-6ubuntu2~24.04) 13.3.0

Alpine
	Kernel: Depends on container host
	Compiler: gcc (Alpine 14.2.0) 14.2.0

To view detailed results, visit:
https://lab.dpdk.org/results/dashboard/patchsets/32497/

UNH-IOL DPDK Community Lab

To manage your email subscriptions, visit: 
https://lab.dpdk.org/results/dashboard/preferences/subscriptions/