From mboxrd@z Thu Jan 1 00:00:00 1970 Return-Path: Received: from mails.dpdk.org (mails.dpdk.org [217.70.189.124]) by inbox.dpdk.org (Postfix) with ESMTP id CC629461A0 for ; Wed, 5 Feb 2025 21:57:24 +0100 (CET) Received: from mails.dpdk.org (localhost [127.0.0.1]) by mails.dpdk.org (Postfix) with ESMTP id C85EF402B3; Wed, 5 Feb 2025 21:57:24 +0100 (CET) Received: from mail-ot1-f100.google.com (mail-ot1-f100.google.com [209.85.210.100]) by mails.dpdk.org (Postfix) with ESMTP id 284CB40290 for ; Wed, 5 Feb 2025 21:57:23 +0100 (CET) Received: by mail-ot1-f100.google.com with SMTP id 46e09a7af769-71e2764aa46so173690a34.2 for ; Wed, 05 Feb 2025 12:57:23 -0800 (PST) DKIM-Signature: v=1; a=rsa-sha256; c=relaxed/relaxed; d=iol.unh.edu; s=unh-iol; t=1738789042; x=1739393842; darn=dpdk.org; h=references:in-reply-to:cc:to:from:subject:message-id:date:from:to :cc:subject:date:message-id:reply-to; bh=hkBuiU+S7Wxeeld102oudBwzBypqpClcwiW2YiDhBhQ=; b=bN757S9awcTrqfNKEA7svP13KO6reR54gUAzQX1ZQDWs+82PuvHMQVu7HNXMWG1ryO S1lXlbGbCnCJFvuLq+zajQC7dw7qxHiRKf3qEmuVHc+EfpQh9cmcrKqIvGK0P7FnfDzy 6vXsmpuGwun//TANCtKk5L2bde/QKY77HpYIk= X-Google-DKIM-Signature: v=1; a=rsa-sha256; c=relaxed/relaxed; d=1e100.net; s=20230601; t=1738789042; x=1739393842; h=references:in-reply-to:cc:to:from:subject:message-id:date :x-gm-message-state:from:to:cc:subject:date:message-id:reply-to; bh=hkBuiU+S7Wxeeld102oudBwzBypqpClcwiW2YiDhBhQ=; b=mnx+G4Nb0+w2JZSowYMSNSxeUHESJcXnE3NUNPBn0rhHVl5uTGmCP7JxgKWv4vbZaq zTNGVG652B44tALGE7LNkf5T2Ja31JxScx1UWw63NkAKglUCervAtIAglK8FH01DbnJh BmVcuA4Zfo6oTxRJ+I4NQNUE0JHYzlU5XjtnBk6Z0V4d0SuuB0sAQoP5NVTNaaHl7VDs P7jlb0K0xPTfmjT8+zC5ruGxaVBO9WqKahtZxvCzXlg+pgIh7wtMYKPcgJEcOYo8/KrI +5L7yO/l9i2OGmVxFPJJjULda/ZJceDmriBtAww3RPXwFEHQ4Y1lcYJjH1LYBQ3i/UAA efQQ== X-Gm-Message-State: AOJu0YxaotOo/NAKrjlVmVdl4/1gjos4vr9SXiH0CP3z2TFVQA7tfjXN pOTCGXQECN3AF/6cx2ddTtR49cGxUMatUUB/yZERLUMMbplQqabdcKkvFXlA8z2yFnJ99JAnWyR sPJ9zeHu6IcEdAxgoHSLCOvcJHdvi904hRCW8kjfo X-Gm-Gg: ASbGncukckju9KVWJIiFW03a4iazl7S+Afd8yadB5UPtlZVhLpVfzJTENkjjX8NsMMl s2Azb8eUk3dqshw4Ia+HM8xygjFYmx3wHeAbBB7xctjihw/CLAovErI5aCs7rBoLAqyHaGK7NzC YzMLF4UxyoSrO8lywQWv7cWidCCoA/Hh5799kSVJSIbMYQIJ4DHayZRV2774Ez+JqXRBJUOSW0v 8rrQfprrMIOytAKpYYUi5Sa1UsxMJM1U3pEja2c5n/GFdD4HcBmHGrLsjHWU1DBravdKijG3cWV jyQGFTbQXM1N8zmm/byaDcC6KvBBCw== X-Google-Smtp-Source: AGHT+IFsQmpgF38eJ81IiICntehOP4UDNWFtTGEIJRG2vrahsJP3Af1bHpxJHWv42RbhmwdWXGA1pU+C5GnK X-Received: by 2002:a05:6830:390b:b0:71d:4c3b:f464 with SMTP id 46e09a7af769-726a41a6856mr3658120a34.13.1738789042408; Wed, 05 Feb 2025 12:57:22 -0800 (PST) Received: from postal.iol.unh.edu (postal.iol.unh.edu. [132.177.123.84]) by smtp-relay.gmail.com with ESMTPS id 586e51a60fabf-2b35592b752sm1018968fac.0.2025.02.05.12.57.22 (version=TLS1_2 cipher=ECDHE-ECDSA-AES128-GCM-SHA256 bits=128/128); Wed, 05 Feb 2025 12:57:22 -0800 (PST) X-Relaying-Domain: iol.unh.edu Date: Wed, 05 Feb 2025 12:57:22 -0800 (PST) Message-ID: <67a3d0b2.050a0220.15253c.0aa9SMTPIN_ADDED_MISSING@mx.google.com> Received: from [172.21.0.6] (unknown [172.18.0.240]) by postal.iol.unh.edu (Postfix) with ESMTP id D9DBA6052471; Wed, 5 Feb 2025 15:57:21 -0500 (EST) Subject: |SUCCESS| pw150971 [PATCH] log: avoid call close with negative value From: dpdklab@iol.unh.edu To: Test Report Cc: dpdk-test-reports@iol.unh.edu In-Reply-To: <20250205161518.143865-1-stephen@networkplumber.org> References: <20250205161518.143865-1-stephen@networkplumber.org> Content-Type: text/plain X-BeenThere: test-report@dpdk.org X-Mailman-Version: 2.1.29 Precedence: list List-Id: automatic DPDK test reports List-Unsubscribe: , List-Archive: List-Post: List-Help: List-Subscribe: , Errors-To: test-report-bounces@dpdk.org Test-Label: iol-abi-testing Test-Status: SUCCESS http://dpdk.org/patch/150971 _Testing PASS_ Submitter: Stephen Hemminger Date: Wednesday, February 05 2025 16:15:18 DPDK git baseline: Repo:dpdk Branch: master CommitID:32c18e7364e30a8e43cc7cc6709a7ce606fa285e 150971 --> testing pass Upstream job id: Generic-DPDK-Compile-ABI#114898 Test environment and result as below: +-------------------+----------+ | Environment | abi_test | +===================+==========+ | Debian Bullseye | PASS | +-------------------+----------+ | CentOS Stream 9 | PASS | +-------------------+----------+ | Debian 12 | PASS | +-------------------+----------+ | Fedora 41 (Clang) | PASS | +-------------------+----------+ | Fedora 40 (Clang) | PASS | +-------------------+----------+ | Fedora 40 | PASS | +-------------------+----------+ | Ubuntu 22.04 | PASS | +-------------------+----------+ | Fedora 41 | PASS | +-------------------+----------+ | RHEL8 | PASS | +-------------------+----------+ | openSUSE Leap 15 | PASS | +-------------------+----------+ | Ubuntu 24.04 | PASS | +-------------------+----------+ | RHEL9 | PASS | +-------------------+----------+ Debian Bullseye Kernel: Depends on container host Compiler: gcc (Debian 10.2.1-6) 10.2.1 20210110 CentOS Stream 9 Kernel: Depends on container host Compiler: gcc 11.5.0 20240719 (Red Hat 11.5.0-2) Debian 12 Kernel: Depends on container host Compiler: gcc (Debian 12.2.0-14) 12.2.0 Fedora 41 (Clang) Kernel: Depends on container host Compiler: clang 19.1.5 (Fedora 19.1.5-1.fc41) Fedora 40 (Clang) Kernel: Depends on container host Compiler: clang 18.1.8 (Fedora 18.1.8-1.fc40) Fedora 40 Kernel: Depends on container host Compiler: gcc 14.2.1 20240912 (Red Hat 14.2.1-3) Ubuntu 22.04 Kernel: Depends on container host Compiler: gcc (Ubuntu 11.4.0-1ubuntu1~22.04) 11.4.0 Fedora 41 Kernel: Depends on container host Compiler: gcc 14.2.1 20240912 (Red Hat 14.2.1-3) RHEL8 Kernel: Depends on container host Compiler: gcc 8.5.0 20210514 (Red Hat 8.5.0-22) openSUSE Leap 15 Kernel: Depends on container host Compiler: gcc (SUSE Linux) 7.5.0 Ubuntu 24.04 Kernel: Depends on container host Compiler: gcc (Ubuntu 13.3.0-6ubuntu2~24.04) 13.3.0 RHEL9 Kernel: Depends on container host Compiler: gcc 11.5.0 20240719 (Red Hat 11.5.0-2) To view detailed results, visit: https://lab.dpdk.org/results/dashboard/patchsets/32499/ UNH-IOL DPDK Community Lab To manage your email subscriptions, visit: https://lab.dpdk.org/results/dashboard/preferences/subscriptions/