From mboxrd@z Thu Jan 1 00:00:00 1970 Return-Path: Received: from mails.dpdk.org (mails.dpdk.org [217.70.189.124]) by inbox.dpdk.org (Postfix) with ESMTP id F41F6461A2 for ; Wed, 5 Feb 2025 22:14:19 +0100 (CET) Received: from mails.dpdk.org (localhost [127.0.0.1]) by mails.dpdk.org (Postfix) with ESMTP id DC426402E7; Wed, 5 Feb 2025 22:14:19 +0100 (CET) Received: from mail-pl1-f227.google.com (mail-pl1-f227.google.com [209.85.214.227]) by mails.dpdk.org (Postfix) with ESMTP id 12A53402B3 for ; Wed, 5 Feb 2025 22:14:18 +0100 (CET) Received: by mail-pl1-f227.google.com with SMTP id d9443c01a7336-2166f1e589cso6161125ad.3 for ; Wed, 05 Feb 2025 13:14:17 -0800 (PST) DKIM-Signature: v=1; a=rsa-sha256; c=relaxed/relaxed; d=iol.unh.edu; s=unh-iol; t=1738790057; x=1739394857; darn=dpdk.org; h=references:in-reply-to:cc:to:from:subject:message-id:date:from:to :cc:subject:date:message-id:reply-to; bh=hrbk9Wmm58O1Fcbd4oS9jTzDxT7cSU9DZ+XRJozZ6yo=; b=HhrHXogFPSDmIuEYu2Xh0Fa/b93DHRLPbW34ZOmt3nH6fLVY1FzwHuMvHt+ImRVAGV FMlD0rQtDHAG3+Vde+dCTwBF8cghc/Fl4RmO2L2G3q08UnXo145i/4dYptIgv2BS7wkY FchlMI3LpX5KVfweHBUSSce49SJvKwOXmRsBI= X-Google-DKIM-Signature: v=1; a=rsa-sha256; c=relaxed/relaxed; d=1e100.net; s=20230601; t=1738790057; x=1739394857; h=references:in-reply-to:cc:to:from:subject:message-id:date :x-gm-message-state:from:to:cc:subject:date:message-id:reply-to; bh=hrbk9Wmm58O1Fcbd4oS9jTzDxT7cSU9DZ+XRJozZ6yo=; b=vslHNiIdJWHP3js+f3RJ82c0sqqt7Kg2G6A3oFwd4rvUICuHrqxKw9IDNICjaMj0QA 1z21BSwki5TSFgLuTPL3vTd7hqf5bCbOocGH3+pngPRda/vUG6ZeCPspP+JEmXfqBSd9 bfw0DgwID0rLESI0RGipWyXWrHl+qs+leW41N8f1AurXsZGyhKL7nFbGVLsHpSpa+o/o eMNHHQwsfiLnf908mty8PNyabGDqxXCs7RNbALsZ04+ziiFVf8OCYzJfLz54uxQcMcVz LvSlYUItsP4PTITIU88vLGpKP0LlweEo5jYYLokzhVAY2yQRv5IaoKBlYxODcpK70kRH PKSg== X-Gm-Message-State: AOJu0YzQUsGhvq4YCoOzmHmOz6GfmPx4HBUjoMgf/rKcDjzhM7IRAU0x hGc9KMNzkYN2VZSVHTDXWtdfrTcaSLcJRIO1V78IITyP/dPTca+o9eiWgq9quamY6g+ApJIX/uf YneIu05F6+9ZX2dD2wSahyuu5vGNejHt11t7wE9I2 X-Gm-Gg: ASbGnctCbdPxcCvhDKl1qDVi/Q783NXyNF5pRh7WshZ6BPN9HnX/GCHLI0AmmJzh/2B tpGgQpqHwpILXOawfPM+TDymMD4iAAtBC1JOufJOFt4NO0/s6ef8mmNbuiAD1LmQqC1C3M9f7z0 ILLFAxuZoOWYOK9Tqa3cbvRepKVlhcYLRK4vunJRyg4PZoS0sRgRAD7BqRqMycCPLKwH8NlHb3Y T4W4pMbQFUJKdJSjMyfqNITtrvaYNBU1Pkxhhlwz37s49Mj6dZP96UYyEKTBTeRJ82Yw6fjj2s6 DRwDrQv7WaL0kEcB0ZCorPu+Br4F7g== X-Google-Smtp-Source: AGHT+IH3xOZJDppcu8o1Xobq8FgWmNSEkhxE77JuyNstFU66zUQRTFowtoDbTcHlcLJ9N8qBmc9Qm4j18xX1 X-Received: by 2002:a17:903:292:b0:216:2e6d:babd with SMTP id d9443c01a7336-21f17e4ce5cmr76760515ad.15.1738790057154; Wed, 05 Feb 2025 13:14:17 -0800 (PST) Received: from postal.iol.unh.edu (postal.iol.unh.edu. [132.177.123.84]) by smtp-relay.gmail.com with ESMTPS id d9443c01a7336-21de3248323sm7091245ad.28.2025.02.05.13.14.17 (version=TLS1_2 cipher=ECDHE-ECDSA-AES128-GCM-SHA256 bits=128/128); Wed, 05 Feb 2025 13:14:17 -0800 (PST) X-Relaying-Domain: iol.unh.edu Date: Wed, 05 Feb 2025 13:14:17 -0800 (PST) Message-ID: <67a3d4a9.170a0220.8108c.0eb1SMTPIN_ADDED_MISSING@mx.google.com> Received: from [172.21.0.8] (unknown [172.18.0.240]) by postal.iol.unh.edu (Postfix) with ESMTP id 38E536052471; Wed, 5 Feb 2025 16:14:16 -0500 (EST) Subject: |SUCCESS| pw150932-150965 [PATCH] [v2,34/34] net/ntnic: remove tag E From: dpdklab@iol.unh.edu To: Test Report Cc: dpdk-test-reports@iol.unh.edu In-Reply-To: <20250205104548.1533554-35-sil-plv@napatech.com> References: <20250205104548.1533554-35-sil-plv@napatech.com> Content-Type: text/plain X-BeenThere: test-report@dpdk.org X-Mailman-Version: 2.1.29 Precedence: list List-Id: automatic DPDK test reports List-Unsubscribe: , List-Archive: List-Post: List-Help: List-Subscribe: , Errors-To: test-report-bounces@dpdk.org Test-Label: iol-compile-amd64-testing Test-Status: SUCCESS http://dpdk.org/patch/150965 _Testing PASS_ Submitter: Serhii Iliushyk Date: Wednesday, February 05 2025 10:45:43 DPDK git baseline: Repo:dpdk Branch: master CommitID:dc4ce7c2538b713e16887eb598da309bc7b4d528 150932-150965 --> testing pass Upstream job id: Generic-DPDK-Compile-Meson#358020 Test environment and result as below: +---------------------+--------------------+-------------------+-------------------------+----------------------+------------------+-------------------+ | Environment | dpdk_meson_compile | dpdk_msvc_compile | dpdk_llvm_clang_compile | dpdk_mingw64_compile | dpdk_compile_ovs | dpdk_compile_spdk | +=====================+====================+===================+=========================+======================+==================+===================+ | FreeBSD 13.4 | PASS | SKIPPED | SKIPPED | SKIPPED | SKIPPED | SKIPPED | +---------------------+--------------------+-------------------+-------------------------+----------------------+------------------+-------------------+ | FreeBSD 14.2 | PASS | SKIPPED | SKIPPED | SKIPPED | SKIPPED | SKIPPED | +---------------------+--------------------+-------------------+-------------------------+----------------------+------------------+-------------------+ | CentOS Stream 9 | PASS | SKIPPED | SKIPPED | SKIPPED | PASS | PASS | +---------------------+--------------------+-------------------+-------------------------+----------------------+------------------+-------------------+ | Debian 12 | PASS | SKIPPED | SKIPPED | SKIPPED | PASS | PASS | +---------------------+--------------------+-------------------+-------------------------+----------------------+------------------+-------------------+ | Debian Bullseye | PASS | SKIPPED | SKIPPED | SKIPPED | PASS | PASS | +---------------------+--------------------+-------------------+-------------------------+----------------------+------------------+-------------------+ | openSUSE Leap 15 | PASS | SKIPPED | SKIPPED | SKIPPED | SKIPPED | SKIPPED | +---------------------+--------------------+-------------------+-------------------------+----------------------+------------------+-------------------+ | RHEL8 | PASS | SKIPPED | SKIPPED | SKIPPED | PASS | SKIPPED | +---------------------+--------------------+-------------------+-------------------------+----------------------+------------------+-------------------+ | RHEL9 | PASS | SKIPPED | SKIPPED | SKIPPED | PASS | SKIPPED | +---------------------+--------------------+-------------------+-------------------------+----------------------+------------------+-------------------+ | Fedora 40 | PASS | SKIPPED | SKIPPED | SKIPPED | PASS | PASS | +---------------------+--------------------+-------------------+-------------------------+----------------------+------------------+-------------------+ | Fedora 41 (Clang) | PASS | SKIPPED | SKIPPED | SKIPPED | PASS | PASS | +---------------------+--------------------+-------------------+-------------------------+----------------------+------------------+-------------------+ | Fedora 40 (Clang) | PASS | SKIPPED | SKIPPED | SKIPPED | PASS | PASS | +---------------------+--------------------+-------------------+-------------------------+----------------------+------------------+-------------------+ | Fedora 41 | PASS | SKIPPED | SKIPPED | SKIPPED | PASS | PASS | +---------------------+--------------------+-------------------+-------------------------+----------------------+------------------+-------------------+ | Ubuntu 20.04 | PASS | SKIPPED | SKIPPED | SKIPPED | SKIPPED | SKIPPED | +---------------------+--------------------+-------------------+-------------------------+----------------------+------------------+-------------------+ | Ubuntu 22.04 | PASS | SKIPPED | SKIPPED | SKIPPED | PASS | PASS | +---------------------+--------------------+-------------------+-------------------------+----------------------+------------------+-------------------+ | Ubuntu 24.04 | PASS | SKIPPED | SKIPPED | SKIPPED | PASS | PASS | +---------------------+--------------------+-------------------+-------------------------+----------------------+------------------+-------------------+ | Alpine | PASS | SKIPPED | SKIPPED | SKIPPED | PASS | SKIPPED | +---------------------+--------------------+-------------------+-------------------------+----------------------+------------------+-------------------+ | Windows Server 2022 | SKIPPED | PASS | PASS | PASS | SKIPPED | SKIPPED | +---------------------+--------------------+-------------------+-------------------------+----------------------+------------------+-------------------+ FreeBSD 13.4 Kernel: 13.4-RELEASE-p1 Compiler: clang 18.1.6 FreeBSD 14.2 Kernel: 14.2-RELEASE Compiler: clang 18.1.6 CentOS Stream 9 Kernel: Depends on container host Compiler: gcc 11.5.0 20240719 (Red Hat 11.5.0-2) Debian 12 Kernel: Depends on container host Compiler: gcc (Debian 12.2.0-14) 12.2.0 Debian Bullseye Kernel: Depends on container host Compiler: gcc (Debian 10.2.1-6) 10.2.1 20210110 openSUSE Leap 15 Kernel: Depends on container host Compiler: gcc (SUSE Linux) 7.5.0 RHEL8 Kernel: Depends on container host Compiler: gcc 8.5.0 20210514 (Red Hat 8.5.0-22) RHEL9 Kernel: Depends on container host Compiler: gcc 11.5.0 20240719 (Red Hat 11.5.0-2) Fedora 40 Kernel: Depends on container host Compiler: gcc 14.2.1 20240912 (Red Hat 14.2.1-3) Fedora 41 (Clang) Kernel: Depends on container host Compiler: clang 19.1.5 (Fedora 19.1.5-1.fc41) Fedora 40 (Clang) Kernel: Depends on container host Compiler: clang 18.1.8 (Fedora 18.1.8-1.fc40) Fedora 41 Kernel: Depends on container host Compiler: gcc 14.2.1 20240912 (Red Hat 14.2.1-3) Ubuntu 20.04 Kernel: Depends on container host Compiler: gcc (Ubuntu 9.4.0-1ubuntu1~20.04.2) 9.4.0 Ubuntu 22.04 Kernel: Depends on container host Compiler: gcc (Ubuntu 11.4.0-1ubuntu1~22.04) 11.4.0 Ubuntu 24.04 Kernel: Depends on container host Compiler: gcc (Ubuntu 13.3.0-6ubuntu2~24.04) 13.3.0 Alpine Kernel: Depends on container host Compiler: gcc (Alpine 14.2.0) 14.2.0 Windows Server 2022 Kernel: 10.0.20348.2031 Compiler: clang 15.0.7, gcc 14.1.0 (MinGW), and MSVC VS 19.39.33521 To view detailed results, visit: https://lab.dpdk.org/results/dashboard/patchsets/32496/ UNH-IOL DPDK Community Lab To manage your email subscriptions, visit: https://lab.dpdk.org/results/dashboard/preferences/subscriptions/