From mboxrd@z Thu Jan 1 00:00:00 1970 Return-Path: Received: from mails.dpdk.org (mails.dpdk.org [217.70.189.124]) by inbox.dpdk.org (Postfix) with ESMTP id 0ACEA461A2 for ; Wed, 5 Feb 2025 22:14:49 +0100 (CET) Received: from mails.dpdk.org (localhost [127.0.0.1]) by mails.dpdk.org (Postfix) with ESMTP id 07685402E7; Wed, 5 Feb 2025 22:14:49 +0100 (CET) Received: from mail-oa1-f97.google.com (mail-oa1-f97.google.com [209.85.160.97]) by mails.dpdk.org (Postfix) with ESMTP id 35D3F402B3 for ; Wed, 5 Feb 2025 22:14:48 +0100 (CET) Received: by mail-oa1-f97.google.com with SMTP id 586e51a60fabf-2b7fd3c667fso85052fac.2 for ; Wed, 05 Feb 2025 13:14:48 -0800 (PST) DKIM-Signature: v=1; a=rsa-sha256; c=relaxed/relaxed; d=iol.unh.edu; s=unh-iol; t=1738790087; x=1739394887; darn=dpdk.org; h=references:in-reply-to:cc:to:from:subject:message-id:date:from:to :cc:subject:date:message-id:reply-to; bh=Az6GunyxwqZraRw7mhdDHyM6FuWlY1RgljlrDMTKJt4=; b=EKqAYyB2OotAfTdzYY247FrlNRKLT4c+k5PlOE9Kqz0sY6vm2zV2nvit9xeNAjoA5q nbEW6GVtoe5QQy4fOAHk49+g0+XF8A8FQ+azN4eqBJGOHh5TSZUOxIYi3Qz9SkaLzdL0 ijOEi7FbfhW+lZnrosnb2NhjIGft9MvIICwlk= X-Google-DKIM-Signature: v=1; a=rsa-sha256; c=relaxed/relaxed; d=1e100.net; s=20230601; t=1738790087; x=1739394887; h=references:in-reply-to:cc:to:from:subject:message-id:date :x-gm-message-state:from:to:cc:subject:date:message-id:reply-to; bh=Az6GunyxwqZraRw7mhdDHyM6FuWlY1RgljlrDMTKJt4=; b=rig4diQUauh8tjkaDA0YxVaEqWdczPCC9JLaHiMbuhT6oj8zvUKAv3BHK+FpOzgjFc m1bS9gs4LMkO6xyStlp5kyvFyoZpaChUvbCkkYNP1XPyCj8sGXEuIgb2yLQ7bAZHn+GO 9Bgh3Ron1R6B0Zz631O0gRiNM+JHNCrYLFi/WdpdcuCLEQfjgO/l0NG8jEL2CTo6wFdr gU8aG8mXd9U0UbYTOAm7MSCsLpkcdWBmh6vq/6cHjZHwZs88ZdcQ5Mf9Ttz5zJOGhRmM aCZviuVut3d73aIax5Q69X/9SlXSWnRE3YjOLpggtADSgI53UCW9qCtSKeMYBpfIB405 WIng== X-Gm-Message-State: AOJu0YzLYphxaOFiq6CBLTxHt/VDhwOQ2TWS+ZrSULn3YhGhmYRgs1WU eGY1h+nDTbyI6KAWRLv+RRVMKs8eKPh9UgjGGqpIbmlIBXhl1roWSdod9nsdQhfbyRv9BuKSnbJ agwW1uhKR8XxMw2Lti1qrtRaWILw+ukRvJQvQsZe4 X-Gm-Gg: ASbGncsSz9UQI/cwfKYcRwx69/ei5SxDpUsDFOXfsqBiMMcIBela0wPUGlHR2iip0NL drymMQeElkEsidmoKc2jbDDFOrtE8fBb+NZ7Hc1LrPwvQc1/aUaPIbhDyglEPe0VppkbIcfiDae C1FHt5iimhtgH6d8W2MrgqkyKuF+VQqxi1Vifrkk2kIuKxgnndnxFbKHSrGIeT/H10h6lwmyB77 Pu43WcwcAYnxa/a+kDRkhoaSc0zGBuks4yVUaed+j4iNRkPxHkhVhq4e6ErX2erD++paH1Tue0p MxsUZL5ZqJroutGXt3ABgLn9rYZj2A== X-Google-Smtp-Source: AGHT+IHZ6AdhrBZ2vkjjJCyL/9l0iYWX46w3v2l1nNjSU1ml36j9Cda+ZPEjiSD2aRwBlDcibrWGqeirv2++ X-Received: by 2002:a05:6870:bace:b0:29e:69a9:8311 with SMTP id 586e51a60fabf-2b80518c539mr3147357fac.36.1738790087392; Wed, 05 Feb 2025 13:14:47 -0800 (PST) Received: from postal.iol.unh.edu (postal.iol.unh.edu. [132.177.123.84]) by smtp-relay.gmail.com with ESMTPS id 586e51a60fabf-2b3565aff64sm1027075fac.27.2025.02.05.13.14.47 (version=TLS1_2 cipher=ECDHE-ECDSA-AES128-GCM-SHA256 bits=128/128); Wed, 05 Feb 2025 13:14:47 -0800 (PST) X-Relaying-Domain: iol.unh.edu Date: Wed, 05 Feb 2025 13:14:47 -0800 (PST) Message-ID: <67a3d4c7.050a0220.1a1cdf.00d4SMTPIN_ADDED_MISSING@mx.google.com> Received: from [172.21.0.5] (unknown [172.18.0.240]) by postal.iol.unh.edu (Postfix) with ESMTP id DAF116052471; Wed, 5 Feb 2025 16:14:46 -0500 (EST) Subject: |SUCCESS| pw150971 [PATCH] log: avoid call close with negative value From: dpdklab@iol.unh.edu To: Test Report Cc: dpdk-test-reports@iol.unh.edu In-Reply-To: <20250205161518.143865-1-stephen@networkplumber.org> References: <20250205161518.143865-1-stephen@networkplumber.org> Content-Type: text/plain X-BeenThere: test-report@dpdk.org X-Mailman-Version: 2.1.29 Precedence: list List-Id: automatic DPDK test reports List-Unsubscribe: , List-Archive: List-Post: List-Help: List-Subscribe: , Errors-To: test-report-bounces@dpdk.org Test-Label: iol-unit-amd64-testing Test-Status: SUCCESS http://dpdk.org/patch/150971 _Testing PASS_ Submitter: Stephen Hemminger Date: Wednesday, February 05 2025 16:15:18 DPDK git baseline: Repo:dpdk Branch: master CommitID:32c18e7364e30a8e43cc7cc6709a7ce606fa285e 150971 --> testing pass Upstream job id: Generic-Unit-Test-DPDK#311866 Test environment and result as below: +---------------------+----------------+ | Environment | dpdk_unit_test | +=====================+================+ | CentOS Stream 9 | PASS | +---------------------+----------------+ | Debian 12 | PASS | +---------------------+----------------+ | Debian Bullseye | PASS | +---------------------+----------------+ | Fedora 40 (Clang) | PASS | +---------------------+----------------+ | RHEL8 | PASS | +---------------------+----------------+ | Fedora 41 | PASS | +---------------------+----------------+ | Fedora 40 | PASS | +---------------------+----------------+ | Ubuntu 20.04 | PASS | +---------------------+----------------+ | Fedora 41 (Clang) | PASS | +---------------------+----------------+ | RHEL9 | PASS | +---------------------+----------------+ | Ubuntu 22.04 | PASS | +---------------------+----------------+ | Ubuntu 24.04 | PASS | +---------------------+----------------+ | Windows Server 2022 | PASS | +---------------------+----------------+ CentOS Stream 9 Kernel: Depends on container host Compiler: gcc 11.5.0 20240719 (Red Hat 11.5.0-2) Debian 12 Kernel: Depends on container host Compiler: gcc (Debian 12.2.0-14) 12.2.0 Debian Bullseye Kernel: Depends on container host Compiler: gcc (Debian 10.2.1-6) 10.2.1 20210110 Fedora 40 (Clang) Kernel: Depends on container host Compiler: clang 18.1.8 (Fedora 18.1.8-1.fc40) RHEL8 Kernel: Depends on container host Compiler: gcc 8.5.0 20210514 (Red Hat 8.5.0-22) Fedora 41 Kernel: Depends on container host Compiler: gcc 14.2.1 20240912 (Red Hat 14.2.1-3) Fedora 40 Kernel: Depends on container host Compiler: gcc 14.2.1 20240912 (Red Hat 14.2.1-3) Ubuntu 20.04 Kernel: Depends on container host Compiler: gcc (Ubuntu 9.4.0-1ubuntu1~20.04.2) 9.4.0 Fedora 41 (Clang) Kernel: Depends on container host Compiler: clang 19.1.5 (Fedora 19.1.5-1.fc41) RHEL9 Kernel: Depends on container host Compiler: gcc 11.5.0 20240719 (Red Hat 11.5.0-2) Ubuntu 22.04 Kernel: Depends on container host Compiler: gcc (Ubuntu 11.4.0-1ubuntu1~22.04) 11.4.0 Ubuntu 24.04 Kernel: Depends on container host Compiler: gcc (Ubuntu 13.3.0-6ubuntu2~24.04) 13.3.0 Windows Server 2022 Kernel: 10.0.20348.2031 Compiler: clang 15.0.7, gcc 14.1.0 (MinGW), and MSVC VS 19.39.33521 To view detailed results, visit: https://lab.dpdk.org/results/dashboard/patchsets/32499/ UNH-IOL DPDK Community Lab To manage your email subscriptions, visit: https://lab.dpdk.org/results/dashboard/preferences/subscriptions/